BEGIN:VCALENDAR
VERSION:2.0
PRODID:-//MidWest Outdoors - ECPv6.15.9//NONSGML v1.0//EN
CALSCALE:GREGORIAN
METHOD:PUBLISH
X-ORIGINAL-URL:https://midwestoutdoors.com
X-WR-CALDESC:Events for MidWest Outdoors
REFRESH-INTERVAL;VALUE=DURATION:PT1H
X-Robots-Tag:noindex
X-PUBLISHED-TTL:PT1H
BEGIN:VTIMEZONE
TZID:America/Chicago
BEGIN:DAYLIGHT
TZOFFSETFROM:-0600
TZOFFSETTO:-0500
TZNAME:CDT
DTSTART:20160313T080000
END:DAYLIGHT
BEGIN:STANDARD
TZOFFSETFROM:-0500
TZOFFSETTO:-0600
TZNAME:CST
DTSTART:20161106T070000
END:STANDARD
BEGIN:DAYLIGHT
TZOFFSETFROM:-0600
TZOFFSETTO:-0500
TZNAME:CDT
DTSTART:20170312T080000
END:DAYLIGHT
BEGIN:STANDARD
TZOFFSETFROM:-0500
TZOFFSETTO:-0600
TZNAME:CST
DTSTART:20171105T070000
END:STANDARD
BEGIN:DAYLIGHT
TZOFFSETFROM:-0600
TZOFFSETTO:-0500
TZNAME:CDT
DTSTART:20180311T080000
END:DAYLIGHT
BEGIN:STANDARD
TZOFFSETFROM:-0500
TZOFFSETTO:-0600
TZNAME:CST
DTSTART:20181104T070000
END:STANDARD
BEGIN:DAYLIGHT
TZOFFSETFROM:-0600
TZOFFSETTO:-0500
TZNAME:CDT
DTSTART:20190310T080000
END:DAYLIGHT
BEGIN:STANDARD
TZOFFSETFROM:-0500
TZOFFSETTO:-0600
TZNAME:CST
DTSTART:20191103T070000
END:STANDARD
BEGIN:DAYLIGHT
TZOFFSETFROM:-0600
TZOFFSETTO:-0500
TZNAME:CDT
DTSTART:20200308T080000
END:DAYLIGHT
BEGIN:STANDARD
TZOFFSETFROM:-0500
TZOFFSETTO:-0600
TZNAME:CST
DTSTART:20201101T070000
END:STANDARD
BEGIN:DAYLIGHT
TZOFFSETFROM:-0600
TZOFFSETTO:-0500
TZNAME:CDT
DTSTART:20210314T080000
END:DAYLIGHT
BEGIN:STANDARD
TZOFFSETFROM:-0500
TZOFFSETTO:-0600
TZNAME:CST
DTSTART:20211107T070000
END:STANDARD
BEGIN:DAYLIGHT
TZOFFSETFROM:-0600
TZOFFSETTO:-0500
TZNAME:CDT
DTSTART:20220313T080000
END:DAYLIGHT
BEGIN:STANDARD
TZOFFSETFROM:-0500
TZOFFSETTO:-0600
TZNAME:CST
DTSTART:20221106T070000
END:STANDARD
BEGIN:DAYLIGHT
TZOFFSETFROM:-0600
TZOFFSETTO:-0500
TZNAME:CDT
DTSTART:20230312T080000
END:DAYLIGHT
BEGIN:STANDARD
TZOFFSETFROM:-0500
TZOFFSETTO:-0600
TZNAME:CST
DTSTART:20231105T070000
END:STANDARD
BEGIN:DAYLIGHT
TZOFFSETFROM:-0600
TZOFFSETTO:-0500
TZNAME:CDT
DTSTART:20240310T080000
END:DAYLIGHT
BEGIN:STANDARD
TZOFFSETFROM:-0500
TZOFFSETTO:-0600
TZNAME:CST
DTSTART:20241103T070000
END:STANDARD
BEGIN:DAYLIGHT
TZOFFSETFROM:-0600
TZOFFSETTO:-0500
TZNAME:CDT
DTSTART:20250309T080000
END:DAYLIGHT
BEGIN:STANDARD
TZOFFSETFROM:-0500
TZOFFSETTO:-0600
TZNAME:CST
DTSTART:20251102T070000
END:STANDARD
BEGIN:DAYLIGHT
TZOFFSETFROM:-0600
TZOFFSETTO:-0500
TZNAME:CDT
DTSTART:20260308T080000
END:DAYLIGHT
BEGIN:STANDARD
TZOFFSETFROM:-0500
TZOFFSETTO:-0600
TZNAME:CST
DTSTART:20261101T070000
END:STANDARD
BEGIN:DAYLIGHT
TZOFFSETFROM:-0600
TZOFFSETTO:-0500
TZNAME:CDT
DTSTART:20270314T080000
END:DAYLIGHT
BEGIN:STANDARD
TZOFFSETFROM:-0500
TZOFFSETTO:-0600
TZNAME:CST
DTSTART:20271107T070000
END:STANDARD
END:VTIMEZONE
BEGIN:VEVENT
DTSTART;TZID=America/Chicago:20170419T190000
DTEND;TZID=America/Chicago:20170419T210000
DTSTAMP:20260424T060819
CREATED:20170322T215856Z
LAST-MODIFIED:20240827T184612Z
UID:29628-1492628400-1492635600@midwestoutdoors.com
SUMMARY:Southside Muskie Hawks
DESCRIPTION:The Southside Muskie Hawks meets the third Wednesday of the month at 7 p.m. at The Village Sportsman’s Club\, 5201 W. 115th St.\, Alsip\, IL 60803\n\n\n7. Guests welcome. $8 door charge for members\, $10 for non-members.\n\n\nFor more information call Lynn Polyak at 708-334-1733 or Jack Frost at 815-483-6081\, southsidemuskiehawks.org.
URL:https://midwestoutdoors.com/event/southside-muskie-hawks-chapter-of-muskies-inc/2017-04-19/
LOCATION:The Village Sportsman’s Club\, 5201 W. 115th St.\, Alsip\, IL\, 60803\, United States
CATEGORIES:Clubs & Organizations,Fishing
END:VEVENT
BEGIN:VEVENT
DTSTART;TZID=America/Chicago:20251217T190000
DTEND;TZID=America/Chicago:20251217T210000
DTSTAMP:20260424T060819
CREATED:20170322T215856Z
LAST-MODIFIED:20170322T215856Z
UID:219762-1765998000-1766005200@midwestoutdoors.com
SUMMARY:Southside Muskie Hawks
DESCRIPTION:The Southside Muskie Hawks meets the third Wednesday of the month at 7 p.m. at The Village Sportsman’s Club\, 5201 W. 115th St.\, Alsip\, IL 60803\n\n\n7. Guests welcome. $8 door charge for members\, $10 for non-members.\n\n\nFor more information call Lynn Polyak at 708-334-1733 or Jack Frost at 815-483-6081\, southsidemuskiehawks.org.
URL:https://midwestoutdoors.com/event/southside-muskie-hawks-chapter-of-muskies-inc/2025-12-17/
LOCATION:The Village Sportsman’s Club\, 5201 W. 115th St.\, Alsip\, IL\, 60803\, United States
CATEGORIES:Clubs & Organizations,Fishing
END:VEVENT
BEGIN:VEVENT
DTSTART;TZID=America/Chicago:20251119T190000
DTEND;TZID=America/Chicago:20251119T210000
DTSTAMP:20260424T060819
CREATED:20170322T215856Z
LAST-MODIFIED:20170322T215856Z
UID:218634-1763578800-1763586000@midwestoutdoors.com
SUMMARY:Southside Muskie Hawks
DESCRIPTION:The Southside Muskie Hawks meets the third Wednesday of the month at 7 p.m. at The Village Sportsman’s Club\, 5201 W. 115th St.\, Alsip\, IL 60803\n\n\n7. Guests welcome. $8 door charge for members\, $10 for non-members.\n\n\nFor more information call Lynn Polyak at 708-334-1733 or Jack Frost at 815-483-6081\, southsidemuskiehawks.org.
URL:https://midwestoutdoors.com/event/southside-muskie-hawks-chapter-of-muskies-inc/2025-11-19/
LOCATION:The Village Sportsman’s Club\, 5201 W. 115th St.\, Alsip\, IL\, 60803\, United States
CATEGORIES:Clubs & Organizations,Fishing
END:VEVENT
BEGIN:VEVENT
DTSTART;TZID=America/Chicago:20260121T190000
DTEND;TZID=America/Chicago:20260121T210000
DTSTAMP:20260424T060819
CREATED:20170322T215856Z
LAST-MODIFIED:20170322T215856Z
UID:221357-1769022000-1769029200@midwestoutdoors.com
SUMMARY:Southside Muskie Hawks
DESCRIPTION:The Southside Muskie Hawks meets the third Wednesday of the month at 7 p.m. at The Village Sportsman’s Club\, 5201 W. 115th St.\, Alsip\, IL 60803\n\n\n7. Guests welcome. $8 door charge for members\, $10 for non-members.\n\n\nFor more information call Lynn Polyak at 708-334-1733 or Jack Frost at 815-483-6081\, southsidemuskiehawks.org.
URL:https://midwestoutdoors.com/event/southside-muskie-hawks-chapter-of-muskies-inc/2026-01-21/
LOCATION:The Village Sportsman’s Club\, 5201 W. 115th St.\, Alsip\, IL\, 60803\, United States
CATEGORIES:Clubs & Organizations,Fishing
END:VEVENT
BEGIN:VEVENT
DTSTART;TZID=America/Chicago:20260218T190000
DTEND;TZID=America/Chicago:20260218T210000
DTSTAMP:20260424T060819
CREATED:20170322T215856Z
LAST-MODIFIED:20170322T215856Z
UID:221970-1771441200-1771448400@midwestoutdoors.com
SUMMARY:Southside Muskie Hawks
DESCRIPTION:The Southside Muskie Hawks meets the third Wednesday of the month at 7 p.m. at The Village Sportsman’s Club\, 5201 W. 115th St.\, Alsip\, IL 60803\n\n\n7. Guests welcome. $8 door charge for members\, $10 for non-members.\n\n\nFor more information call Lynn Polyak at 708-334-1733 or Jack Frost at 815-483-6081\, southsidemuskiehawks.org.
URL:https://midwestoutdoors.com/event/southside-muskie-hawks-chapter-of-muskies-inc/2026-02-18/
LOCATION:The Village Sportsman’s Club\, 5201 W. 115th St.\, Alsip\, IL\, 60803\, United States
CATEGORIES:Clubs & Organizations,Fishing
END:VEVENT
BEGIN:VEVENT
DTSTART;TZID=America/Chicago:20260318T190000
DTEND;TZID=America/Chicago:20260318T210000
DTSTAMP:20260424T060819
CREATED:20170322T215856Z
LAST-MODIFIED:20170322T215856Z
UID:223639-1773860400-1773867600@midwestoutdoors.com
SUMMARY:Southside Muskie Hawks
DESCRIPTION:The Southside Muskie Hawks meets the third Wednesday of the month at 7 p.m. at The Village Sportsman’s Club\, 5201 W. 115th St.\, Alsip\, IL 60803\n\n\n7. Guests welcome. $8 door charge for members\, $10 for non-members.\n\n\nFor more information call Lynn Polyak at 708-334-1733 or Jack Frost at 815-483-6081\, southsidemuskiehawks.org.
URL:https://midwestoutdoors.com/event/southside-muskie-hawks-chapter-of-muskies-inc/2026-03-18/
LOCATION:The Village Sportsman’s Club\, 5201 W. 115th St.\, Alsip\, IL\, 60803\, United States
CATEGORIES:Clubs & Organizations,Fishing
END:VEVENT
BEGIN:VEVENT
DTSTART;TZID=America/Chicago:20260415T190000
DTEND;TZID=America/Chicago:20260415T210000
DTSTAMP:20260424T060819
CREATED:20170322T215856Z
LAST-MODIFIED:20170322T215856Z
UID:224979-1776279600-1776286800@midwestoutdoors.com
SUMMARY:Southside Muskie Hawks
DESCRIPTION:The Southside Muskie Hawks meets the third Wednesday of the month at 7 p.m. at The Village Sportsman’s Club\, 5201 W. 115th St.\, Alsip\, IL 60803\n\n\n7. Guests welcome. $8 door charge for members\, $10 for non-members.\n\n\nFor more information call Lynn Polyak at 708-334-1733 or Jack Frost at 815-483-6081\, southsidemuskiehawks.org.
URL:https://midwestoutdoors.com/event/southside-muskie-hawks-chapter-of-muskies-inc/2026-04-15/
LOCATION:The Village Sportsman’s Club\, 5201 W. 115th St.\, Alsip\, IL\, 60803\, United States
CATEGORIES:Clubs & Organizations,Fishing
END:VEVENT
END:VCALENDAR