BEGIN:VCALENDAR
VERSION:2.0
PRODID:-//MidWest Outdoors - ECPv6.15.9//NONSGML v1.0//EN
CALSCALE:GREGORIAN
METHOD:PUBLISH
X-ORIGINAL-URL:https://midwestoutdoors.com
X-WR-CALDESC:Events for MidWest Outdoors
REFRESH-INTERVAL;VALUE=DURATION:PT1H
X-Robots-Tag:noindex
X-PUBLISHED-TTL:PT1H
BEGIN:VTIMEZONE
TZID:America/Chicago
BEGIN:DAYLIGHT
TZOFFSETFROM:-0600
TZOFFSETTO:-0500
TZNAME:CDT
DTSTART:20250309T080000
END:DAYLIGHT
BEGIN:STANDARD
TZOFFSETFROM:-0500
TZOFFSETTO:-0600
TZNAME:CST
DTSTART:20251102T070000
END:STANDARD
BEGIN:DAYLIGHT
TZOFFSETFROM:-0600
TZOFFSETTO:-0500
TZNAME:CDT
DTSTART:20260308T080000
END:DAYLIGHT
BEGIN:STANDARD
TZOFFSETFROM:-0500
TZOFFSETTO:-0600
TZNAME:CST
DTSTART:20261101T070000
END:STANDARD
BEGIN:DAYLIGHT
TZOFFSETFROM:-0600
TZOFFSETTO:-0500
TZNAME:CDT
DTSTART:20270314T080000
END:DAYLIGHT
BEGIN:STANDARD
TZOFFSETFROM:-0500
TZOFFSETTO:-0600
TZNAME:CST
DTSTART:20271107T070000
END:STANDARD
END:VTIMEZONE
BEGIN:VEVENT
DTSTART;TZID=America/Chicago:20260122T120000
DTEND;TZID=America/Chicago:20260122T200000
DTSTAMP:20260421T095014
CREATED:20240819T195531Z
LAST-MODIFIED:20250919T191438Z
UID:205308-1769083200-1769112000@midwestoutdoors.com
SUMMARY:Chicagoland Fishing\, Travel & Outdoor Expo
DESCRIPTION:January 22-25\n\n\nChicagoland Fishing\, Travel & Outdoor Expo at the Schaumburg Convention Center\, 1551 N\, Thoreau Dr. N\, Schaumburg\, IL 60173\n\n\nShow Hours\nThursday 12pm – 8pm\nFriday 12pm – 8pm\nSaturday 10am – 7pm\nSunday 9am – 3pm\n\n\nFor info: Sportshows\, LLC\, tod@sportshows.com\, chicagoland.sportshows.com.
URL:https://midwestoutdoors.com/event/chicagoland-fishing-travel-outdoor-expo-2/2026-01-22/
LOCATION:Schaumburg Convention Center\, 1551 Thoreau Drive\, Schaumburg\, IL\, 60173\, United States
CATEGORIES:Sports & Boat Shows
ORGANIZER;CN="Sportshows LLC":MAILTO:tod@sportshows.com
GEO:42.0607359;-88.0403548
X-APPLE-STRUCTURED-LOCATION;VALUE=URI;X-ADDRESS=Schaumburg Convention Center 1551 Thoreau Drive Schaumburg IL 60173 United States;X-APPLE-RADIUS=500;X-TITLE=1551 Thoreau Drive:geo:-88.0403548,42.0607359
END:VEVENT
BEGIN:VEVENT
DTSTART;TZID=America/Chicago:20260123T120000
DTEND;TZID=America/Chicago:20260123T200000
DTSTAMP:20260421T095014
CREATED:20240819T195531Z
LAST-MODIFIED:20240819T195531Z
UID:223594-1769169600-1769198400@midwestoutdoors.com
SUMMARY:Chicagoland Fishing\, Travel & Outdoor Expo
DESCRIPTION:January 22-25\n\n\nChicagoland Fishing\, Travel & Outdoor Expo at the Schaumburg Convention Center\, 1551 N\, Thoreau Dr. N\, Schaumburg\, IL 60173\n\n\nShow Hours\nThursday 12pm – 8pm\nFriday 12pm – 8pm\nSaturday 10am – 7pm\nSunday 9am – 3pm\n\n\nFor info: Sportshows\, LLC\, tod@sportshows.com\, chicagoland.sportshows.com.
URL:https://midwestoutdoors.com/event/chicagoland-fishing-travel-outdoor-expo-2/2026-01-23/
LOCATION:Schaumburg Convention Center\, 1551 Thoreau Drive\, Schaumburg\, IL\, 60173\, United States
CATEGORIES:Sports & Boat Shows
ORGANIZER;CN="Sportshows LLC":MAILTO:tod@sportshows.com
GEO:42.0607359;-88.0403548
X-APPLE-STRUCTURED-LOCATION;VALUE=URI;X-ADDRESS=Schaumburg Convention Center 1551 Thoreau Drive Schaumburg IL 60173 United States;X-APPLE-RADIUS=500;X-TITLE=1551 Thoreau Drive:geo:-88.0403548,42.0607359
END:VEVENT
BEGIN:VEVENT
DTSTART;TZID=America/Chicago:20260124T100000
DTEND;TZID=America/Chicago:20260124T200000
DTSTAMP:20260421T095014
CREATED:20240819T195531Z
LAST-MODIFIED:20240819T195531Z
UID:223598-1769248800-1769284800@midwestoutdoors.com
SUMMARY:Chicagoland Fishing\, Travel & Outdoor Expo
DESCRIPTION:January 22-25\n\n\nChicagoland Fishing\, Travel & Outdoor Expo at the Schaumburg Convention Center\, 1551 N\, Thoreau Dr. N\, Schaumburg\, IL 60173\n\n\nShow Hours\nThursday 12pm – 8pm\nFriday 12pm – 8pm\nSaturday 10am – 7pm\nSunday 9am – 3pm\n\n\nFor info: Sportshows\, LLC\, tod@sportshows.com\, chicagoland.sportshows.com.
URL:https://midwestoutdoors.com/event/chicagoland-fishing-travel-outdoor-expo-2/2026-01-24/
LOCATION:Schaumburg Convention Center\, 1551 Thoreau Drive\, Schaumburg\, IL\, 60173\, United States
CATEGORIES:Sports & Boat Shows
ORGANIZER;CN="Sportshows LLC":MAILTO:tod@sportshows.com
GEO:42.0607359;-88.0403548
X-APPLE-STRUCTURED-LOCATION;VALUE=URI;X-ADDRESS=Schaumburg Convention Center 1551 Thoreau Drive Schaumburg IL 60173 United States;X-APPLE-RADIUS=500;X-TITLE=1551 Thoreau Drive:geo:-88.0403548,42.0607359
END:VEVENT
BEGIN:VEVENT
DTSTART;TZID=America/Chicago:20260125T090000
DTEND;TZID=America/Chicago:20260125T150000
DTSTAMP:20260421T095014
CREATED:20240819T195531Z
LAST-MODIFIED:20240819T195531Z
UID:223602-1769331600-1769353200@midwestoutdoors.com
SUMMARY:Chicagoland Fishing\, Travel & Outdoor Expo
DESCRIPTION:January 22-25\n\n\nChicagoland Fishing\, Travel & Outdoor Expo at the Schaumburg Convention Center\, 1551 N\, Thoreau Dr. N\, Schaumburg\, IL 60173\n\n\nShow Hours\nThursday 12pm – 8pm\nFriday 12pm – 8pm\nSaturday 10am – 7pm\nSunday 9am – 3pm\n\n\nFor info: Sportshows\, LLC\, tod@sportshows.com\, chicagoland.sportshows.com.
URL:https://midwestoutdoors.com/event/chicagoland-fishing-travel-outdoor-expo-2/2026-01-25/
LOCATION:Schaumburg Convention Center\, 1551 Thoreau Drive\, Schaumburg\, IL\, 60173\, United States
CATEGORIES:Sports & Boat Shows
ORGANIZER;CN="Sportshows LLC":MAILTO:tod@sportshows.com
GEO:42.0607359;-88.0403548
X-APPLE-STRUCTURED-LOCATION;VALUE=URI;X-ADDRESS=Schaumburg Convention Center 1551 Thoreau Drive Schaumburg IL 60173 United States;X-APPLE-RADIUS=500;X-TITLE=1551 Thoreau Drive:geo:-88.0403548,42.0607359
END:VEVENT
END:VCALENDAR