BEGIN:VCALENDAR
VERSION:2.0
PRODID:-//MidWest Outdoors - ECPv6.15.9//NONSGML v1.0//EN
CALSCALE:GREGORIAN
METHOD:PUBLISH
X-ORIGINAL-URL:https://midwestoutdoors.com
X-WR-CALDESC:Events for MidWest Outdoors
REFRESH-INTERVAL;VALUE=DURATION:PT1H
X-Robots-Tag:noindex
X-PUBLISHED-TTL:PT1H
BEGIN:VTIMEZONE
TZID:America/Chicago
BEGIN:DAYLIGHT
TZOFFSETFROM:-0600
TZOFFSETTO:-0500
TZNAME:CDT
DTSTART:20160313T080000
END:DAYLIGHT
BEGIN:STANDARD
TZOFFSETFROM:-0500
TZOFFSETTO:-0600
TZNAME:CST
DTSTART:20161106T070000
END:STANDARD
BEGIN:DAYLIGHT
TZOFFSETFROM:-0600
TZOFFSETTO:-0500
TZNAME:CDT
DTSTART:20170312T080000
END:DAYLIGHT
BEGIN:STANDARD
TZOFFSETFROM:-0500
TZOFFSETTO:-0600
TZNAME:CST
DTSTART:20171105T070000
END:STANDARD
BEGIN:DAYLIGHT
TZOFFSETFROM:-0600
TZOFFSETTO:-0500
TZNAME:CDT
DTSTART:20180311T080000
END:DAYLIGHT
BEGIN:STANDARD
TZOFFSETFROM:-0500
TZOFFSETTO:-0600
TZNAME:CST
DTSTART:20181104T070000
END:STANDARD
BEGIN:DAYLIGHT
TZOFFSETFROM:-0600
TZOFFSETTO:-0500
TZNAME:CDT
DTSTART:20190310T080000
END:DAYLIGHT
BEGIN:STANDARD
TZOFFSETFROM:-0500
TZOFFSETTO:-0600
TZNAME:CST
DTSTART:20191103T070000
END:STANDARD
BEGIN:DAYLIGHT
TZOFFSETFROM:-0600
TZOFFSETTO:-0500
TZNAME:CDT
DTSTART:20200308T080000
END:DAYLIGHT
BEGIN:STANDARD
TZOFFSETFROM:-0500
TZOFFSETTO:-0600
TZNAME:CST
DTSTART:20201101T070000
END:STANDARD
BEGIN:DAYLIGHT
TZOFFSETFROM:-0600
TZOFFSETTO:-0500
TZNAME:CDT
DTSTART:20210314T080000
END:DAYLIGHT
BEGIN:STANDARD
TZOFFSETFROM:-0500
TZOFFSETTO:-0600
TZNAME:CST
DTSTART:20211107T070000
END:STANDARD
BEGIN:DAYLIGHT
TZOFFSETFROM:-0600
TZOFFSETTO:-0500
TZNAME:CDT
DTSTART:20220313T080000
END:DAYLIGHT
BEGIN:STANDARD
TZOFFSETFROM:-0500
TZOFFSETTO:-0600
TZNAME:CST
DTSTART:20221106T070000
END:STANDARD
BEGIN:DAYLIGHT
TZOFFSETFROM:-0600
TZOFFSETTO:-0500
TZNAME:CDT
DTSTART:20230312T080000
END:DAYLIGHT
BEGIN:STANDARD
TZOFFSETFROM:-0500
TZOFFSETTO:-0600
TZNAME:CST
DTSTART:20231105T070000
END:STANDARD
BEGIN:DAYLIGHT
TZOFFSETFROM:-0600
TZOFFSETTO:-0500
TZNAME:CDT
DTSTART:20240310T080000
END:DAYLIGHT
BEGIN:STANDARD
TZOFFSETFROM:-0500
TZOFFSETTO:-0600
TZNAME:CST
DTSTART:20241103T070000
END:STANDARD
BEGIN:DAYLIGHT
TZOFFSETFROM:-0600
TZOFFSETTO:-0500
TZNAME:CDT
DTSTART:20250309T080000
END:DAYLIGHT
BEGIN:STANDARD
TZOFFSETFROM:-0500
TZOFFSETTO:-0600
TZNAME:CST
DTSTART:20251102T070000
END:STANDARD
BEGIN:DAYLIGHT
TZOFFSETFROM:-0600
TZOFFSETTO:-0500
TZNAME:CDT
DTSTART:20260308T080000
END:DAYLIGHT
BEGIN:STANDARD
TZOFFSETFROM:-0500
TZOFFSETTO:-0600
TZNAME:CST
DTSTART:20261101T070000
END:STANDARD
BEGIN:DAYLIGHT
TZOFFSETFROM:-0600
TZOFFSETTO:-0500
TZNAME:CDT
DTSTART:20270314T080000
END:DAYLIGHT
BEGIN:STANDARD
TZOFFSETFROM:-0500
TZOFFSETTO:-0600
TZNAME:CST
DTSTART:20271107T070000
END:STANDARD
END:VTIMEZONE
BEGIN:VEVENT
DTSTART;TZID=America/Chicago:20170404T190000
DTEND;TZID=America/Chicago:20170404T213000
DTSTAMP:20260424T101732
CREATED:20170324T204504Z
LAST-MODIFIED:20200109T154543Z
UID:29927-1491332400-1491341400@midwestoutdoors.com
SUMMARY:Okauchee Fishing Club
DESCRIPTION:The Okauchee Fishing Club is a multi-species fishing club that fishes all over Wisconsin.  Established in 1967\, we are a club that helps fishermen and women become better with a focus on teaching by experienced anglers.  \n\n\nWe meet on the first and third Tuesday of every month at the New Berlin Ale House 16000 West Cleveland Ave. New Berlin\, WI 53151.  Come and here great guides and experts teach their skills\, favorite lakes and streams.  Get current fishing reports from club members. \n\n\nOur formal meeting from 7:00 – 9:30 is the first Tuesday and features great speakers\, and a raffle.  \n\n\nThe cost for non-members is $5.00.  \n\n \n\n\nThe third Tuesday our shorter  “informational meeting” features round table discussion with members and mini seminars by members\, 20-30 minutes. \n\n\nBoth meetings include “Fish Talk”\, where members share their recent fishing experiences.  \n\n\nWe plan 12-14 outings a year and ongoing contests as well as an annual club tournament.  We have an annual picnic and awards banquet as well.  \n\n \n\n\nContact Jim Kophamel\, club president at jkophamel@wi.rr.com or (414) 350-1011 for membership information or go to www.ofcfish.com.
URL:https://midwestoutdoors.com/event/okauchee-fishing-club/2017-04-04/
LOCATION:New Berlin Ale House\, 16000 West Cleveland Ave.\, New Berlin\, WI\, 53151\, United States
CATEGORIES:Clubs & Organizations,Fishing
ORGANIZER;CN="Okauchee Fishing Club":MAILTO:jkophamel@wi.rr.com
GEO:42.9962153;-88.113674
X-APPLE-STRUCTURED-LOCATION;VALUE=URI;X-ADDRESS=New Berlin Ale House 16000 West Cleveland Ave. New Berlin WI 53151 United States;X-APPLE-RADIUS=500;X-TITLE=16000 West Cleveland Ave.:geo:-88.113674,42.9962153
END:VEVENT
BEGIN:VEVENT
DTSTART;TZID=America/Chicago:20251118T190000
DTEND;TZID=America/Chicago:20251118T213000
DTSTAMP:20260424T101732
CREATED:20170324T204504Z
LAST-MODIFIED:20170324T204504Z
UID:219065-1763492400-1763501400@midwestoutdoors.com
SUMMARY:Okauchee Fishing Club
DESCRIPTION:The Okauchee Fishing Club is a multi-species fishing club that fishes all over Wisconsin.  Established in 1967\, we are a club that helps fishermen and women become better with a focus on teaching by experienced anglers.  \n\n\nWe meet on the first and third Tuesday of every month at the New Berlin Ale House 16000 West Cleveland Ave. New Berlin\, WI 53151.  Come and here great guides and experts teach their skills\, favorite lakes and streams.  Get current fishing reports from club members. \n\n\nOur formal meeting from 7:00 – 9:30 is the first Tuesday and features great speakers\, and a raffle.  \n\n\nThe cost for non-members is $5.00.  \n\n \n\n\nThe third Tuesday our shorter  “informational meeting” features round table discussion with members and mini seminars by members\, 20-30 minutes. \n\n\nBoth meetings include “Fish Talk”\, where members share their recent fishing experiences.  \n\n\nWe plan 12-14 outings a year and ongoing contests as well as an annual club tournament.  We have an annual picnic and awards banquet as well.  \n\n \n\n\nContact Jim Kophamel\, club president at jkophamel@wi.rr.com or (414) 350-1011 for membership information or go to www.ofcfish.com.
URL:https://midwestoutdoors.com/event/okauchee-fishing-club/2025-11-18/
LOCATION:New Berlin Ale House\, 16000 West Cleveland Ave.\, New Berlin\, WI\, 53151\, United States
CATEGORIES:Clubs & Organizations,Fishing
ORGANIZER;CN="Okauchee Fishing Club":MAILTO:jkophamel@wi.rr.com
GEO:42.9962153;-88.113674
X-APPLE-STRUCTURED-LOCATION;VALUE=URI;X-ADDRESS=New Berlin Ale House 16000 West Cleveland Ave. New Berlin WI 53151 United States;X-APPLE-RADIUS=500;X-TITLE=16000 West Cleveland Ave.:geo:-88.113674,42.9962153
END:VEVENT
BEGIN:VEVENT
DTSTART;TZID=America/Chicago:20251202T190000
DTEND;TZID=America/Chicago:20251202T213000
DTSTAMP:20260424T101732
CREATED:20170324T204504Z
LAST-MODIFIED:20170324T204504Z
UID:219061-1764702000-1764711000@midwestoutdoors.com
SUMMARY:Okauchee Fishing Club
DESCRIPTION:The Okauchee Fishing Club is a multi-species fishing club that fishes all over Wisconsin.  Established in 1967\, we are a club that helps fishermen and women become better with a focus on teaching by experienced anglers.  \n\n\nWe meet on the first and third Tuesday of every month at the New Berlin Ale House 16000 West Cleveland Ave. New Berlin\, WI 53151.  Come and here great guides and experts teach their skills\, favorite lakes and streams.  Get current fishing reports from club members. \n\n\nOur formal meeting from 7:00 – 9:30 is the first Tuesday and features great speakers\, and a raffle.  \n\n\nThe cost for non-members is $5.00.  \n\n \n\n\nThe third Tuesday our shorter  “informational meeting” features round table discussion with members and mini seminars by members\, 20-30 minutes. \n\n\nBoth meetings include “Fish Talk”\, where members share their recent fishing experiences.  \n\n\nWe plan 12-14 outings a year and ongoing contests as well as an annual club tournament.  We have an annual picnic and awards banquet as well.  \n\n \n\n\nContact Jim Kophamel\, club president at jkophamel@wi.rr.com or (414) 350-1011 for membership information or go to www.ofcfish.com.
URL:https://midwestoutdoors.com/event/okauchee-fishing-club/2025-12-02/
LOCATION:New Berlin Ale House\, 16000 West Cleveland Ave.\, New Berlin\, WI\, 53151\, United States
CATEGORIES:Clubs & Organizations,Fishing
ORGANIZER;CN="Okauchee Fishing Club":MAILTO:jkophamel@wi.rr.com
GEO:42.9962153;-88.113674
X-APPLE-STRUCTURED-LOCATION;VALUE=URI;X-ADDRESS=New Berlin Ale House 16000 West Cleveland Ave. New Berlin WI 53151 United States;X-APPLE-RADIUS=500;X-TITLE=16000 West Cleveland Ave.:geo:-88.113674,42.9962153
END:VEVENT
BEGIN:VEVENT
DTSTART;TZID=America/Chicago:20251216T190000
DTEND;TZID=America/Chicago:20251216T213000
DTSTAMP:20260424T101732
CREATED:20170324T204504Z
LAST-MODIFIED:20170324T204504Z
UID:220340-1765911600-1765920600@midwestoutdoors.com
SUMMARY:Okauchee Fishing Club
DESCRIPTION:The Okauchee Fishing Club is a multi-species fishing club that fishes all over Wisconsin.  Established in 1967\, we are a club that helps fishermen and women become better with a focus on teaching by experienced anglers.  \n\n\nWe meet on the first and third Tuesday of every month at the New Berlin Ale House 16000 West Cleveland Ave. New Berlin\, WI 53151.  Come and here great guides and experts teach their skills\, favorite lakes and streams.  Get current fishing reports from club members. \n\n\nOur formal meeting from 7:00 – 9:30 is the first Tuesday and features great speakers\, and a raffle.  \n\n\nThe cost for non-members is $5.00.  \n\n \n\n\nThe third Tuesday our shorter  “informational meeting” features round table discussion with members and mini seminars by members\, 20-30 minutes. \n\n\nBoth meetings include “Fish Talk”\, where members share their recent fishing experiences.  \n\n\nWe plan 12-14 outings a year and ongoing contests as well as an annual club tournament.  We have an annual picnic and awards banquet as well.  \n\n \n\n\nContact Jim Kophamel\, club president at jkophamel@wi.rr.com or (414) 350-1011 for membership information or go to www.ofcfish.com.
URL:https://midwestoutdoors.com/event/okauchee-fishing-club/2025-12-16/
LOCATION:New Berlin Ale House\, 16000 West Cleveland Ave.\, New Berlin\, WI\, 53151\, United States
CATEGORIES:Clubs & Organizations,Fishing
ORGANIZER;CN="Okauchee Fishing Club":MAILTO:jkophamel@wi.rr.com
GEO:42.9962153;-88.113674
X-APPLE-STRUCTURED-LOCATION;VALUE=URI;X-ADDRESS=New Berlin Ale House 16000 West Cleveland Ave. New Berlin WI 53151 United States;X-APPLE-RADIUS=500;X-TITLE=16000 West Cleveland Ave.:geo:-88.113674,42.9962153
END:VEVENT
BEGIN:VEVENT
DTSTART;TZID=America/Chicago:20251104T190000
DTEND;TZID=America/Chicago:20251104T213000
DTSTAMP:20260424T101732
CREATED:20170324T204504Z
LAST-MODIFIED:20170324T204504Z
UID:217916-1762282800-1762291800@midwestoutdoors.com
SUMMARY:Okauchee Fishing Club
DESCRIPTION:The Okauchee Fishing Club is a multi-species fishing club that fishes all over Wisconsin.  Established in 1967\, we are a club that helps fishermen and women become better with a focus on teaching by experienced anglers.  \n\n\nWe meet on the first and third Tuesday of every month at the New Berlin Ale House 16000 West Cleveland Ave. New Berlin\, WI 53151.  Come and here great guides and experts teach their skills\, favorite lakes and streams.  Get current fishing reports from club members. \n\n\nOur formal meeting from 7:00 – 9:30 is the first Tuesday and features great speakers\, and a raffle.  \n\n\nThe cost for non-members is $5.00.  \n\n \n\n\nThe third Tuesday our shorter  “informational meeting” features round table discussion with members and mini seminars by members\, 20-30 minutes. \n\n\nBoth meetings include “Fish Talk”\, where members share their recent fishing experiences.  \n\n\nWe plan 12-14 outings a year and ongoing contests as well as an annual club tournament.  We have an annual picnic and awards banquet as well.  \n\n \n\n\nContact Jim Kophamel\, club president at jkophamel@wi.rr.com or (414) 350-1011 for membership information or go to www.ofcfish.com.
URL:https://midwestoutdoors.com/event/okauchee-fishing-club/2025-11-04/
LOCATION:New Berlin Ale House\, 16000 West Cleveland Ave.\, New Berlin\, WI\, 53151\, United States
CATEGORIES:Clubs & Organizations,Fishing
ORGANIZER;CN="Okauchee Fishing Club":MAILTO:jkophamel@wi.rr.com
GEO:42.9962153;-88.113674
X-APPLE-STRUCTURED-LOCATION;VALUE=URI;X-ADDRESS=New Berlin Ale House 16000 West Cleveland Ave. New Berlin WI 53151 United States;X-APPLE-RADIUS=500;X-TITLE=16000 West Cleveland Ave.:geo:-88.113674,42.9962153
END:VEVENT
BEGIN:VEVENT
DTSTART;TZID=America/Chicago:20260217T190000
DTEND;TZID=America/Chicago:20260217T213000
DTSTAMP:20260424T101732
CREATED:20170324T204504Z
LAST-MODIFIED:20170324T204504Z
UID:222363-1771354800-1771363800@midwestoutdoors.com
SUMMARY:Okauchee Fishing Club
DESCRIPTION:The Okauchee Fishing Club is a multi-species fishing club that fishes all over Wisconsin.  Established in 1967\, we are a club that helps fishermen and women become better with a focus on teaching by experienced anglers.  \n\n\nWe meet on the first and third Tuesday of every month at the New Berlin Ale House 16000 West Cleveland Ave. New Berlin\, WI 53151.  Come and here great guides and experts teach their skills\, favorite lakes and streams.  Get current fishing reports from club members. \n\n\nOur formal meeting from 7:00 – 9:30 is the first Tuesday and features great speakers\, and a raffle.  \n\n\nThe cost for non-members is $5.00.  \n\n \n\n\nThe third Tuesday our shorter  “informational meeting” features round table discussion with members and mini seminars by members\, 20-30 minutes. \n\n\nBoth meetings include “Fish Talk”\, where members share their recent fishing experiences.  \n\n\nWe plan 12-14 outings a year and ongoing contests as well as an annual club tournament.  We have an annual picnic and awards banquet as well.  \n\n \n\n\nContact Jim Kophamel\, club president at jkophamel@wi.rr.com or (414) 350-1011 for membership information or go to www.ofcfish.com.
URL:https://midwestoutdoors.com/event/okauchee-fishing-club/2026-02-17/
LOCATION:New Berlin Ale House\, 16000 West Cleveland Ave.\, New Berlin\, WI\, 53151\, United States
CATEGORIES:Clubs & Organizations,Fishing
ORGANIZER;CN="Okauchee Fishing Club":MAILTO:jkophamel@wi.rr.com
GEO:42.9962153;-88.113674
X-APPLE-STRUCTURED-LOCATION;VALUE=URI;X-ADDRESS=New Berlin Ale House 16000 West Cleveland Ave. New Berlin WI 53151 United States;X-APPLE-RADIUS=500;X-TITLE=16000 West Cleveland Ave.:geo:-88.113674,42.9962153
END:VEVENT
BEGIN:VEVENT
DTSTART;TZID=America/Chicago:20260106T190000
DTEND;TZID=America/Chicago:20260106T213000
DTSTAMP:20260424T101732
CREATED:20170324T204504Z
LAST-MODIFIED:20170324T204504Z
UID:220336-1767726000-1767735000@midwestoutdoors.com
SUMMARY:Okauchee Fishing Club
DESCRIPTION:The Okauchee Fishing Club is a multi-species fishing club that fishes all over Wisconsin.  Established in 1967\, we are a club that helps fishermen and women become better with a focus on teaching by experienced anglers.  \n\n\nWe meet on the first and third Tuesday of every month at the New Berlin Ale House 16000 West Cleveland Ave. New Berlin\, WI 53151.  Come and here great guides and experts teach their skills\, favorite lakes and streams.  Get current fishing reports from club members. \n\n\nOur formal meeting from 7:00 – 9:30 is the first Tuesday and features great speakers\, and a raffle.  \n\n\nThe cost for non-members is $5.00.  \n\n \n\n\nThe third Tuesday our shorter  “informational meeting” features round table discussion with members and mini seminars by members\, 20-30 minutes. \n\n\nBoth meetings include “Fish Talk”\, where members share their recent fishing experiences.  \n\n\nWe plan 12-14 outings a year and ongoing contests as well as an annual club tournament.  We have an annual picnic and awards banquet as well.  \n\n \n\n\nContact Jim Kophamel\, club president at jkophamel@wi.rr.com or (414) 350-1011 for membership information or go to www.ofcfish.com.
URL:https://midwestoutdoors.com/event/okauchee-fishing-club/2026-01-06/
LOCATION:New Berlin Ale House\, 16000 West Cleveland Ave.\, New Berlin\, WI\, 53151\, United States
CATEGORIES:Clubs & Organizations,Fishing
ORGANIZER;CN="Okauchee Fishing Club":MAILTO:jkophamel@wi.rr.com
GEO:42.9962153;-88.113674
X-APPLE-STRUCTURED-LOCATION;VALUE=URI;X-ADDRESS=New Berlin Ale House 16000 West Cleveland Ave. New Berlin WI 53151 United States;X-APPLE-RADIUS=500;X-TITLE=16000 West Cleveland Ave.:geo:-88.113674,42.9962153
END:VEVENT
BEGIN:VEVENT
DTSTART;TZID=America/Chicago:20260303T190000
DTEND;TZID=America/Chicago:20260303T213000
DTSTAMP:20260424T101732
CREATED:20170324T204504Z
LAST-MODIFIED:20170324T204504Z
UID:222359-1772564400-1772573400@midwestoutdoors.com
SUMMARY:Okauchee Fishing Club
DESCRIPTION:The Okauchee Fishing Club is a multi-species fishing club that fishes all over Wisconsin.  Established in 1967\, we are a club that helps fishermen and women become better with a focus on teaching by experienced anglers.  \n\n\nWe meet on the first and third Tuesday of every month at the New Berlin Ale House 16000 West Cleveland Ave. New Berlin\, WI 53151.  Come and here great guides and experts teach their skills\, favorite lakes and streams.  Get current fishing reports from club members. \n\n\nOur formal meeting from 7:00 – 9:30 is the first Tuesday and features great speakers\, and a raffle.  \n\n\nThe cost for non-members is $5.00.  \n\n \n\n\nThe third Tuesday our shorter  “informational meeting” features round table discussion with members and mini seminars by members\, 20-30 minutes. \n\n\nBoth meetings include “Fish Talk”\, where members share their recent fishing experiences.  \n\n\nWe plan 12-14 outings a year and ongoing contests as well as an annual club tournament.  We have an annual picnic and awards banquet as well.  \n\n \n\n\nContact Jim Kophamel\, club president at jkophamel@wi.rr.com or (414) 350-1011 for membership information or go to www.ofcfish.com.
URL:https://midwestoutdoors.com/event/okauchee-fishing-club/2026-03-03/
LOCATION:New Berlin Ale House\, 16000 West Cleveland Ave.\, New Berlin\, WI\, 53151\, United States
CATEGORIES:Clubs & Organizations,Fishing
ORGANIZER;CN="Okauchee Fishing Club":MAILTO:jkophamel@wi.rr.com
GEO:42.9962153;-88.113674
X-APPLE-STRUCTURED-LOCATION;VALUE=URI;X-ADDRESS=New Berlin Ale House 16000 West Cleveland Ave. New Berlin WI 53151 United States;X-APPLE-RADIUS=500;X-TITLE=16000 West Cleveland Ave.:geo:-88.113674,42.9962153
END:VEVENT
BEGIN:VEVENT
DTSTART;TZID=America/Chicago:20260317T190000
DTEND;TZID=America/Chicago:20260317T213000
DTSTAMP:20260424T101732
CREATED:20170324T204504Z
LAST-MODIFIED:20170324T204504Z
UID:224745-1773774000-1773783000@midwestoutdoors.com
SUMMARY:Okauchee Fishing Club
DESCRIPTION:The Okauchee Fishing Club is a multi-species fishing club that fishes all over Wisconsin.  Established in 1967\, we are a club that helps fishermen and women become better with a focus on teaching by experienced anglers.  \n\n\nWe meet on the first and third Tuesday of every month at the New Berlin Ale House 16000 West Cleveland Ave. New Berlin\, WI 53151.  Come and here great guides and experts teach their skills\, favorite lakes and streams.  Get current fishing reports from club members. \n\n\nOur formal meeting from 7:00 – 9:30 is the first Tuesday and features great speakers\, and a raffle.  \n\n\nThe cost for non-members is $5.00.  \n\n \n\n\nThe third Tuesday our shorter  “informational meeting” features round table discussion with members and mini seminars by members\, 20-30 minutes. \n\n\nBoth meetings include “Fish Talk”\, where members share their recent fishing experiences.  \n\n\nWe plan 12-14 outings a year and ongoing contests as well as an annual club tournament.  We have an annual picnic and awards banquet as well.  \n\n \n\n\nContact Jim Kophamel\, club president at jkophamel@wi.rr.com or (414) 350-1011 for membership information or go to www.ofcfish.com.
URL:https://midwestoutdoors.com/event/okauchee-fishing-club/2026-03-17/
LOCATION:New Berlin Ale House\, 16000 West Cleveland Ave.\, New Berlin\, WI\, 53151\, United States
CATEGORIES:Clubs & Organizations,Fishing
ORGANIZER;CN="Okauchee Fishing Club":MAILTO:jkophamel@wi.rr.com
GEO:42.9962153;-88.113674
X-APPLE-STRUCTURED-LOCATION;VALUE=URI;X-ADDRESS=New Berlin Ale House 16000 West Cleveland Ave. New Berlin WI 53151 United States;X-APPLE-RADIUS=500;X-TITLE=16000 West Cleveland Ave.:geo:-88.113674,42.9962153
END:VEVENT
BEGIN:VEVENT
DTSTART;TZID=America/Chicago:20260407T190000
DTEND;TZID=America/Chicago:20260407T213000
DTSTAMP:20260424T101732
CREATED:20170324T204504Z
LAST-MODIFIED:20170324T204504Z
UID:224741-1775588400-1775597400@midwestoutdoors.com
SUMMARY:Okauchee Fishing Club
DESCRIPTION:The Okauchee Fishing Club is a multi-species fishing club that fishes all over Wisconsin.  Established in 1967\, we are a club that helps fishermen and women become better with a focus on teaching by experienced anglers.  \n\n\nWe meet on the first and third Tuesday of every month at the New Berlin Ale House 16000 West Cleveland Ave. New Berlin\, WI 53151.  Come and here great guides and experts teach their skills\, favorite lakes and streams.  Get current fishing reports from club members. \n\n\nOur formal meeting from 7:00 – 9:30 is the first Tuesday and features great speakers\, and a raffle.  \n\n\nThe cost for non-members is $5.00.  \n\n \n\n\nThe third Tuesday our shorter  “informational meeting” features round table discussion with members and mini seminars by members\, 20-30 minutes. \n\n\nBoth meetings include “Fish Talk”\, where members share their recent fishing experiences.  \n\n\nWe plan 12-14 outings a year and ongoing contests as well as an annual club tournament.  We have an annual picnic and awards banquet as well.  \n\n \n\n\nContact Jim Kophamel\, club president at jkophamel@wi.rr.com or (414) 350-1011 for membership information or go to www.ofcfish.com.
URL:https://midwestoutdoors.com/event/okauchee-fishing-club/2026-04-07/
LOCATION:New Berlin Ale House\, 16000 West Cleveland Ave.\, New Berlin\, WI\, 53151\, United States
CATEGORIES:Clubs & Organizations,Fishing
ORGANIZER;CN="Okauchee Fishing Club":MAILTO:jkophamel@wi.rr.com
GEO:42.9962153;-88.113674
X-APPLE-STRUCTURED-LOCATION;VALUE=URI;X-ADDRESS=New Berlin Ale House 16000 West Cleveland Ave. New Berlin WI 53151 United States;X-APPLE-RADIUS=500;X-TITLE=16000 West Cleveland Ave.:geo:-88.113674,42.9962153
END:VEVENT
BEGIN:VEVENT
DTSTART;TZID=America/Chicago:20260120T190000
DTEND;TZID=America/Chicago:20260120T213000
DTSTAMP:20260424T101732
CREATED:20170324T204504Z
LAST-MODIFIED:20170324T204504Z
UID:221623-1768935600-1768944600@midwestoutdoors.com
SUMMARY:Okauchee Fishing Club
DESCRIPTION:The Okauchee Fishing Club is a multi-species fishing club that fishes all over Wisconsin.  Established in 1967\, we are a club that helps fishermen and women become better with a focus on teaching by experienced anglers.  \n\n\nWe meet on the first and third Tuesday of every month at the New Berlin Ale House 16000 West Cleveland Ave. New Berlin\, WI 53151.  Come and here great guides and experts teach their skills\, favorite lakes and streams.  Get current fishing reports from club members. \n\n\nOur formal meeting from 7:00 – 9:30 is the first Tuesday and features great speakers\, and a raffle.  \n\n\nThe cost for non-members is $5.00.  \n\n \n\n\nThe third Tuesday our shorter  “informational meeting” features round table discussion with members and mini seminars by members\, 20-30 minutes. \n\n\nBoth meetings include “Fish Talk”\, where members share their recent fishing experiences.  \n\n\nWe plan 12-14 outings a year and ongoing contests as well as an annual club tournament.  We have an annual picnic and awards banquet as well.  \n\n \n\n\nContact Jim Kophamel\, club president at jkophamel@wi.rr.com or (414) 350-1011 for membership information or go to www.ofcfish.com.
URL:https://midwestoutdoors.com/event/okauchee-fishing-club/2026-01-20/
LOCATION:New Berlin Ale House\, 16000 West Cleveland Ave.\, New Berlin\, WI\, 53151\, United States
CATEGORIES:Clubs & Organizations,Fishing
ORGANIZER;CN="Okauchee Fishing Club":MAILTO:jkophamel@wi.rr.com
GEO:42.9962153;-88.113674
X-APPLE-STRUCTURED-LOCATION;VALUE=URI;X-ADDRESS=New Berlin Ale House 16000 West Cleveland Ave. New Berlin WI 53151 United States;X-APPLE-RADIUS=500;X-TITLE=16000 West Cleveland Ave.:geo:-88.113674,42.9962153
END:VEVENT
BEGIN:VEVENT
DTSTART;TZID=America/Chicago:20260203T190000
DTEND;TZID=America/Chicago:20260203T213000
DTSTAMP:20260424T101732
CREATED:20170324T204504Z
LAST-MODIFIED:20170324T204504Z
UID:221619-1770145200-1770154200@midwestoutdoors.com
SUMMARY:Okauchee Fishing Club
DESCRIPTION:The Okauchee Fishing Club is a multi-species fishing club that fishes all over Wisconsin.  Established in 1967\, we are a club that helps fishermen and women become better with a focus on teaching by experienced anglers.  \n\n\nWe meet on the first and third Tuesday of every month at the New Berlin Ale House 16000 West Cleveland Ave. New Berlin\, WI 53151.  Come and here great guides and experts teach their skills\, favorite lakes and streams.  Get current fishing reports from club members. \n\n\nOur formal meeting from 7:00 – 9:30 is the first Tuesday and features great speakers\, and a raffle.  \n\n\nThe cost for non-members is $5.00.  \n\n \n\n\nThe third Tuesday our shorter  “informational meeting” features round table discussion with members and mini seminars by members\, 20-30 minutes. \n\n\nBoth meetings include “Fish Talk”\, where members share their recent fishing experiences.  \n\n\nWe plan 12-14 outings a year and ongoing contests as well as an annual club tournament.  We have an annual picnic and awards banquet as well.  \n\n \n\n\nContact Jim Kophamel\, club president at jkophamel@wi.rr.com or (414) 350-1011 for membership information or go to www.ofcfish.com.
URL:https://midwestoutdoors.com/event/okauchee-fishing-club/2026-02-03/
LOCATION:New Berlin Ale House\, 16000 West Cleveland Ave.\, New Berlin\, WI\, 53151\, United States
CATEGORIES:Clubs & Organizations,Fishing
ORGANIZER;CN="Okauchee Fishing Club":MAILTO:jkophamel@wi.rr.com
GEO:42.9962153;-88.113674
X-APPLE-STRUCTURED-LOCATION;VALUE=URI;X-ADDRESS=New Berlin Ale House 16000 West Cleveland Ave. New Berlin WI 53151 United States;X-APPLE-RADIUS=500;X-TITLE=16000 West Cleveland Ave.:geo:-88.113674,42.9962153
END:VEVENT
END:VCALENDAR