BEGIN:VCALENDAR
VERSION:2.0
PRODID:-//MidWest Outdoors - ECPv6.15.9//NONSGML v1.0//EN
CALSCALE:GREGORIAN
METHOD:PUBLISH
X-WR-CALNAME:MidWest Outdoors
X-ORIGINAL-URL:https://midwestoutdoors.com
X-WR-CALDESC:Events for MidWest Outdoors
REFRESH-INTERVAL;VALUE=DURATION:PT1H
X-Robots-Tag:noindex
X-PUBLISHED-TTL:PT1H
BEGIN:VTIMEZONE
TZID:America/Chicago
BEGIN:DAYLIGHT
TZOFFSETFROM:-0600
TZOFFSETTO:-0500
TZNAME:CDT
DTSTART:20160313T080000
END:DAYLIGHT
BEGIN:STANDARD
TZOFFSETFROM:-0500
TZOFFSETTO:-0600
TZNAME:CST
DTSTART:20161106T070000
END:STANDARD
BEGIN:DAYLIGHT
TZOFFSETFROM:-0600
TZOFFSETTO:-0500
TZNAME:CDT
DTSTART:20170312T080000
END:DAYLIGHT
BEGIN:STANDARD
TZOFFSETFROM:-0500
TZOFFSETTO:-0600
TZNAME:CST
DTSTART:20171105T070000
END:STANDARD
BEGIN:DAYLIGHT
TZOFFSETFROM:-0600
TZOFFSETTO:-0500
TZNAME:CDT
DTSTART:20180311T080000
END:DAYLIGHT
BEGIN:STANDARD
TZOFFSETFROM:-0500
TZOFFSETTO:-0600
TZNAME:CST
DTSTART:20181104T070000
END:STANDARD
BEGIN:DAYLIGHT
TZOFFSETFROM:-0600
TZOFFSETTO:-0500
TZNAME:CDT
DTSTART:20190310T080000
END:DAYLIGHT
BEGIN:STANDARD
TZOFFSETFROM:-0500
TZOFFSETTO:-0600
TZNAME:CST
DTSTART:20191103T070000
END:STANDARD
BEGIN:DAYLIGHT
TZOFFSETFROM:-0600
TZOFFSETTO:-0500
TZNAME:CDT
DTSTART:20200308T080000
END:DAYLIGHT
BEGIN:STANDARD
TZOFFSETFROM:-0500
TZOFFSETTO:-0600
TZNAME:CST
DTSTART:20201101T070000
END:STANDARD
BEGIN:DAYLIGHT
TZOFFSETFROM:-0600
TZOFFSETTO:-0500
TZNAME:CDT
DTSTART:20210314T080000
END:DAYLIGHT
BEGIN:STANDARD
TZOFFSETFROM:-0500
TZOFFSETTO:-0600
TZNAME:CST
DTSTART:20211107T070000
END:STANDARD
BEGIN:DAYLIGHT
TZOFFSETFROM:-0600
TZOFFSETTO:-0500
TZNAME:CDT
DTSTART:20220313T080000
END:DAYLIGHT
BEGIN:STANDARD
TZOFFSETFROM:-0500
TZOFFSETTO:-0600
TZNAME:CST
DTSTART:20221106T070000
END:STANDARD
BEGIN:DAYLIGHT
TZOFFSETFROM:-0600
TZOFFSETTO:-0500
TZNAME:CDT
DTSTART:20230312T080000
END:DAYLIGHT
BEGIN:STANDARD
TZOFFSETFROM:-0500
TZOFFSETTO:-0600
TZNAME:CST
DTSTART:20231105T070000
END:STANDARD
BEGIN:DAYLIGHT
TZOFFSETFROM:-0600
TZOFFSETTO:-0500
TZNAME:CDT
DTSTART:20240310T080000
END:DAYLIGHT
BEGIN:STANDARD
TZOFFSETFROM:-0500
TZOFFSETTO:-0600
TZNAME:CST
DTSTART:20241103T070000
END:STANDARD
BEGIN:DAYLIGHT
TZOFFSETFROM:-0600
TZOFFSETTO:-0500
TZNAME:CDT
DTSTART:20250309T080000
END:DAYLIGHT
BEGIN:STANDARD
TZOFFSETFROM:-0500
TZOFFSETTO:-0600
TZNAME:CST
DTSTART:20251102T070000
END:STANDARD
BEGIN:DAYLIGHT
TZOFFSETFROM:-0600
TZOFFSETTO:-0500
TZNAME:CDT
DTSTART:20260308T080000
END:DAYLIGHT
BEGIN:STANDARD
TZOFFSETFROM:-0500
TZOFFSETTO:-0600
TZNAME:CST
DTSTART:20261101T070000
END:STANDARD
BEGIN:DAYLIGHT
TZOFFSETFROM:-0600
TZOFFSETTO:-0500
TZNAME:CDT
DTSTART:20270314T080000
END:DAYLIGHT
BEGIN:STANDARD
TZOFFSETFROM:-0500
TZOFFSETTO:-0600
TZNAME:CST
DTSTART:20271107T070000
END:STANDARD
END:VTIMEZONE
BEGIN:VEVENT
DTSTART;TZID=America/Chicago:20170601T080000
DTEND;TZID=America/Chicago:20170601T170000
DTSTAMP:20260423T140557
CREATED:20170602T002442Z
LAST-MODIFIED:20190201T174223Z
UID:32326-1496304000-1496336400@midwestoutdoors.com
SUMMARY:GEM Fishing Club
DESCRIPTION:GEM Fishing Club meets the third Tuesday of the month at Emmanuel Christian Center\, 7777 University Ave. (Rm. 220) in Fridley\, MN.\n\n\nFor more info: 952-882-1711.
URL:https://midwestoutdoors.com/event/gem-fishing-club/2017-06-01/
LOCATION:Emmanuel Christian Center\, 7777 University Ave.\, Fridley\, MN\, United States
CATEGORIES:Clubs & Organizations
GEO:45.1087544;-93.2613763
X-APPLE-STRUCTURED-LOCATION;VALUE=URI;X-ADDRESS=Emmanuel Christian Center 7777 University Ave. Fridley MN United States;X-APPLE-RADIUS=500;X-TITLE=7777 University Ave.:geo:-93.2613763,45.1087544
END:VEVENT
BEGIN:VEVENT
DTSTART;TZID=America/Chicago:20260120T190000
DTEND;TZID=America/Chicago:20260120T210000
DTSTAMP:20260423T140557
CREATED:20170602T002442Z
LAST-MODIFIED:20170602T002442Z
UID:221324-1768935600-1768942800@midwestoutdoors.com
SUMMARY:GEM Fishing Club
DESCRIPTION:GEM Fishing Club meets the third Tuesday of the month at Emmanuel Christian Center\, 7777 University Ave. (Rm. 220) in Fridley\, MN.\n\n\nFor more info: 952-882-1711.
URL:https://midwestoutdoors.com/event/gem-fishing-club/2026-01-20/
LOCATION:Emmanuel Christian Center\, 7777 University Ave.\, Fridley\, MN\, United States
CATEGORIES:Clubs & Organizations
GEO:45.1087544;-93.2613763
X-APPLE-STRUCTURED-LOCATION;VALUE=URI;X-ADDRESS=Emmanuel Christian Center 7777 University Ave. Fridley MN United States;X-APPLE-RADIUS=500;X-TITLE=7777 University Ave.:geo:-93.2613763,45.1087544
END:VEVENT
BEGIN:VEVENT
DTSTART;TZID=America/Chicago:20251216T190000
DTEND;TZID=America/Chicago:20251216T210000
DTSTAMP:20260423T140557
CREATED:20170602T002442Z
LAST-MODIFIED:20170602T002442Z
UID:219716-1765911600-1765918800@midwestoutdoors.com
SUMMARY:GEM Fishing Club
DESCRIPTION:GEM Fishing Club meets the third Tuesday of the month at Emmanuel Christian Center\, 7777 University Ave. (Rm. 220) in Fridley\, MN.\n\n\nFor more info: 952-882-1711.
URL:https://midwestoutdoors.com/event/gem-fishing-club/2025-12-16/
LOCATION:Emmanuel Christian Center\, 7777 University Ave.\, Fridley\, MN\, United States
CATEGORIES:Clubs & Organizations
GEO:45.1087544;-93.2613763
X-APPLE-STRUCTURED-LOCATION;VALUE=URI;X-ADDRESS=Emmanuel Christian Center 7777 University Ave. Fridley MN United States;X-APPLE-RADIUS=500;X-TITLE=7777 University Ave.:geo:-93.2613763,45.1087544
END:VEVENT
BEGIN:VEVENT
DTSTART;TZID=America/Chicago:20251118T190000
DTEND;TZID=America/Chicago:20251118T210000
DTSTAMP:20260423T140557
CREATED:20170602T002442Z
LAST-MODIFIED:20170602T002442Z
UID:218522-1763492400-1763499600@midwestoutdoors.com
SUMMARY:GEM Fishing Club
DESCRIPTION:GEM Fishing Club meets the third Tuesday of the month at Emmanuel Christian Center\, 7777 University Ave. (Rm. 220) in Fridley\, MN.\n\n\nFor more info: 952-882-1711.
URL:https://midwestoutdoors.com/event/gem-fishing-club/2025-11-18/
LOCATION:Emmanuel Christian Center\, 7777 University Ave.\, Fridley\, MN\, United States
CATEGORIES:Clubs & Organizations
GEO:45.1087544;-93.2613763
X-APPLE-STRUCTURED-LOCATION;VALUE=URI;X-ADDRESS=Emmanuel Christian Center 7777 University Ave. Fridley MN United States;X-APPLE-RADIUS=500;X-TITLE=7777 University Ave.:geo:-93.2613763,45.1087544
END:VEVENT
BEGIN:VEVENT
DTSTART;TZID=America/Chicago:20260217T190000
DTEND;TZID=America/Chicago:20260217T210000
DTSTAMP:20260423T140557
CREATED:20170602T002442Z
LAST-MODIFIED:20170602T002442Z
UID:221920-1771354800-1771362000@midwestoutdoors.com
SUMMARY:GEM Fishing Club
DESCRIPTION:GEM Fishing Club meets the third Tuesday of the month at Emmanuel Christian Center\, 7777 University Ave. (Rm. 220) in Fridley\, MN.\n\n\nFor more info: 952-882-1711.
URL:https://midwestoutdoors.com/event/gem-fishing-club/2026-02-17/
LOCATION:Emmanuel Christian Center\, 7777 University Ave.\, Fridley\, MN\, United States
CATEGORIES:Clubs & Organizations
GEO:45.1087544;-93.2613763
X-APPLE-STRUCTURED-LOCATION;VALUE=URI;X-ADDRESS=Emmanuel Christian Center 7777 University Ave. Fridley MN United States;X-APPLE-RADIUS=500;X-TITLE=7777 University Ave.:geo:-93.2613763,45.1087544
END:VEVENT
BEGIN:VEVENT
DTSTART;TZID=America/Chicago:20260317T190000
DTEND;TZID=America/Chicago:20260317T210000
DTSTAMP:20260423T140557
CREATED:20170602T002442Z
LAST-MODIFIED:20170602T002442Z
UID:223525-1773774000-1773781200@midwestoutdoors.com
SUMMARY:GEM Fishing Club
DESCRIPTION:GEM Fishing Club meets the third Tuesday of the month at Emmanuel Christian Center\, 7777 University Ave. (Rm. 220) in Fridley\, MN.\n\n\nFor more info: 952-882-1711.
URL:https://midwestoutdoors.com/event/gem-fishing-club/2026-03-17/
LOCATION:Emmanuel Christian Center\, 7777 University Ave.\, Fridley\, MN\, United States
CATEGORIES:Clubs & Organizations
GEO:45.1087544;-93.2613763
X-APPLE-STRUCTURED-LOCATION;VALUE=URI;X-ADDRESS=Emmanuel Christian Center 7777 University Ave. Fridley MN United States;X-APPLE-RADIUS=500;X-TITLE=7777 University Ave.:geo:-93.2613763,45.1087544
END:VEVENT
END:VCALENDAR