BEGIN:VCALENDAR
VERSION:2.0
PRODID:-//MidWest Outdoors - ECPv6.15.9//NONSGML v1.0//EN
CALSCALE:GREGORIAN
METHOD:PUBLISH
X-WR-CALNAME:MidWest Outdoors
X-ORIGINAL-URL:https://midwestoutdoors.com
X-WR-CALDESC:Events for MidWest Outdoors
REFRESH-INTERVAL;VALUE=DURATION:PT1H
X-Robots-Tag:noindex
X-PUBLISHED-TTL:PT1H
BEGIN:VTIMEZONE
TZID:America/Chicago
BEGIN:DAYLIGHT
TZOFFSETFROM:-0600
TZOFFSETTO:-0500
TZNAME:CDT
DTSTART:20160313T080000
END:DAYLIGHT
BEGIN:STANDARD
TZOFFSETFROM:-0500
TZOFFSETTO:-0600
TZNAME:CST
DTSTART:20161106T070000
END:STANDARD
BEGIN:DAYLIGHT
TZOFFSETFROM:-0600
TZOFFSETTO:-0500
TZNAME:CDT
DTSTART:20170312T080000
END:DAYLIGHT
BEGIN:STANDARD
TZOFFSETFROM:-0500
TZOFFSETTO:-0600
TZNAME:CST
DTSTART:20171105T070000
END:STANDARD
BEGIN:DAYLIGHT
TZOFFSETFROM:-0600
TZOFFSETTO:-0500
TZNAME:CDT
DTSTART:20180311T080000
END:DAYLIGHT
BEGIN:STANDARD
TZOFFSETFROM:-0500
TZOFFSETTO:-0600
TZNAME:CST
DTSTART:20181104T070000
END:STANDARD
BEGIN:DAYLIGHT
TZOFFSETFROM:-0600
TZOFFSETTO:-0500
TZNAME:CDT
DTSTART:20190310T080000
END:DAYLIGHT
BEGIN:STANDARD
TZOFFSETFROM:-0500
TZOFFSETTO:-0600
TZNAME:CST
DTSTART:20191103T070000
END:STANDARD
BEGIN:DAYLIGHT
TZOFFSETFROM:-0600
TZOFFSETTO:-0500
TZNAME:CDT
DTSTART:20200308T080000
END:DAYLIGHT
BEGIN:STANDARD
TZOFFSETFROM:-0500
TZOFFSETTO:-0600
TZNAME:CST
DTSTART:20201101T070000
END:STANDARD
BEGIN:DAYLIGHT
TZOFFSETFROM:-0600
TZOFFSETTO:-0500
TZNAME:CDT
DTSTART:20210314T080000
END:DAYLIGHT
BEGIN:STANDARD
TZOFFSETFROM:-0500
TZOFFSETTO:-0600
TZNAME:CST
DTSTART:20211107T070000
END:STANDARD
BEGIN:DAYLIGHT
TZOFFSETFROM:-0600
TZOFFSETTO:-0500
TZNAME:CDT
DTSTART:20220313T080000
END:DAYLIGHT
BEGIN:STANDARD
TZOFFSETFROM:-0500
TZOFFSETTO:-0600
TZNAME:CST
DTSTART:20221106T070000
END:STANDARD
BEGIN:DAYLIGHT
TZOFFSETFROM:-0600
TZOFFSETTO:-0500
TZNAME:CDT
DTSTART:20230312T080000
END:DAYLIGHT
BEGIN:STANDARD
TZOFFSETFROM:-0500
TZOFFSETTO:-0600
TZNAME:CST
DTSTART:20231105T070000
END:STANDARD
BEGIN:DAYLIGHT
TZOFFSETFROM:-0600
TZOFFSETTO:-0500
TZNAME:CDT
DTSTART:20240310T080000
END:DAYLIGHT
BEGIN:STANDARD
TZOFFSETFROM:-0500
TZOFFSETTO:-0600
TZNAME:CST
DTSTART:20241103T070000
END:STANDARD
BEGIN:DAYLIGHT
TZOFFSETFROM:-0600
TZOFFSETTO:-0500
TZNAME:CDT
DTSTART:20250309T080000
END:DAYLIGHT
BEGIN:STANDARD
TZOFFSETFROM:-0500
TZOFFSETTO:-0600
TZNAME:CST
DTSTART:20251102T070000
END:STANDARD
BEGIN:DAYLIGHT
TZOFFSETFROM:-0600
TZOFFSETTO:-0500
TZNAME:CDT
DTSTART:20260308T080000
END:DAYLIGHT
BEGIN:STANDARD
TZOFFSETFROM:-0500
TZOFFSETTO:-0600
TZNAME:CST
DTSTART:20261101T070000
END:STANDARD
BEGIN:DAYLIGHT
TZOFFSETFROM:-0600
TZOFFSETTO:-0500
TZNAME:CDT
DTSTART:20270314T080000
END:DAYLIGHT
BEGIN:STANDARD
TZOFFSETFROM:-0500
TZOFFSETTO:-0600
TZNAME:CST
DTSTART:20271107T070000
END:STANDARD
END:VTIMEZONE
BEGIN:VEVENT
DTSTART;TZID=America/Chicago:20170601T080000
DTEND;TZID=America/Chicago:20170601T170000
DTSTAMP:20260422T144045
CREATED:20170602T015018Z
LAST-MODIFIED:20190131T234504Z
UID:32540-1496304000-1496336400@midwestoutdoors.com
SUMMARY:Walleye Searchers of Minnesota
DESCRIPTION:Walleye Searchers of Minnesota meet the 1st Monday of each month at Elks Lodge in Rochester\, MN.\n\n\nFor more info: www.walleyesearchers.org.
URL:https://midwestoutdoors.com/event/walleye-searchers-minnesota/2017-06-01/
LOCATION:Elks Lodge in Rochester\, Rochester\, MN\, United States
CATEGORIES:Clubs & Organizations
GEO:44.0121221;-92.4801989
END:VEVENT
BEGIN:VEVENT
DTSTART;TZID=America/Chicago:20260202T190000
DTEND;TZID=America/Chicago:20260202T210000
DTSTAMP:20260422T144045
CREATED:20170602T015018Z
LAST-MODIFIED:20170602T015018Z
UID:221599-1770058800-1770066000@midwestoutdoors.com
SUMMARY:Walleye Searchers of Minnesota
DESCRIPTION:Walleye Searchers of Minnesota meet the 1st Monday of each month at Elks Lodge in Rochester\, MN.\n\n\nFor more info: www.walleyesearchers.org.
URL:https://midwestoutdoors.com/event/walleye-searchers-minnesota/2026-02-02/
LOCATION:Elks Lodge in Rochester\, Rochester\, MN\, United States
CATEGORIES:Clubs & Organizations
GEO:44.0121221;-92.4801989
END:VEVENT
BEGIN:VEVENT
DTSTART;TZID=America/Chicago:20251103T190000
DTEND;TZID=America/Chicago:20251103T210000
DTSTAMP:20260422T144045
CREATED:20170602T015018Z
LAST-MODIFIED:20170602T015018Z
UID:217859-1762196400-1762203600@midwestoutdoors.com
SUMMARY:Walleye Searchers of Minnesota
DESCRIPTION:Walleye Searchers of Minnesota meet the 1st Monday of each month at Elks Lodge in Rochester\, MN.\n\n\nFor more info: www.walleyesearchers.org.
URL:https://midwestoutdoors.com/event/walleye-searchers-minnesota/2025-11-03/
LOCATION:Elks Lodge in Rochester\, Rochester\, MN\, United States
CATEGORIES:Clubs & Organizations
GEO:44.0121221;-92.4801989
END:VEVENT
BEGIN:VEVENT
DTSTART;TZID=America/Chicago:20251201T190000
DTEND;TZID=America/Chicago:20251201T210000
DTSTAMP:20260422T144045
CREATED:20170602T015018Z
LAST-MODIFIED:20170602T015018Z
UID:219023-1764615600-1764622800@midwestoutdoors.com
SUMMARY:Walleye Searchers of Minnesota
DESCRIPTION:Walleye Searchers of Minnesota meet the 1st Monday of each month at Elks Lodge in Rochester\, MN.\n\n\nFor more info: www.walleyesearchers.org.
URL:https://midwestoutdoors.com/event/walleye-searchers-minnesota/2025-12-01/
LOCATION:Elks Lodge in Rochester\, Rochester\, MN\, United States
CATEGORIES:Clubs & Organizations
GEO:44.0121221;-92.4801989
END:VEVENT
BEGIN:VEVENT
DTSTART;TZID=America/Chicago:20260105T190000
DTEND;TZID=America/Chicago:20260105T210000
DTSTAMP:20260422T144045
CREATED:20170602T015018Z
LAST-MODIFIED:20170602T015018Z
UID:220279-1767639600-1767646800@midwestoutdoors.com
SUMMARY:Walleye Searchers of Minnesota
DESCRIPTION:Walleye Searchers of Minnesota meet the 1st Monday of each month at Elks Lodge in Rochester\, MN.\n\n\nFor more info: www.walleyesearchers.org.
URL:https://midwestoutdoors.com/event/walleye-searchers-minnesota/2026-01-05/
LOCATION:Elks Lodge in Rochester\, Rochester\, MN\, United States
CATEGORIES:Clubs & Organizations
GEO:44.0121221;-92.4801989
END:VEVENT
BEGIN:VEVENT
DTSTART;TZID=America/Chicago:20260302T190000
DTEND;TZID=America/Chicago:20260302T210000
DTSTAMP:20260422T144045
CREATED:20170602T015018Z
LAST-MODIFIED:20170602T015018Z
UID:222268-1772478000-1772485200@midwestoutdoors.com
SUMMARY:Walleye Searchers of Minnesota
DESCRIPTION:Walleye Searchers of Minnesota meet the 1st Monday of each month at Elks Lodge in Rochester\, MN.\n\n\nFor more info: www.walleyesearchers.org.
URL:https://midwestoutdoors.com/event/walleye-searchers-minnesota/2026-03-02/
LOCATION:Elks Lodge in Rochester\, Rochester\, MN\, United States
CATEGORIES:Clubs & Organizations
GEO:44.0121221;-92.4801989
END:VEVENT
BEGIN:VEVENT
DTSTART;TZID=America/Chicago:20260406T190000
DTEND;TZID=America/Chicago:20260406T210000
DTSTAMP:20260422T144045
CREATED:20170602T015018Z
LAST-MODIFIED:20170602T015018Z
UID:224727-1775502000-1775509200@midwestoutdoors.com
SUMMARY:Walleye Searchers of Minnesota
DESCRIPTION:Walleye Searchers of Minnesota meet the 1st Monday of each month at Elks Lodge in Rochester\, MN.\n\n\nFor more info: www.walleyesearchers.org.
URL:https://midwestoutdoors.com/event/walleye-searchers-minnesota/2026-04-06/
LOCATION:Elks Lodge in Rochester\, Rochester\, MN\, United States
CATEGORIES:Clubs & Organizations
GEO:44.0121221;-92.4801989
END:VEVENT
BEGIN:VEVENT
DTSTART;TZID=America/Chicago:20170102T190000
DTEND;TZID=America/Chicago:20170102T235500
DTSTAMP:20260422T144045
CREATED:20161230T020838Z
LAST-MODIFIED:20190131T232805Z
UID:23331-1483383600-1483401300@midwestoutdoors.com
SUMMARY:Walleye Searchers of Minnesota
DESCRIPTION:Walleye Searchers of MN meet the 1st Monday of each month\, 7 p.m.\, at Elks Lodge in Rochester\, MN. For more info: www.walleyesearchers.org
URL:https://midwestoutdoors.com/event/walleye-searchers-of-minnesota/2017-01-02/
LOCATION:Elks Lodge in Rochester\, Rochester\, MN\, United States
CATEGORIES:Clubs & Organizations
GEO:44.0121221;-92.4801989
END:VEVENT
BEGIN:VEVENT
DTSTART;TZID=America/Chicago:20251202T190000
DTEND;TZID=America/Chicago:20251202T235500
DTSTAMP:20260422T144045
CREATED:20161230T020838Z
LAST-MODIFIED:20161230T020838Z
UID:219053-1764702000-1764719700@midwestoutdoors.com
SUMMARY:Walleye Searchers of Minnesota
DESCRIPTION:Walleye Searchers of MN meet the 1st Monday of each month\, 7 p.m.\, at Elks Lodge in Rochester\, MN. For more info: www.walleyesearchers.org
URL:https://midwestoutdoors.com/event/walleye-searchers-of-minnesota/2025-12-02/
LOCATION:Elks Lodge in Rochester\, Rochester\, MN\, United States
CATEGORIES:Clubs & Organizations
GEO:44.0121221;-92.4801989
END:VEVENT
BEGIN:VEVENT
DTSTART;TZID=America/Chicago:20260402T190000
DTEND;TZID=America/Chicago:20260402T235500
DTSTAMP:20260422T144045
CREATED:20161230T020838Z
LAST-MODIFIED:20161230T020838Z
UID:224632-1775156400-1775174100@midwestoutdoors.com
SUMMARY:Walleye Searchers of Minnesota
DESCRIPTION:Walleye Searchers of MN meet the 1st Monday of each month\, 7 p.m.\, at Elks Lodge in Rochester\, MN. For more info: www.walleyesearchers.org
URL:https://midwestoutdoors.com/event/walleye-searchers-of-minnesota/2026-04-02/
LOCATION:Elks Lodge in Rochester\, Rochester\, MN\, United States
CATEGORIES:Clubs & Organizations
GEO:44.0121221;-92.4801989
END:VEVENT
BEGIN:VEVENT
DTSTART;TZID=America/Chicago:20260102T190000
DTEND;TZID=America/Chicago:20260102T235500
DTSTAMP:20260422T144045
CREATED:20161230T020838Z
LAST-MODIFIED:20161230T020838Z
UID:220256-1767380400-1767398100@midwestoutdoors.com
SUMMARY:Walleye Searchers of Minnesota
DESCRIPTION:Walleye Searchers of MN meet the 1st Monday of each month\, 7 p.m.\, at Elks Lodge in Rochester\, MN. For more info: www.walleyesearchers.org
URL:https://midwestoutdoors.com/event/walleye-searchers-of-minnesota/2026-01-02/
LOCATION:Elks Lodge in Rochester\, Rochester\, MN\, United States
CATEGORIES:Clubs & Organizations
GEO:44.0121221;-92.4801989
END:VEVENT
BEGIN:VEVENT
DTSTART;TZID=America/Chicago:20251102T190000
DTEND;TZID=America/Chicago:20251102T235500
DTSTAMP:20260422T144045
CREATED:20161230T020838Z
LAST-MODIFIED:20161230T020838Z
UID:217818-1762110000-1762127700@midwestoutdoors.com
SUMMARY:Walleye Searchers of Minnesota
DESCRIPTION:Walleye Searchers of MN meet the 1st Monday of each month\, 7 p.m.\, at Elks Lodge in Rochester\, MN. For more info: www.walleyesearchers.org
URL:https://midwestoutdoors.com/event/walleye-searchers-of-minnesota/2025-11-02/
LOCATION:Elks Lodge in Rochester\, Rochester\, MN\, United States
CATEGORIES:Clubs & Organizations
GEO:44.0121221;-92.4801989
END:VEVENT
BEGIN:VEVENT
DTSTART;TZID=America/Chicago:20260202T190000
DTEND;TZID=America/Chicago:20260202T235500
DTSTAMP:20260422T144045
CREATED:20161230T020838Z
LAST-MODIFIED:20161230T020838Z
UID:221587-1770058800-1770076500@midwestoutdoors.com
SUMMARY:Walleye Searchers of Minnesota
DESCRIPTION:Walleye Searchers of MN meet the 1st Monday of each month\, 7 p.m.\, at Elks Lodge in Rochester\, MN. For more info: www.walleyesearchers.org
URL:https://midwestoutdoors.com/event/walleye-searchers-of-minnesota/2026-02-02/
LOCATION:Elks Lodge in Rochester\, Rochester\, MN\, United States
CATEGORIES:Clubs & Organizations
GEO:44.0121221;-92.4801989
END:VEVENT
BEGIN:VEVENT
DTSTART;TZID=America/Chicago:20260302T190000
DTEND;TZID=America/Chicago:20260302T235500
DTSTAMP:20260422T144045
CREATED:20161230T020838Z
LAST-MODIFIED:20161230T020838Z
UID:222256-1772478000-1772495700@midwestoutdoors.com
SUMMARY:Walleye Searchers of Minnesota
DESCRIPTION:Walleye Searchers of MN meet the 1st Monday of each month\, 7 p.m.\, at Elks Lodge in Rochester\, MN. For more info: www.walleyesearchers.org
URL:https://midwestoutdoors.com/event/walleye-searchers-of-minnesota/2026-03-02/
LOCATION:Elks Lodge in Rochester\, Rochester\, MN\, United States
CATEGORIES:Clubs & Organizations
GEO:44.0121221;-92.4801989
END:VEVENT
END:VCALENDAR