BEGIN:VCALENDAR
VERSION:2.0
PRODID:-//MidWest Outdoors - ECPv6.15.9//NONSGML v1.0//EN
CALSCALE:GREGORIAN
METHOD:PUBLISH
X-WR-CALNAME:MidWest Outdoors
X-ORIGINAL-URL:https://midwestoutdoors.com
X-WR-CALDESC:Events for MidWest Outdoors
REFRESH-INTERVAL;VALUE=DURATION:PT1H
X-Robots-Tag:noindex
X-PUBLISHED-TTL:PT1H
BEGIN:VTIMEZONE
TZID:America/Chicago
BEGIN:DAYLIGHT
TZOFFSETFROM:-0600
TZOFFSETTO:-0500
TZNAME:CDT
DTSTART:20250309T080000
END:DAYLIGHT
BEGIN:STANDARD
TZOFFSETFROM:-0500
TZOFFSETTO:-0600
TZNAME:CST
DTSTART:20251102T070000
END:STANDARD
BEGIN:DAYLIGHT
TZOFFSETFROM:-0600
TZOFFSETTO:-0500
TZNAME:CDT
DTSTART:20260308T080000
END:DAYLIGHT
BEGIN:STANDARD
TZOFFSETFROM:-0500
TZOFFSETTO:-0600
TZNAME:CST
DTSTART:20261101T070000
END:STANDARD
BEGIN:DAYLIGHT
TZOFFSETFROM:-0600
TZOFFSETTO:-0500
TZNAME:CDT
DTSTART:20270314T080000
END:DAYLIGHT
BEGIN:STANDARD
TZOFFSETFROM:-0500
TZOFFSETTO:-0600
TZNAME:CST
DTSTART:20271107T070000
END:STANDARD
END:VTIMEZONE
BEGIN:VEVENT
DTSTART;TZID=America/Chicago:20260523T090000
DTEND;TZID=America/Chicago:20260523T170000
DTSTAMP:20260425T055700
CREATED:20260227T212924Z
LAST-MODIFIED:20260330T204939Z
UID:233135-1779526800-1779555600@midwestoutdoors.com
SUMMARY:Crown Point Gun Show
DESCRIPTION:April 18-19 & May 23-24 & June 27-28 \nCrown Point Gun Show at Lake County Fairgrounds\, 889 S. Court Street\, Crown Point\, IN 46307. \nHours: Saturday 9 a.m. to 5 p.m.\, Sunday 9 a.m. to 3 p.m. \nFor info: Central Indiana Gun Shows\, cigshows@gmail.com\, centralindianagunshows.com.
URL:https://midwestoutdoors.com/event/crown-point-gun-show/2026-05-23/
CATEGORIES:Gun Shows
END:VEVENT
BEGIN:VEVENT
DTSTART;TZID=America/Chicago:20260523T150000
DTEND;TZID=America/Chicago:20260523T200000
DTSTAMP:20260425T055700
CREATED:20260330T203942Z
LAST-MODIFIED:20260330T203942Z
UID:234133-1779548400-1779566400@midwestoutdoors.com
SUMMARY:Chris and Rob’s Iron River Gun Show
DESCRIPTION:May 22-23 \nChris and Rob’s Iron River Gun Show at Iron River Community Center\, 8275 E Mill St.\, Iron River\, WI 54847. \nHours: Friday 3 – 8 p.m.\, Saturday 9 a.m. to 4 p.m. \nAdmission $6\, children 12 and under free. \nFor info: Chris and Rob’s Gun Shows\, Chris Page\, (715) 222-9079.
URL:https://midwestoutdoors.com/event/chris-and-robs-iron-river-gun-show/2026-05-23/
CATEGORIES:Gun Shows
END:VEVENT
BEGIN:VEVENT
DTSTART;TZID=America/Chicago:20260524T090000
DTEND;TZID=America/Chicago:20260524T150000
DTSTAMP:20260425T055700
CREATED:20260227T212924Z
LAST-MODIFIED:20260330T204939Z
UID:233139-1779613200-1779634800@midwestoutdoors.com
SUMMARY:Crown Point Gun Show
DESCRIPTION:April 18-19 & May 23-24 & June 27-28 \nCrown Point Gun Show at Lake County Fairgrounds\, 889 S. Court Street\, Crown Point\, IN 46307. \nHours: Saturday 9 a.m. to 5 p.m.\, Sunday 9 a.m. to 3 p.m. \nFor info: Central Indiana Gun Shows\, cigshows@gmail.com\, centralindianagunshows.com.
URL:https://midwestoutdoors.com/event/crown-point-gun-show/2026-05-24/
CATEGORIES:Gun Shows
END:VEVENT
BEGIN:VEVENT
DTSTART;TZID=America/Chicago:20260529T150000
DTEND;TZID=America/Chicago:20260529T200000
DTSTAMP:20260425T055700
CREATED:20260330T204151Z
LAST-MODIFIED:20260330T204151Z
UID:234138-1780066800-1780084800@midwestoutdoors.com
SUMMARY:Rib Lake Gun Show
DESCRIPTION:May 29-30 \nRib Lake Gun Show at Ice Age Pavilion\, 847 Fayette Ave.\, Rib Lake\, WI 54470. \nHours: Friday 3 – 8 p.m.\, Saturday 9 a.m. to 4 p.m. \nFree admission. \nFor info: Ice Age Days\, Jennifer M Baker\, ardixiegirl88@yahoo.com.
URL:https://midwestoutdoors.com/event/rib-lake-gun-show-2/2026-05-29/
CATEGORIES:Gun Shows
END:VEVENT
BEGIN:VEVENT
DTSTART;TZID=America/Chicago:20260530T070000
DTEND;TZID=America/Chicago:20260530T160000
DTSTAMP:20260425T055700
CREATED:20260330T204454Z
LAST-MODIFIED:20260330T204454Z
UID:234147-1780124400-1780156800@midwestoutdoors.com
SUMMARY:IMTT Jake Wolf Memorial at Heidecke Lake
DESCRIPTION:May 30   \nIMTT Jake Wolf Memorial at Heidecke Lake. \nFishing hours: 7 a.m. to 4 p.m. \nTake Off & Return: Main Ramp. \nRegistration: Participants are strongly encouraged to pre-register for this event as the gates at the boat ramp open at 6 a.m. We can handle some registration at 6 a.m.\, but please pre-register if you know you are fishing this event. \nFor info: Phil Gutmann; muske62@comcast.net; 847-204-8286\, illmuskie.com/trail-schedule. \nLake Info: No Launch fee\, No Horsepower Restrictions. Closing Policy: If wind speeds are forecast to be 25mph or above at any time during the day\, Heidecke Lake access to boat fishing will be closed and the tournament will be canceled. \nEntry Fee: $150 per person.
URL:https://midwestoutdoors.com/event/imtt-jake-wolf-memorial-at-heidecke-lake-2/
CATEGORIES:Fishing,Tournaments
END:VEVENT
BEGIN:VEVENT
DTSTART;TZID=America/Chicago:20260530T090000
DTEND;TZID=America/Chicago:20260530T160000
DTSTAMP:20260425T055700
CREATED:20260330T204151Z
LAST-MODIFIED:20260330T204151Z
UID:234142-1780131600-1780156800@midwestoutdoors.com
SUMMARY:Rib Lake Gun Show
DESCRIPTION:May 29-30 \nRib Lake Gun Show at Ice Age Pavilion\, 847 Fayette Ave.\, Rib Lake\, WI 54470. \nHours: Friday 3 – 8 p.m.\, Saturday 9 a.m. to 4 p.m. \nFree admission. \nFor info: Ice Age Days\, Jennifer M Baker\, ardixiegirl88@yahoo.com.
URL:https://midwestoutdoors.com/event/rib-lake-gun-show-2/2026-05-30/
CATEGORIES:Gun Shows
END:VEVENT
BEGIN:VEVENT
DTSTART;TZID=America/Chicago:20260530T090000
DTEND;TZID=America/Chicago:20260530T170000
DTSTAMP:20260425T055700
CREATED:20260330T200321Z
LAST-MODIFIED:20260330T200321Z
UID:234006-1780131600-1780160400@midwestoutdoors.com
SUMMARY:Danville Gun Show
DESCRIPTION:May 30-31 \nDanville Gun Show at Hendricks County Fairgrounds\, 1900 E Main St\, Danville\, IN 46122. \nHours: Saturday 9 a.m. to 5 p.m.\, Sunday 9 a.m. to 3 p.m. \nAdmission $6\, kids 12 and under free. \nFor info: Central Indiana Gun Shows\, (765) 993-8942\,  cigshows@gmail.com\, centralindianagunshows.com.
URL:https://midwestoutdoors.com/event/danville-gun-show-2/2026-05-30/
CATEGORIES:Gun Shows
END:VEVENT
BEGIN:VEVENT
DTSTART;TZID=America/Chicago:20260531T070000
DTEND;TZID=America/Chicago:20260531T070000
DTSTAMP:20260425T055700
CREATED:20260330T195526Z
LAST-MODIFIED:20260330T195526Z
UID:233980-1780210800-1780210800@midwestoutdoors.com
SUMMARY:Rockville Lake Park Catfish Tournament
DESCRIPTION:May 31 \nRockville Lake Park Catfish Tournament in Rockville\, Ind.\, from 7 p.m. to 3 a.m. \nEntry $25 per two-man team; $5  per person Big Fish Pot entry.   \nFor info: rockvillelake.com/fishing-tournaments.
URL:https://midwestoutdoors.com/event/rockville-lake-park-catfish-tournament/
CATEGORIES:Fishing,Tournaments
END:VEVENT
BEGIN:VEVENT
DTSTART;TZID=America/Chicago:20260531T090000
DTEND;TZID=America/Chicago:20260531T150000
DTSTAMP:20260425T055700
CREATED:20260330T200321Z
LAST-MODIFIED:20260330T200321Z
UID:234010-1780218000-1780239600@midwestoutdoors.com
SUMMARY:Danville Gun Show
DESCRIPTION:May 30-31 \nDanville Gun Show at Hendricks County Fairgrounds\, 1900 E Main St\, Danville\, IN 46122. \nHours: Saturday 9 a.m. to 5 p.m.\, Sunday 9 a.m. to 3 p.m. \nAdmission $6\, kids 12 and under free. \nFor info: Central Indiana Gun Shows\, (765) 993-8942\,  cigshows@gmail.com\, centralindianagunshows.com.
URL:https://midwestoutdoors.com/event/danville-gun-show-2/2026-05-31/
CATEGORIES:Gun Shows
END:VEVENT
BEGIN:VEVENT
DTSTART;TZID=America/Chicago:20260601T180000
DTEND;TZID=America/Chicago:20260601T210000
DTSTAMP:20260425T055700
CREATED:20260424T163330Z
LAST-MODIFIED:20260424T163330Z
UID:235125-1780336800-1780347600@midwestoutdoors.com
SUMMARY:Cash for Bass Open Tournament at Lake Orion
DESCRIPTION:June 1 \nCash for Bass Open Tournament at Lake Orion\, Oakland County from 6 to 9 p.m. \nFor info: Brian Belevender\, 248-361-6372\, Bblevender@yahoo.com.
URL:https://midwestoutdoors.com/event/cash-for-bass-open-tournament-at-lake-orion/
CATEGORIES:Fishing,Tournaments
END:VEVENT
BEGIN:VEVENT
DTSTART;TZID=America/Chicago:20260601T180000
DTEND;TZID=America/Chicago:20260601T210000
DTSTAMP:20260425T055700
CREATED:20260424T163518Z
LAST-MODIFIED:20260424T163518Z
UID:235130-1780336800-1780347600@midwestoutdoors.com
SUMMARY:Central Michigan Bass Tournament
DESCRIPTION:June 1 \nCentral Michigan Bass Tournament at Morrison Lake\, Waffle Farm Campground in Branch County. \nHours: 6 to 9 p.m. \nFor info: Aaron Hasse\, 517-899-9286\, aaron.hassea@gmail.com.
URL:https://midwestoutdoors.com/event/central-michigan-bass-tournament/
CATEGORIES:Fishing,Tournaments
END:VEVENT
BEGIN:VEVENT
DTSTART;TZID=America/Chicago:20260602T080000
DTEND;TZID=America/Chicago:20260602T120000
DTSTAMP:20260425T055700
CREATED:20260424T164143Z
LAST-MODIFIED:20260424T164143Z
UID:235135-1780387200-1780401600@midwestoutdoors.com
SUMMARY:Cash for Bass Open Tournament at Union Lake
DESCRIPTION:June 2 \nCash for Bass Open Tournament at Union Lake in Oakland County. \nHours: 8 a.m. to 12 p.m. \nFor info: Brian Belevender\, 810-875-4275\, Bblevender@yahoo.com.
URL:https://midwestoutdoors.com/event/cash-for-bass-open-tournament-at-union-lake/
CATEGORIES:Fishing,Tournaments
END:VEVENT
BEGIN:VEVENT
DTSTART;TZID=America/Chicago:20260604T170000
DTEND;TZID=America/Chicago:20260604T203000
DTSTAMP:20260425T055700
CREATED:20260424T194251Z
LAST-MODIFIED:20260424T194251Z
UID:235228-1780592400-1780605000@midwestoutdoors.com
SUMMARY:Protackle Week Night Series Bass Tournaments at Wawasee
DESCRIPTION:June 4\, 11\, 25 \nProtackle Week Night Series Bass Tournaments at Wawasee Lake\, DNR Ramp\, from 5 – 8:30 p.m.   \nEntry: $30 per team membership; $50 includes big bass. \nFor info: Joe Hammond\, 574-551-2920\, layklover@yahoo.com.
URL:https://midwestoutdoors.com/event/protackle-week-night-series-bass-tournaments-at-wawasee/2026-06-04/
CATEGORIES:Fishing,Tournaments
END:VEVENT
BEGIN:VEVENT
DTSTART;VALUE=DATE:20260606
DTEND;VALUE=DATE:20260607
DTSTAMP:20260425T055700
CREATED:20260424T194602Z
LAST-MODIFIED:20260424T194602Z
UID:235241-1780704000-1780790399@midwestoutdoors.com
SUMMARY:Weekend Anglers Bass Tournament at Barbee Lake
DESCRIPTION:June 6 \nWeekend Anglers Bass Tournament at Barbee Lake\, Kuhn Ramp. \nEntry: $75\, includes Big Bass. No Membership Fee. 50/50 raffle towards Classic payout. \nFor info: Mark Weaver\, mjweaver4010@gmail.com.
URL:https://midwestoutdoors.com/event/weekend-anglers-bass-tournament-at-barbee-lake/
CATEGORIES:Fishing,Tournaments
END:VEVENT
BEGIN:VEVENT
DTSTART;TZID=America/Chicago:20260606T060000
DTEND;TZID=America/Chicago:20260606T130000
DTSTAMP:20260425T055700
CREATED:20260424T164620Z
LAST-MODIFIED:20260424T164620Z
UID:235145-1780725600-1780750800@midwestoutdoors.com
SUMMARY:Casting Couples Bass Tournament at Corey Lake
DESCRIPTION:June 6 \nCasting Couples Bass Tournament at Corey Lake in Cass County\, from 6 a.m. to 1 p.m. \nMust be 1-male & 1-female\, $60-entry\, $40-membership\, 5-fish limit\, Harwood lake included. \nFor info: Rick Kedik\, 269-240-4917\, kedik13@yahoo.com.
URL:https://midwestoutdoors.com/event/casting-couples-bass-tournament-at-corey-lake/
CATEGORIES:Fishing,Tournaments
END:VEVENT
BEGIN:VEVENT
DTSTART;TZID=America/Chicago:20260606T060000
DTEND;TZID=America/Chicago:20260606T140000
DTSTAMP:20260425T055700
CREATED:20260424T164354Z
LAST-MODIFIED:20260424T164354Z
UID:235140-1780725600-1780754400@midwestoutdoors.com
SUMMARY:JCBA Spring Open Bass Tournament at Wamplers
DESCRIPTION:June 6 \nJCBA Spring Open Bass Tournament at Wamplers Lake in Lenawee County \nHours: 6 a.m. to 2 p.m. \nFor info: Glenn Schramm\, 517-764-2304\, glennschramm@yahoo.com.
URL:https://midwestoutdoors.com/event/jcba-spring-open-bass-tournament-at-wamplers/
CATEGORIES:Fishing,Tournaments
END:VEVENT
BEGIN:VEVENT
DTSTART;TZID=America/Chicago:20260606T070000
DTEND;TZID=America/Chicago:20260606T140000
DTSTAMP:20260425T055700
CREATED:20260330T201559Z
LAST-MODIFIED:20260330T201559Z
UID:234044-1780729200-1780754400@midwestoutdoors.com
SUMMARY:Kiddie Pole Fishing Tournament at North Twin Lake
DESCRIPTION:June 6 \nKiddie Pole Fishing Tournament at North Twin Lake\, N Twin Lake Landing Rd.\, Phelps\, WI 54554. \nHours: 7 a.m. to 2 p.m. \nSee what you can catch on a kiddie pole! Multi-species tournament for all ages with awards lunch after. \nFor info: phelpswi.us.
URL:https://midwestoutdoors.com/event/kiddie-pole-fishing-tournament-at-north-twin-lake/
CATEGORIES:Fishing,Tournaments
END:VEVENT
BEGIN:VEVENT
DTSTART;TZID=America/Chicago:20260606T070000
DTEND;TZID=America/Chicago:20260606T170000
DTSTAMP:20260425T055700
CREATED:20260330T202046Z
LAST-MODIFIED:20260330T202046Z
UID:234049-1780729200-1780765200@midwestoutdoors.com
SUMMARY:Spring Classic Musky Tournament
DESCRIPTION:June 6-7 \nSpring Classic Musky Tournament on the Eagle River Chain. \nFrom  7 a.m. – 5 p.m. Registration at Shotskis. \nFor info: Headwaters Chapter Muskies Inc.\, 715-891-6303\, headwatersmuskiesinc.com.
URL:https://midwestoutdoors.com/event/spring-classic-musky-tournament/2026-06-06/
CATEGORIES:Fishing,Tournaments
END:VEVENT
BEGIN:VEVENT
DTSTART;TZID=America/Chicago:20260606T080000
DTEND;TZID=America/Chicago:20260606T160000
DTSTAMP:20260425T055700
CREATED:20260330T202309Z
LAST-MODIFIED:20260330T202309Z
UID:234060-1780732800-1780761600@midwestoutdoors.com
SUMMARY:31st Annual Fishing Has No Boundaries at Chanticleer Inn
DESCRIPTION:June 6-7 \n31st Annual Fishing Has No Boundaries at Chanticleer Inn\, 1458 E. Dollar Lake Rd.\, Eagle River WI\, 54521. \nHours: 8 a.m. to 4 p.m. \nThis is a non-profit organization that provides recreational fishing opportunities for all anglers with disabilities regardless of age\, race or gender. \nFor info: 715-479-9309\, wbc1@newnorth.net\, or 715-891-5574  promusky@live.com\, promusky.com.
URL:https://midwestoutdoors.com/event/31st-annual-fishing-has-no-boundaries-at-chanticleer-inn/2026-06-06/
CATEGORIES:Fishing
END:VEVENT
BEGIN:VEVENT
DTSTART;TZID=America/Chicago:20260606T090000
DTEND;TZID=America/Chicago:20260606T140000
DTSTAMP:20260425T055700
CREATED:20260330T201400Z
LAST-MODIFIED:20260330T201400Z
UID:234039-1780736400-1780754400@midwestoutdoors.com
SUMMARY:Lake Geneva Fishing Club’s 35th Annual Kids Day
DESCRIPTION:June 6 \nLake Geneva Fishing Club’s 35th Annual Kids Day at Big Foot Beach State Park\, Lake Geneva\, WI\, from 9 a.m. to 2 p.m. \nKids must be accompanied by a responsible adult. \nWill provide a free lunch\, snack and beverage for kids up to age 15 while supplies last. Prizes for all kids while quantities last. Bring your own tackle or the club loaners and bait while supplies last. \nFor info: lakegenevafishingclub.com.
URL:https://midwestoutdoors.com/event/lake-geneva-fishing-clubs-35th-annual-kids-day/
CATEGORIES:Fishing,Tournaments
END:VEVENT
BEGIN:VEVENT
DTSTART;TZID=America/Chicago:20260606T090000
DTEND;TZID=America/Chicago:20260606T170000
DTSTAMP:20260425T055700
CREATED:20260424T170925Z
LAST-MODIFIED:20260424T170925Z
UID:235160-1780736400-1780765200@midwestoutdoors.com
SUMMARY:The Original Grand Rapids Gun & Knife Show
DESCRIPTION:June 6-7 & August 1-2 \nThe Original Grand Rapids Gun & Knife Show at Rogers Plaza\, 972 28th Street\, Wyoming\, MI 49509. \nHours: Saturday 9 a.m. to 5 p.m.\, Sunday 10 a.m. to 3 p.m. \nAdmission $8. \nFor info: Sport Shows Promotions\, sportshows@gmail.com\, migunshow.com.
URL:https://midwestoutdoors.com/event/the-original-grand-rapids-gun-knife-show/2026-06-06/
CATEGORIES:Gun Shows
END:VEVENT
BEGIN:VEVENT
DTSTART;TZID=America/Chicago:20260606T090000
DTEND;TZID=America/Chicago:20260606T170000
DTSTAMP:20260425T055700
CREATED:20260424T202150Z
LAST-MODIFIED:20260424T202150Z
UID:235276-1780736400-1780765200@midwestoutdoors.com
SUMMARY:Evansville Gun Show
DESCRIPTION:June 6-7 \nEvansville Gun Show at Vanderburgh 4-H Center\, 201 E Boonville-New Harmony Rd.\, Evansville\, IN 47725. \nHours: Saturday 9 a.m. to 5 p.m.\, Sunday 9 a.m. to 3 p.m. \nAdmission $6\, children 12 and under free. \nFor info: Central Indiana Gun Shows\, Dan Hedger\, (765) 993-8942\, cigshows@gmail.com\, centralindianagunshows.com.
URL:https://midwestoutdoors.com/event/evansville-gun-show-3/2026-06-06/
CATEGORIES:Gun Shows
END:VEVENT
BEGIN:VEVENT
DTSTART;TZID=America/Chicago:20260607T070000
DTEND;TZID=America/Chicago:20260607T150000
DTSTAMP:20260425T055700
CREATED:20260330T202445Z
LAST-MODIFIED:20260330T202445Z
UID:234069-1780815600-1780844400@midwestoutdoors.com
SUMMARY:Geneva Lake Veterans Fishing Derby
DESCRIPTION:June 7 \nGeneva Lake Veterans Fishing Derby at Gordy’s Boat House\, Fontana-on-Geneva Lake\, Wis.\, from 7 a.m. to 3 p.m. \nFor info and sponsorships: Sam Veith 262-758-4439\, sam@fishingforgood.org.
URL:https://midwestoutdoors.com/event/geneva-lake-veterans-fishing-derby/
CATEGORIES:Fishing,Tournaments
END:VEVENT
BEGIN:VEVENT
DTSTART;TZID=America/Chicago:20260607T070000
DTEND;TZID=America/Chicago:20260607T170000
DTSTAMP:20260425T055700
CREATED:20260330T202046Z
LAST-MODIFIED:20260330T202046Z
UID:234055-1780815600-1780851600@midwestoutdoors.com
SUMMARY:Spring Classic Musky Tournament
DESCRIPTION:June 6-7 \nSpring Classic Musky Tournament on the Eagle River Chain. \nFrom  7 a.m. – 5 p.m. Registration at Shotskis. \nFor info: Headwaters Chapter Muskies Inc.\, 715-891-6303\, headwatersmuskiesinc.com.
URL:https://midwestoutdoors.com/event/spring-classic-musky-tournament/2026-06-07/
CATEGORIES:Fishing,Tournaments
END:VEVENT
BEGIN:VEVENT
DTSTART;TZID=America/Chicago:20260607T080000
DTEND;TZID=America/Chicago:20260607T160000
DTSTAMP:20260425T055700
CREATED:20260330T202309Z
LAST-MODIFIED:20260330T202309Z
UID:234064-1780819200-1780848000@midwestoutdoors.com
SUMMARY:31st Annual Fishing Has No Boundaries at Chanticleer Inn
DESCRIPTION:June 6-7 \n31st Annual Fishing Has No Boundaries at Chanticleer Inn\, 1458 E. Dollar Lake Rd.\, Eagle River WI\, 54521. \nHours: 8 a.m. to 4 p.m. \nThis is a non-profit organization that provides recreational fishing opportunities for all anglers with disabilities regardless of age\, race or gender. \nFor info: 715-479-9309\, wbc1@newnorth.net\, or 715-891-5574  promusky@live.com\, promusky.com.
URL:https://midwestoutdoors.com/event/31st-annual-fishing-has-no-boundaries-at-chanticleer-inn/2026-06-07/
CATEGORIES:Fishing
END:VEVENT
BEGIN:VEVENT
DTSTART;TZID=America/Chicago:20260607T090000
DTEND;TZID=America/Chicago:20260607T150000
DTSTAMP:20260425T055700
CREATED:20260424T202150Z
LAST-MODIFIED:20260424T202150Z
UID:235280-1780822800-1780844400@midwestoutdoors.com
SUMMARY:Evansville Gun Show
DESCRIPTION:June 6-7 \nEvansville Gun Show at Vanderburgh 4-H Center\, 201 E Boonville-New Harmony Rd.\, Evansville\, IN 47725. \nHours: Saturday 9 a.m. to 5 p.m.\, Sunday 9 a.m. to 3 p.m. \nAdmission $6\, children 12 and under free. \nFor info: Central Indiana Gun Shows\, Dan Hedger\, (765) 993-8942\, cigshows@gmail.com\, centralindianagunshows.com.
URL:https://midwestoutdoors.com/event/evansville-gun-show-3/2026-06-07/
CATEGORIES:Gun Shows
END:VEVENT
BEGIN:VEVENT
DTSTART;TZID=America/Chicago:20260607T100000
DTEND;TZID=America/Chicago:20260607T150000
DTSTAMP:20260425T055700
CREATED:20260424T170925Z
LAST-MODIFIED:20260424T170925Z
UID:235164-1780826400-1780844400@midwestoutdoors.com
SUMMARY:The Original Grand Rapids Gun & Knife Show
DESCRIPTION:June 6-7 & August 1-2 \nThe Original Grand Rapids Gun & Knife Show at Rogers Plaza\, 972 28th Street\, Wyoming\, MI 49509. \nHours: Saturday 9 a.m. to 5 p.m.\, Sunday 10 a.m. to 3 p.m. \nAdmission $8. \nFor info: Sport Shows Promotions\, sportshows@gmail.com\, migunshow.com.
URL:https://midwestoutdoors.com/event/the-original-grand-rapids-gun-knife-show/2026-06-07/
CATEGORIES:Gun Shows
END:VEVENT
BEGIN:VEVENT
DTSTART;TZID=America/Chicago:20260611T170000
DTEND;TZID=America/Chicago:20260611T203000
DTSTAMP:20260425T055700
CREATED:20260424T194251Z
LAST-MODIFIED:20260424T194251Z
UID:235232-1781197200-1781209800@midwestoutdoors.com
SUMMARY:Protackle Week Night Series Bass Tournaments at Wawasee
DESCRIPTION:June 4\, 11\, 25 \nProtackle Week Night Series Bass Tournaments at Wawasee Lake\, DNR Ramp\, from 5 – 8:30 p.m.   \nEntry: $30 per team membership; $50 includes big bass. \nFor info: Joe Hammond\, 574-551-2920\, layklover@yahoo.com.
URL:https://midwestoutdoors.com/event/protackle-week-night-series-bass-tournaments-at-wawasee/2026-06-11/
CATEGORIES:Fishing,Tournaments
END:VEVENT
BEGIN:VEVENT
DTSTART;TZID=America/Chicago:20260611T190000
DTEND;TZID=America/Chicago:20260611T210000
DTSTAMP:20260425T055700
CREATED:20170322T195953Z
LAST-MODIFIED:20170322T195953Z
UID:229073-1781204400-1781211600@midwestoutdoors.com
SUMMARY:Quad County Hawg Hunters Chapter of Muskies Inc.
DESCRIPTION:Quad County Hawg Hunters Chapter of Muskies Inc.—We meet the second Thursday of every month 7 p.m. at the Cedardell Golf Club\, 14264  Hale St.\, Plano\, IL. 60545 \nWe occasionally have a speaker with raffle prize and door prize. Anyone is welcome. Contact Duane 815-761-5182. \n.
URL:https://midwestoutdoors.com/event/quad-county-hawg-hunters-chapter-of-muskies-inc/2026-06-11/
LOCATION:Cedardell Golf Club\, 14264 Hale St.\, Plano\, IL\, 60545\, United States
CATEGORIES:Clubs & Organizations,Fishing
GEO:41.6614041;-88.5300607
X-APPLE-STRUCTURED-LOCATION;VALUE=URI;X-ADDRESS=Cedardell Golf Club 14264 Hale St. Plano IL 60545 United States;X-APPLE-RADIUS=500;X-TITLE=14264 Hale St.:geo:-88.5300607,41.6614041
END:VEVENT
BEGIN:VEVENT
DTSTART;TZID=America/Chicago:20260612T140000
DTEND;TZID=America/Chicago:20260612T190000
DTSTAMP:20260425T055700
CREATED:20260424T202403Z
LAST-MODIFIED:20260424T202403Z
UID:235285-1781272800-1781290800@midwestoutdoors.com
SUMMARY:Indy 1500 Gun & Blade Show
DESCRIPTION:June 12-14 \nIndy 1500 Gun & Blade Show at Indiana State Fairgrounds\, South Pavilion Building\, 1202 East 38th Street\,  Indianapolis\, IN 46205. \nHours: Friday 2 – 7 p.m.\, Saturday 9 a.m. to 6 p.m. Sunday 9 a.m. to 4 p.m. \nAdmission $15\, good all weekend.   \nFor info: Indy 1500.com\, (405) 408-6197\, indy1500.com.
URL:https://midwestoutdoors.com/event/indy-1500-gun-blade-show-2/2026-06-12/
CATEGORIES:Gun Shows
END:VEVENT
END:VCALENDAR