BEGIN:VCALENDAR
VERSION:2.0
PRODID:-//MidWest Outdoors - ECPv6.15.9//NONSGML v1.0//EN
CALSCALE:GREGORIAN
METHOD:PUBLISH
X-WR-CALNAME:MidWest Outdoors
X-ORIGINAL-URL:https://midwestoutdoors.com
X-WR-CALDESC:Events for MidWest Outdoors
REFRESH-INTERVAL;VALUE=DURATION:PT1H
X-Robots-Tag:noindex
X-PUBLISHED-TTL:PT1H
BEGIN:VTIMEZONE
TZID:America/Chicago
BEGIN:DAYLIGHT
TZOFFSETFROM:-0600
TZOFFSETTO:-0500
TZNAME:CDT
DTSTART:20210314T080000
END:DAYLIGHT
BEGIN:STANDARD
TZOFFSETFROM:-0500
TZOFFSETTO:-0600
TZNAME:CST
DTSTART:20211107T070000
END:STANDARD
BEGIN:DAYLIGHT
TZOFFSETFROM:-0600
TZOFFSETTO:-0500
TZNAME:CDT
DTSTART:20220313T080000
END:DAYLIGHT
BEGIN:STANDARD
TZOFFSETFROM:-0500
TZOFFSETTO:-0600
TZNAME:CST
DTSTART:20221106T070000
END:STANDARD
BEGIN:DAYLIGHT
TZOFFSETFROM:-0600
TZOFFSETTO:-0500
TZNAME:CDT
DTSTART:20230312T080000
END:DAYLIGHT
BEGIN:STANDARD
TZOFFSETFROM:-0500
TZOFFSETTO:-0600
TZNAME:CST
DTSTART:20231105T070000
END:STANDARD
BEGIN:DAYLIGHT
TZOFFSETFROM:-0600
TZOFFSETTO:-0500
TZNAME:CDT
DTSTART:20240310T080000
END:DAYLIGHT
BEGIN:STANDARD
TZOFFSETFROM:-0500
TZOFFSETTO:-0600
TZNAME:CST
DTSTART:20241103T070000
END:STANDARD
BEGIN:DAYLIGHT
TZOFFSETFROM:-0600
TZOFFSETTO:-0500
TZNAME:CDT
DTSTART:20250309T080000
END:DAYLIGHT
BEGIN:STANDARD
TZOFFSETFROM:-0500
TZOFFSETTO:-0600
TZNAME:CST
DTSTART:20251102T070000
END:STANDARD
BEGIN:DAYLIGHT
TZOFFSETFROM:-0600
TZOFFSETTO:-0500
TZNAME:CDT
DTSTART:20260308T080000
END:DAYLIGHT
BEGIN:STANDARD
TZOFFSETFROM:-0500
TZOFFSETTO:-0600
TZNAME:CST
DTSTART:20261101T070000
END:STANDARD
END:VTIMEZONE
BEGIN:VEVENT
DTSTART;TZID=America/Chicago:20250503T060000
DTEND;TZID=America/Chicago:20250503T160000
DTSTAMP:20260421T152242
CREATED:20250324T165601Z
LAST-MODIFIED:20250324T165601Z
UID:215603-1746252000-1746288000@midwestoutdoors.com
SUMMARY:Renegade RBT Div. 10 Open Tournament at Lake Cumberland
DESCRIPTION:May 3 & 17 \nRenegade RBT Tournaments Division 10 Open Tournament at Lake Cumberland\, Conley Bottom Resort Ramp\, from 6 a.m. to 4 p.m. \nFor info: Jordan Crabtree\, tcrabtree25@outlook.com\, 270-459-0659\, renegadebasstournaments.com.
URL:https://midwestoutdoors.com/event/renegade-rbt-div-10-open-tournament-at-lake-cumberland/2025-05-03/
CATEGORIES:Fishing,Tournaments
END:VEVENT
BEGIN:VEVENT
DTSTART;TZID=America/Chicago:20250503T060000
DTEND;TZID=America/Chicago:20250503T143000
DTSTAMP:20260421T152242
CREATED:20250324T165335Z
LAST-MODIFIED:20250324T165335Z
UID:215598-1746252000-1746282600@midwestoutdoors.com
SUMMARY:Anglers Outpost NTBA Division Open Tournament at Nolin River Lake
DESCRIPTION:May 3 \nNTBA Flag Division\, Anglers Outpost NTBA Division Open Tournament at Nolin River Lake\, Moutardier Ramp\, from 6 a.m. to 2:30 p.m. \nFor info: Christopher Thomas O’Bryan\, fastnflyin@hotmail.com\, 270-445-1340\, boatwithcaptainchris.com.
URL:https://midwestoutdoors.com/event/anglers-outpost-ntba-division-open-tournament-at-nolin-river-lake/
CATEGORIES:Fishing,Tournaments
END:VEVENT
BEGIN:VEVENT
DTSTART;TZID=America/Chicago:20250503T060000
DTEND;TZID=America/Chicago:20250503T140000
DTSTAMP:20260421T152242
CREATED:20250324T192431Z
LAST-MODIFIED:20250324T192431Z
UID:215688-1746252000-1746280800@midwestoutdoors.com
SUMMARY:I Bass Open Tournament at East Okoboji Lake
DESCRIPTION:May 3 \nI Bass Open Tournament at East Okoboji Lake\, Arnolds Park\, IA\, from 6 a.m. to 2 p.m. \nFor info: (515) 297-2501\, j.winkler101@gmail.com. 
URL:https://midwestoutdoors.com/event/i-bass-open-tournament-at-east-okoboji-lake/
CATEGORIES:Fishing,Tournaments
END:VEVENT
BEGIN:VEVENT
DTSTART;TZID=America/Chicago:20250503T050000
DTEND;TZID=America/Chicago:20250503T170000
DTSTAMP:20260421T152242
CREATED:20250324T200532Z
LAST-MODIFIED:20250324T200532Z
UID:215710-1746248400-1746291600@midwestoutdoors.com
SUMMARY:MINK Pipe Trades Bass Tournament at Lake of the Ozarks
DESCRIPTION:May 3 \nMINK Pipe Trades Bass Tournament at Lake of the Ozarks\, Rock Harbor Resort\, from 5 a.m. to 5 p.m. \nFor info:  515-558-0483.
URL:https://midwestoutdoors.com/event/mink-pipe-trades-bass-tournament-at-lake-of-the-ozarks/
CATEGORIES:Fishing,Tournaments
END:VEVENT
BEGIN:VEVENT
DTSTART;TZID=America/Chicago:20250503T050000
DTEND;TZID=America/Chicago:20250503T150000
DTSTAMP:20260421T152242
CREATED:20250324T200735Z
LAST-MODIFIED:20250324T200735Z
UID:215715-1746248400-1746284400@midwestoutdoors.com
SUMMARY:Angler’s Choice Bass Team Tournament at Miss. River Pool 13
DESCRIPTION:May 3 \nAngler’s Choice Bass Team Tournament at Mississippi River Pool 13 at Savanna\, Sabula\, IA. \nHours: 5 a.m. to 3 p.m. \nFor info: Angler’s Choice Tournament Trail\, (309) 781-0554\, ariel.f.mathias@gmail.com.
URL:https://midwestoutdoors.com/event/anglers-choice-bass-team-tournament-at-miss-river-pool-13/
CATEGORIES:Fishing,Tournaments
END:VEVENT
BEGIN:VEVENT
DTSTART;TZID=America/Chicago:20250503T000000
DTEND;TZID=America/Chicago:20250504T120000
DTSTAMP:20260421T152242
CREATED:20250324T192652Z
LAST-MODIFIED:20250324T192652Z
UID:215693-1746230400-1746360000@midwestoutdoors.com
SUMMARY:Iowa Great Lakes Walleye Weekend at West Okoboji Lake
DESCRIPTION:May 3-4 \n42nd Annual Iowa Great Lakes Walleye Weekend at West Okoboji Lake\,  Milford\, IA. \nHours: Saturday at midnight to Sunday 12 p.m. \nFor info: Iowa Great Lakes Area Chamber of Commerce\, (712) 332-2107\,  blain@okobojichamber.com\, okobojichamber.com/walleye-weekend.
URL:https://midwestoutdoors.com/event/iowa-great-lakes-walleye-weekend-at-west-okoboji-lake/
CATEGORIES:Fishing,Tournaments
END:VEVENT
BEGIN:VEVENT
DTSTART;VALUE=DATE:20250503
DTEND;VALUE=DATE:20250504
DTSTAMP:20260421T152242
CREATED:20250324T152040Z
LAST-MODIFIED:20250324T152040Z
UID:215507-1746230400-1746316799@midwestoutdoors.com
SUMMARY:Weekend Angler Open Bass Tournament Circuit at Barbee Lake
DESCRIPTION:May 3 \nWeekend Angler Open Bass Tournament Circuit at Barbee Lake\, Kuhn Ramp. \nEntry $75 includes Big Bass. \nNo Membership Fee. \nFor info: Mark Weaver\, mjweaver4010@gmail.com.
URL:https://midwestoutdoors.com/event/weekend-angler-open-bass-tournament-circuit-at-barbee-lake/
CATEGORIES:Fishing,Tournaments
END:VEVENT
BEGIN:VEVENT
DTSTART;TZID=America/Chicago:20250502T180000
DTEND;TZID=America/Chicago:20250502T220000
DTSTAMP:20260421T152242
CREATED:20250324T164708Z
LAST-MODIFIED:20250324T164708Z
UID:215571-1746208800-1746223200@midwestoutdoors.com
SUMMARY:Friday Night 3 Keepers Open Bass Tournament at Taylorsville Lake
DESCRIPTION:May 2\, 9\, 16 & 30 \nFriday Night 3 Keepers Open Bass Tournament at Taylorsville Lake at the Possum Ridge Ramp (State Park Ramp) from 6 to 10 p.m. \nFor info: Wade Randel\,  wrandel@gmail.com\, 502-408-7104.
URL:https://midwestoutdoors.com/event/friday-night-3-keepers-open-bass-tournament-at-taylorsville-lake/2025-05-02/
END:VEVENT
BEGIN:VEVENT
DTSTART;TZID=America/Chicago:20250502T150000
DTEND;TZID=America/Chicago:20250502T203000
DTSTAMP:20260421T152242
CREATED:20250324T202136Z
LAST-MODIFIED:20250324T202136Z
UID:215773-1746198000-1746217800@midwestoutdoors.com
SUMMARY:Waterloo Gun Show
DESCRIPTION:May 2-4 \nWaterloo Gun Show at The Hippodrome\, 257 Ansborough Ave.\, Waterloo\, IA 50701. \nHours Friday 3 – 8:30 p.m.\, Saturday 9 a.m. to 5 p.m.\, Sunday 9 a.m. to 3 p.m. \nAdmission $10 good all weekend. \nVendor tables $40 ea. \nFor info: Marv Kraus Promotions\, Marv Kraus\,  (563) 608-4401\, or Andrew Kraus\, (563) 608-2045\, kraus.andrew.ak@gmail.com\, marvkrauspromotions.net.
URL:https://midwestoutdoors.com/event/waterloo-gun-show/2025-05-02/
CATEGORIES:Gun Shows
END:VEVENT
BEGIN:VEVENT
DTSTART;TZID=America/Chicago:20250502T150000
DTEND;TZID=America/Chicago:20250502T200000
DTSTAMP:20260421T152242
CREATED:20250325T164513Z
LAST-MODIFIED:20250325T164513Z
UID:216044-1746198000-1746216000@midwestoutdoors.com
SUMMARY:Cameron Gun & Knife Show
DESCRIPTION:May 2-3 \nCameron Gun & Knife Show at Old Cameron School\, 600 Wisconsin Ave.\, Cameron\, WI 54822. \nHours: Friday 3 – 8 p.m.\, Saturday 9 a.m. to 4 p.m. \nAdmission $5\, children 14 and under free. \nVendor tables $30 ea. \nFor info: Bearing Arms Gun Shows\, Jeff Klugow\, (715) 641-2439\, or Kevin Klugow\, (715) 641-2602.
URL:https://midwestoutdoors.com/event/cameron-gun-knife-show/2025-05-02/
CATEGORIES:Gun Shows
END:VEVENT
BEGIN:VEVENT
DTSTART;TZID=America/Chicago:20250427T130000
DTEND;TZID=America/Chicago:20250427T170000
DTSTAMP:20260421T152242
CREATED:20250219T174626Z
LAST-MODIFIED:20250219T174626Z
UID:213843-1745758800-1745773200@midwestoutdoors.com
SUMMARY:Learn to Shoot Shotguns Workshop in Middleton\, TN
DESCRIPTION:April 27 \nLearn to Shoot Shotguns Workshop at The Clays at Lone Oaks Farm\, 8875 Sain Rd.\, Middleton\, TN 38052. \nHours: 1 – 5 p.m. \nCost: $45 per participant. \nLearn to shoot a shotgun this year and add a new skill to your bag. During this four hour workshop\, you will learn about different types of shotguns\, types of ammunition\, as well as the loading and firing process. \nFor info: Chris Hearn\, chearn@tnwf.org\, (615) 353-1133\, tnwf.org.
URL:https://midwestoutdoors.com/event/learn-to-shoot-shotguns-workshop-in-middleton-tn/
CATEGORIES:Classes,Shoots/Ranges
END:VEVENT
BEGIN:VEVENT
DTSTART;TZID=America/Chicago:20250427T090000
DTEND;TZID=America/Chicago:20250427T150000
DTSTAMP:20260421T152242
CREATED:20250219T212814Z
LAST-MODIFIED:20250219T212814Z
UID:214065-1745744400-1745766000@midwestoutdoors.com
SUMMARY:Big Bear Sportsman’s Club Gun Show
DESCRIPTION:April 27 \nBig Bear Sportsman’s Club Gun Show at Kaleva VFW\, 13300 9 Mile Rd.\, Kaleva\, MI 49645. \nHours: 9 a.m. to 3 p.m. \nAdmission $3\, children under 15 free. \nVendor tables $20 ea. \nFor info: Big Bear Sportsman’s Club\, Dave Somsel\, (231) 499-3471\,  jsomsel@outlook.com\, bigbearsportsmansclub.com. 
URL:https://midwestoutdoors.com/event/big-bear-sportsmans-club-gun-show-2/
CATEGORIES:Gun Shows
END:VEVENT
BEGIN:VEVENT
DTSTART;TZID=America/Chicago:20250426T090000
DTEND;TZID=America/Chicago:20250426T170000
DTSTAMP:20260421T152242
CREATED:20250219T203636Z
LAST-MODIFIED:20250219T203636Z
UID:213977-1745658000-1745686800@midwestoutdoors.com
SUMMARY:Indianapolis Gun Show
DESCRIPTION:April 26-27 \nIndianapolis Gun Show at Stout Field National Guard Armory\, 3912 W Minnesota St.\, Indianapolis\, IN 46241. \nHours: Saturday 9 a.m. to 5 p.m.\, Sunday 9 a.m. to 3 p.m. \nAdmission $6\, children 12 and under free (under 18 must be accompanied by an adult). \nVendor tables $50 ea. \nFor info: Central Indiana Gun Shows\, Dan Hedger\, (765) 993-8942\,  cigshows@gmail.com\, or Brandy Sifford\,  (765) 969-2536\, centralindianagunshows.com.
URL:https://midwestoutdoors.com/event/indianapolis-gun-show-4/2025-04-26/
CATEGORIES:Gun Shows
END:VEVENT
BEGIN:VEVENT
DTSTART;TZID=America/Chicago:20250426T090000
DTEND;TZID=America/Chicago:20250426T170000
DTSTAMP:20260421T152242
CREATED:20250121T193712Z
LAST-MODIFIED:20250121T193712Z
UID:212189-1745658000-1745686800@midwestoutdoors.com
SUMMARY:Pontiac Lake Gun Show
DESCRIPTION:April 26-27 \nPontiac Lake Gun Show at Oakland County Expo Center\, 2212 Mall Dr. E\, Waterford Township\, MI 48328. \nHours: Saturday 9 a.m. – 5 p.m.\, Sunday 9 a.m. – 3 p.m. \nAdmission $10\, children 12 and under free. \nVendor tables $65 ea. \nFor info: JDR Promotions LLC\, Jack Jewell\, (810) 858-0078\,  jackisjewell@gmail.com\, greatlakesgunshows.com.
URL:https://midwestoutdoors.com/event/pontiac-lake-gun-show-2/2025-04-26/
CATEGORIES:Gun Shows
END:VEVENT
BEGIN:VEVENT
DTSTART;TZID=America/Chicago:20250426T090000
DTEND;TZID=America/Chicago:20250426T170000
DTSTAMP:20260421T152242
CREATED:20250121T171634Z
LAST-MODIFIED:20250121T171634Z
UID:212055-1745658000-1745686800@midwestoutdoors.com
SUMMARY:R.K. Knoxville Gun Show
DESCRIPTION:April 26-27 \nR.K. Knoxville Gun Show at Knoxville Expo Center\, 5441 Clinton Hwy\, Knoxville\, TN 37912. \nHours: Saturday 9 a.m. to 5 p.m.\, Sunday 9 a.m. to 4 p.m. \nAdmission $14\, children $5; VIP $16.50\, children $7.50. \nVendor tables $81 ea.\, prepaid $71 ea.\, non-gun tables $100\, electricity $75. \nFor info: R.K. Shows Tennessee\,  (417) 567-2002\, rkshows@yousq.net\, rkshows.com/events/category/tennessee.
URL:https://midwestoutdoors.com/event/r-k-knoxville-gun-show-2/2025-04-26/
CATEGORIES:Gun Shows
END:VEVENT
BEGIN:VEVENT
DTSTART;TZID=America/Chicago:20250426T090000
DTEND;TZID=America/Chicago:20250426T160000
DTSTAMP:20260421T152242
CREATED:20250220T195518Z
LAST-MODIFIED:20250220T195518Z
UID:214432-1745658000-1745683200@midwestoutdoors.com
SUMMARY:National Civil War\, Military\, and Collector Arms Show at DuPage County
DESCRIPTION:April 26 \nNational Civil War\, Military\, and Collector Arms Show at DuPage County Fairgrounds\, 2015 Manchester Rd.\, Wheaton\, IL 60187.   \nHours: 9 a.m. to 4 p.m. \nAdmission $10\, children 12 and under free with paying adult. Early buyers admission $25 ea. (8 a.m.). \nVendor tables $100 ea. \nFor info: Chicago Civil War Show & Sale\, Irene Zurko\, (715) 526-9769\, irenezurko@zurkopromotions.com\, or Tim Zurko\, timzurko@zurkopromotions.com\, chicagocivilwarshow.com.
URL:https://midwestoutdoors.com/event/national-civil-war-military-and-collector-arms-show-at-dupage-county/
CATEGORIES:Gun Shows
END:VEVENT
BEGIN:VEVENT
DTSTART;TZID=America/Chicago:20250426T090000
DTEND;TZID=America/Chicago:20250426T150000
DTSTAMP:20260421T152242
CREATED:20250220T181233Z
LAST-MODIFIED:20250220T181233Z
UID:214403-1745658000-1745679600@midwestoutdoors.com
SUMMARY:Reedsville Gun and Knife Show
DESCRIPTION:April 26 \nReedsville Gun and Knife Show at Reedsville Sportsman Club\, 7015 Pleasantville Rd.\, Reedsville\, WI 54230 \nHours: 9 a.m. to 3 p.m. \nAdmission $5. \nVendor tables $15 ea. \nFor info: Acorn Valley Outfitters\, Mark Laroux\, (920) 427-9601\, mjlaroux@gmail.com.
URL:https://midwestoutdoors.com/event/reedsville-gun-and-knife-show/
CATEGORIES:Gun Shows
END:VEVENT
BEGIN:VEVENT
DTSTART;TZID=America/Chicago:20250426T080000
DTEND;TZID=America/Chicago:20250426T110000
DTSTAMP:20260421T152242
CREATED:20250219T173951Z
LAST-MODIFIED:20250219T173951Z
UID:213833-1745654400-1745665200@midwestoutdoors.com
SUMMARY:Athens Parks and Recreation Youth Fishing Derby
DESCRIPTION:April 26 \nAthens Parks and Recreation Youth Fishing Derby at Athens Regional Park Pond\,  2405 Decatur Pike\, Athens\, TN  37303. \nHours: 8 – 11 a.m. \nFree kids fishing derby for ages 12 and under. Participants do not need a fishing license to participate\, but must bring their own fishing pole and bait\, and be accompanied by a parent or guardian. \nFor info: Matthew Siniard\, msiniard@athenstn.gov\, (423) 462-5723\, www.athenstn.gov. 
URL:https://midwestoutdoors.com/event/athens-parks-and-recreation-youth-fishing-derby/
CATEGORIES:Fishing,Tournaments
END:VEVENT
BEGIN:VEVENT
DTSTART;TZID=America/Chicago:20250426T063000
DTEND;TZID=America/Chicago:20250426T150000
DTSTAMP:20260421T152242
CREATED:20250219T204714Z
LAST-MODIFIED:20250219T204714Z
UID:214005-1745649000-1745679600@midwestoutdoors.com
SUMMARY:Michigan Kayak Trail Stop #1 at Houghton Lake
DESCRIPTION:April 26 \nMichigan Kayak Trail Stop #1 at Houghton Lake West in Roscommon County from 6:30 a.m. to 3 p.m. \nThis is a catch photo release tournament format using TourneyX. \nFor info: 810-955-3223\,  adamdrabekfishing10@gmail.com.
URL:https://midwestoutdoors.com/event/michigan-kayak-trail-stop-1-at-houghton-lake/
CATEGORIES:Fishing,Tournaments
END:VEVENT
BEGIN:VEVENT
DTSTART;TZID=America/Chicago:20250426T060000
DTEND;TZID=America/Chicago:20250426T140000
DTSTAMP:20260421T152242
CREATED:20250219T174201Z
LAST-MODIFIED:20250219T174201Z
UID:213838-1745647200-1745676000@midwestoutdoors.com
SUMMARY:FTF Open Bass Tournament at Barren River Lake
DESCRIPTION:April 26 \nFTF Open Bass Tournament at Barren River Lake\, Port Oliver Ramp\, from 6 a.m. to 2 p.m. \nFor info: Morris Hogue\,  happy_hogue66@yahoo.com\, 270-606-3321.
URL:https://midwestoutdoors.com/event/ftf-open-bass-tournament-at-barren-river-lake-4/
CATEGORIES:Fishing,Tournaments
END:VEVENT
BEGIN:VEVENT
DTSTART;VALUE=DATE:20250426
DTEND;VALUE=DATE:20250427
DTSTAMP:20260421T152242
CREATED:20250219T205037Z
LAST-MODIFIED:20250219T205037Z
UID:214010-1745625600-1745711999@midwestoutdoors.com
SUMMARY:SPM HS Open Bass Tournament at Gun Lake
DESCRIPTION:April 26 \nSPM HS Open Bass Tournament\, SPI West Michigan High School Bass Series at Gun Lake\, Yankee Springs R.A.\, Barry County. \nFor info: 616-990-1075\, ross.graveling@gmail.com\, www.spi-int.org.
URL:https://midwestoutdoors.com/event/spm-hs-open-bass-tournament-at-gun-lake/
CATEGORIES:Fishing,Tournaments
END:VEVENT
BEGIN:VEVENT
DTSTART;TZID=America/Chicago:20250425T150000
DTEND;TZID=America/Chicago:20250425T200000
DTSTAMP:20260421T152242
CREATED:20250220T181048Z
LAST-MODIFIED:20250220T181048Z
UID:214390-1745593200-1745611200@midwestoutdoors.com
SUMMARY:Baraboo Gun Show
DESCRIPTION:April 25-27 \nBaraboo Gun Show at Sauk County Fairgrounds\, 700 Washington Avenue\,  Baraboo\, WI 53913. \nHours: Friday 3 – 8 p.m.\, Saturday 9 a.m. to 5 p.m.\, Sunday 9 a.m. to 3 p.m. \nAdmission $8. \nVendor tables $40 ea. \nFor info: Marv Kraus Promotions\, Marv Kraus\, (563) 608-4401\, or Andrew Kraus\,  (563) 608-2045\, kraus.andrew.ak@gmail.com\, marvkrauspromotions.net.
URL:https://midwestoutdoors.com/event/baraboo-gun-show/2025-04-25/
CATEGORIES:Gun Shows
END:VEVENT
BEGIN:VEVENT
DTSTART;TZID=America/Chicago:20250425T150000
DTEND;TZID=America/Chicago:20250425T200000
DTSTAMP:20260421T152242
CREATED:20250220T180458Z
LAST-MODIFIED:20250220T180458Z
UID:214377-1745593200-1745611200@midwestoutdoors.com
SUMMARY:Ashland Gun & Knife Show
DESCRIPTION:April 25-27 \nAshland Gun & Knife Show at Ashland Civic Center\, 320 4th Street W\, Ashland\, WI 54806. \nHours: Friday 3 – 8 p.m.\, Saturday 9 a.m to 4 p.m.\, Sunday 9 a.m. to 3 p.m. \nAdmission $8\, good for all days. \nVendor tables $45 ea. \nFor info: Ray Kangas Productions\, Ray Kangas\, (715) 372-4654\,  raykaa@cheqnet.net\, (715) 292-8415.
URL:https://midwestoutdoors.com/event/ashland-gun-knife-show/2025-04-25/
CATEGORIES:Gun Shows
END:VEVENT
BEGIN:VEVENT
DTSTART;TZID=America/Chicago:20250425T150000
DTEND;TZID=America/Chicago:20250425T200000
DTSTAMP:20260421T152242
CREATED:20250220T175947Z
LAST-MODIFIED:20250220T175947Z
UID:214359-1745593200-1745611200@midwestoutdoors.com
SUMMARY:Beaver Dam Gun Show
DESCRIPTION:April 25-26 \nBeaver Dam Gun Show at Dodge County Fairgrounds\, Hwy 33\, Beaver Dam\, WI 53916. \nHours: Friday 3 – 8 p.m.\, Saturday 8 a.m. to 3 p.m. \nAdmission $8\, vets free. \nVendor tables $40 ea. \nFor info: Freedom Firearms\, Thomas Hein\, (414) 430-7617\, concealcarrynow@gmail.com\, or Troy\, (715) 460-4454\, freedomfirearmsnow.com.
URL:https://midwestoutdoors.com/event/beaver-dam-gun-show/2025-04-25/
CATEGORIES:Gun Shows
END:VEVENT
BEGIN:VEVENT
DTSTART;TZID=America/Chicago:20250425T120000
DTEND;TZID=America/Chicago:20250425T200000
DTSTAMP:20260421T152242
CREATED:20250220T180233Z
LAST-MODIFIED:20250220T180233Z
UID:214368-1745582400-1745611200@midwestoutdoors.com
SUMMARY:Viroqua Gun\, Ammunition & Accessory Show
DESCRIPTION:April 25-26 \nViroqua Gun\, Ammunition & Accessory Show at Vernon County Fairgrounds\, Expo Building\, 210 Fairgrounds Rd.\, Viroqua\, WI 54665. \nHours: Friday 12 – 8 p.m.\, Saturday 8 a.m. to 2 p.m. \nAdmission $5\, good for both days. \nVendor tables $30 ea. For info: Gun Buyer Gun Shows\, B.J. Keating\, (608) 548-4867\, keating84@ymail.com. 
URL:https://midwestoutdoors.com/event/viroqua-gun-ammunition-accessory-show/2025-04-25/
CATEGORIES:Gun Shows
END:VEVENT
BEGIN:VEVENT
DTSTART;TZID=America/Chicago:20250424T060000
DTEND;TZID=America/Chicago:20250424T090000
DTSTAMP:20260421T152242
CREATED:20250219T204544Z
LAST-MODIFIED:20250219T204544Z
UID:214000-1745474400-1745485200@midwestoutdoors.com
SUMMARY:Topwater League Tournament Series - GR North
DESCRIPTION:April 24 \nTopwater League Tournament Series – GR North – West Michigan\, at Pickerel Lake\, Newaygo County. \nHours: 6 – 9 a.m. \nFor info: Cody@topwaterseries.com\, facebook.com/groups/327927407817613.
URL:https://midwestoutdoors.com/event/topwater-league-tournament-series-gr-north/
CATEGORIES:Fishing,Tournaments
END:VEVENT
BEGIN:VEVENT
DTSTART;TZID=America/Chicago:20250405T090000
DTEND;TZID=America/Chicago:20250520T170000
DTSTAMP:20260421T152242
CREATED:20250219T175327Z
LAST-MODIFIED:20250219T175327Z
UID:213866-1743843600-1747760400@midwestoutdoors.com
SUMMARY:Elizabethtown Gun & Knife Show
DESCRIPTION:April 5-6 \nElizabethtown Gun & Knife Show at Pritchard Community Center\, 404 S Mulberry St.\, Elizabethtown\, KY 42701. \nHours: Saturday 9 a.m. to 5 p.m.\, Sunday 10 a.m. to 4 p.m. \nAdmission $10\, veterans $5. \nVendor tables $50 ea. \nFor info: A.G. Gun Shows\, Anthony Giordano\, (423) 664-2715\, aggunshows@yahoo.com\, aggunshows.com.
URL:https://midwestoutdoors.com/event/elizabethtown-gun-knife-show-3/2025-04-05/
CATEGORIES:Gun Shows
END:VEVENT
BEGIN:VEVENT
DTSTART;TZID=America/Chicago:20221214T070000
DTEND;TZID=America/Chicago:20221214T210000
DTSTAMP:20260421T152242
CREATED:20221214T181602Z
LAST-MODIFIED:20240923T162124Z
UID:173920-1671001200-1671051600@midwestoutdoors.com
SUMMARY:Fox River Valley Chapter of Muskies Inc.
DESCRIPTION:The Fox River Valley Chapter of Muskies Inc.\, meet at 7 p.m.\, the 3rd Wednesday of the month (except June – August) at Chandlers Chophouse\, Schaumburg CC\, 401 N. Roselle Rd\, Schaumburg\, IL.  \nContact Pres. Dan Koniewicz\, 847-682-9238\, dskdlk@comcast.net.
URL:https://midwestoutdoors.com/event/fox-river-valley-chapter-of-muskies-inc/2022-12-14/
LOCATION:Chandlers Chophouse\, 401 N. Roselle Rd\, Schaumburg\, IL\, United States
CATEGORIES:Clubs & Organizations,Fishing
ORGANIZER;CN="Dan Koniewicz":MAILTO:dskdlk@comcast.net
GEO:42.0348381;-88.0748461
X-APPLE-STRUCTURED-LOCATION;VALUE=URI;X-ADDRESS=Chandlers Chophouse 401 N. Roselle Rd Schaumburg IL United States;X-APPLE-RADIUS=500;X-TITLE=401 N. Roselle Rd:geo:-88.0748461,42.0348381
END:VEVENT
BEGIN:VEVENT
DTSTART;TZID=America/Chicago:20220322T190000
DTEND;TZID=America/Chicago:20220322T210000
DTSTAMP:20260421T152242
CREATED:20220224T162916Z
LAST-MODIFIED:20240201T151252Z
UID:160841-1647975600-1647982800@midwestoutdoors.com
SUMMARY:Fox Valley Anglers
DESCRIPTION:Fox Valley Anglers is a multi-species social fishing club where all skills levels are welcome.  \n\n\n\nOur monthly club meetings starts at 7 p.m. on the 4th Tuesday of every month at Tap House Grill\, 3341 W. Main St\, St. Charles\, IL.  Anglers can come at 6 p.m. to have dinner\, drinks and social before the meeting starts.  \nOur meetings will have a premium speaker for an hour to discuss about the upcoming fishing season.  Afterwards we do door prizes\, discuss fishing reports\, raffles\, tournaments\, weekday outings\, volunteer community events\, awards banquet and much more.  \nNon-member meeting fee is $5 which can be applied to your annual membership of $46 or family membership of $81.   \nFor more info visit foxvalleyanglers.com or call/text President Patrick Combs at 630-865-6213.
URL:https://midwestoutdoors.com/event/fox-valley-area-anglers/2022-03-22/
LOCATION:Tap House Grill\, 3341 W. Main St\, St. Charles\, IL\, United States
CATEGORIES:Clubs & Organizations,Fishing
GEO:41.9167128;-88.3583094
X-APPLE-STRUCTURED-LOCATION;VALUE=URI;X-ADDRESS=Tap House Grill 3341 W. Main St St. Charles IL United States;X-APPLE-RADIUS=500;X-TITLE=3341 W. Main St:geo:-88.3583094,41.9167128
END:VEVENT
BEGIN:VEVENT
DTSTART;TZID=America/Chicago:20220125T070000
DTEND;TZID=America/Chicago:20220125T210000
DTSTAMP:20260421T152242
CREATED:20211129T170111Z
LAST-MODIFIED:20211129T170111Z
UID:158228-1643094000-1643144400@midwestoutdoors.com
SUMMARY:Walleyes Unlimited USA
DESCRIPTION:Walleyes Unlimited USA—Walleyes Unlimited USA—One of the top multi-species fishing clubs in the country. We fish for pike\, muskie\, large and smallmouth bass and of course walleye. We have one meeting per month alternating between Wisconsin and Illinois at 7  p.m. \nIn Wisconsin\, we meet on the last Tuesday of the month at Hideaway Pub & Eatery\, 9643 S. 76th St.\, Franklin\, WI 53132 \nIn Illinois we meet on the last Wednesday of each month at Gurnee American Legion\, 749 Milwaukee Ave.\,  Gurnee\, Ill. \nCheck website at walleyesunlimitedusa.org/index.htm\, for info call Bob Clark at 847-274-8247.
URL:https://midwestoutdoors.com/event/walleyes-unlimited-usa-4/2022-01-25/
LOCATION:Hideaway Pub & Eatery\, 9643 S. 76th St.\, Franklin\, WI\, 53132\, United States
CATEGORIES:Clubs & Organizations,Fishing
GEO:42.8699802;-88.0108734
X-APPLE-STRUCTURED-LOCATION;VALUE=URI;X-ADDRESS=Hideaway Pub & Eatery 9643 S. 76th St. Franklin WI 53132 United States;X-APPLE-RADIUS=500;X-TITLE=9643 S. 76th St.:geo:-88.0108734,42.8699802
END:VEVENT
END:VCALENDAR