BEGIN:VCALENDAR
VERSION:2.0
PRODID:-//MidWest Outdoors - ECPv6.15.9//NONSGML v1.0//EN
CALSCALE:GREGORIAN
METHOD:PUBLISH
X-WR-CALNAME:MidWest Outdoors
X-ORIGINAL-URL:https://midwestoutdoors.com
X-WR-CALDESC:Events for MidWest Outdoors
REFRESH-INTERVAL;VALUE=DURATION:PT1H
X-Robots-Tag:noindex
X-PUBLISHED-TTL:PT1H
BEGIN:VTIMEZONE
TZID:America/Chicago
BEGIN:DAYLIGHT
TZOFFSETFROM:-0600
TZOFFSETTO:-0500
TZNAME:CDT
DTSTART:20240310T080000
END:DAYLIGHT
BEGIN:STANDARD
TZOFFSETFROM:-0500
TZOFFSETTO:-0600
TZNAME:CST
DTSTART:20241103T070000
END:STANDARD
BEGIN:DAYLIGHT
TZOFFSETFROM:-0600
TZOFFSETTO:-0500
TZNAME:CDT
DTSTART:20250309T080000
END:DAYLIGHT
BEGIN:STANDARD
TZOFFSETFROM:-0500
TZOFFSETTO:-0600
TZNAME:CST
DTSTART:20251102T070000
END:STANDARD
BEGIN:DAYLIGHT
TZOFFSETFROM:-0600
TZOFFSETTO:-0500
TZNAME:CDT
DTSTART:20260308T080000
END:DAYLIGHT
BEGIN:STANDARD
TZOFFSETFROM:-0500
TZOFFSETTO:-0600
TZNAME:CST
DTSTART:20261101T070000
END:STANDARD
END:VTIMEZONE
BEGIN:VEVENT
DTSTART;TZID=America/Chicago:20251016T070000
DTEND;TZID=America/Chicago:20251016T170000
DTSTAMP:20260423T161240
CREATED:20250718T171443Z
LAST-MODIFIED:20250718T171443Z
UID:221140-1760598000-1760634000@midwestoutdoors.com
SUMMARY:Gateway Lodge Mercer Muskie Madness
DESCRIPTION:October 16-18 \nGateway Lodge Mercer Muskie Madness at  Gateway Lodge & Resort\, 4695 N Popko Circle West\, Mercer\, WI 54547. \nThis is a fishing tournament that supports the WIAA. You can fish 10 lakes surrounding the Mercer area with all proceeds benefiting Wounded Warriors in Action and Camp Ryan Adams. \nThursday and Friday fishing hours 7 a.m. – 5 p.m.\, Saturday 7 a.m. – 4 p.m. Banquet Saturday 6 p.m.\, Awards and Raffle 8 p.m. \nFor info: 715-476-7878\, mercermuskiemadness.com.
URL:https://midwestoutdoors.com/event/gateway-lodge-mercer-muskie-madness/2025-10-16/
CATEGORIES:Fishing,Tournaments
END:VEVENT
BEGIN:VEVENT
DTSTART;VALUE=DATE:20251018
DTEND;VALUE=DATE:20251019
DTSTAMP:20260423T161240
CREATED:20250717T164829Z
LAST-MODIFIED:20250717T164829Z
UID:220864-1760745600-1760831999@midwestoutdoors.com
SUMMARY:Stars and Stripes Division 5 Tournament at Benton Harbor
DESCRIPTION:Oct 18\, 2025 \nStars and Stripes Division 5 Tournament at Benton Harbor\, DNR Ramp.   \nEntry $100 with $20 side pot. \nFor info:  Scott Masterson (260) 705-7341.
URL:https://midwestoutdoors.com/event/stars-and-stripes-division-5-tournament-at-benton-harbor/
CATEGORIES:Fishing,Tournaments
END:VEVENT
BEGIN:VEVENT
DTSTART;TZID=America/Chicago:20251018T070000
DTEND;TZID=America/Chicago:20251018T160000
DTSTAMP:20260423T161240
CREATED:20250721T191340Z
LAST-MODIFIED:20250721T191340Z
UID:221271-1760770800-1760803200@midwestoutdoors.com
SUMMARY:Shawnee Muskie Hunters Fall Brawl at Kinkaid
DESCRIPTION:October 18-19 \nShawnee Muskie Hunters Fall Brawl at Kinkaid Lake\, Murphysboro\, IL. \nTake off and return at Mount Joy Boat Ramp (Main Marina). \nHours: Saturday 7 a.m. to 4 p.m.\, Sunday 7 a.m. to 2 p.m. \nFor info: Jim Frohlich; Musky660@gmail.com; 815-830-0895. 
URL:https://midwestoutdoors.com/event/shawnee-muskie-hunters-fall-brawl-at-kinkaid/2025-10-18/
CATEGORIES:Fishing,Tournaments
END:VEVENT
BEGIN:VEVENT
DTSTART;TZID=America/Chicago:20251018T080000
DTEND;TZID=America/Chicago:20251018T150000
DTSTAMP:20260423T161240
CREATED:20250717T210432Z
LAST-MODIFIED:20250717T210432Z
UID:220999-1760774400-1760799600@midwestoutdoors.com
SUMMARY:Grand Bass Club Open Tournament at Crystal Lake
DESCRIPTION:October 18 \nGrand Bass Club Open Tournament at Crystal Lake-North ramp in Montcalm County\, from 8 a.m. to 3 p.m. \nFor info: rasc1971@gmail.com.
URL:https://midwestoutdoors.com/event/grand-bass-club-open-tournament-at-crystal-lake/
CATEGORIES:Fishing,Tournaments
END:VEVENT
BEGIN:VEVENT
DTSTART;TZID=America/Chicago:20251018T090000
DTEND;TZID=America/Chicago:20251018T170000
DTSTAMP:20260423T161240
CREATED:20250717T171630Z
LAST-MODIFIED:20250717T171630Z
UID:220951-1760778000-1760806800@midwestoutdoors.com
SUMMARY:Lafayette Gun Show
DESCRIPTION:October 18-19 \nLafayette Gun Show at Tippecanoe County Fairgrounds\, 1010 Teal Ave.\, Lafayette\, IN 47905. \nHours: Saturday 9 a.m. to 5 p.m.\, Sunday 9 a.m. to 3 p.m. \nAdmission $6\, children 12 and under free. \nVendor tables $45 ea. \nFor info: Central Indiana Gun Shows\, Dan Hedger\, (765) 993-8942\, cigshows@gmail.com\, or Brandy Sifford\, (765) 969-2536\,  centralindianagunshows.com.
URL:https://midwestoutdoors.com/event/lafayette-gun-show-3/2025-10-18/
CATEGORIES:Gun Shows
END:VEVENT
BEGIN:VEVENT
DTSTART;TZID=America/Chicago:20251023T180000
DTEND;TZID=America/Chicago:20251023T210000
DTSTAMP:20260423T161240
CREATED:20170322T213036Z
LAST-MODIFIED:20170322T213036Z
UID:217180-1761242400-1761253200@midwestoutdoors.com
SUMMARY:Sandwich Sportsman’s Club
DESCRIPTION:Sandwich Sportsman’s Club. Fishing\, trap shooting\, camping\, pistol and archery ranges. Open trap shoots Thursdays 6-9 p.m.\, $4 for members and $5 for nonmembers and open archery shoots Mondays 7-8 p.m.\,  $4 with your equipment\, $5 to use theirs. Meetings at the club\, 4th Sunday of the month at 4 p.m.\, 1104 Hartman Trail\, Sandwich\, Ill.  www.sandwichsportsmansclub.com. \n  \n 
URL:https://midwestoutdoors.com/event/sandwich-sportsmans-club/2025-10-23/
LOCATION:Sandwich Sportsman’s Club\, 1104 Hartman Trail\,  Sandwich\, IL\, United States
CATEGORIES:Clubs & Organizations,Fishing,Shoots/Ranges
GEO:41.6553301;-88.6483092
X-APPLE-STRUCTURED-LOCATION;VALUE=URI;X-ADDRESS=Sandwich Sportsman’s Club 1104 Hartman Trail  Sandwich IL United States;X-APPLE-RADIUS=500;X-TITLE=1104 Hartman Trail:geo:-88.6483092,41.6553301
END:VEVENT
BEGIN:VEVENT
DTSTART;TZID=America/Chicago:20251024T180000
DTEND;TZID=America/Chicago:20251024T200000
DTSTAMP:20260423T161240
CREATED:20191018T202940Z
LAST-MODIFIED:20191018T202940Z
UID:217136-1761328800-1761336000@midwestoutdoors.com
SUMMARY:Lady’s View Elite – Women only league
DESCRIPTION:Lady’s View Elite – Women only league\n \nLady’s View Elite is a women’s shooting group dedicated to learning and practicing defensive shooting skills. We meet weekly on Fridays from 6-8pm at Blythe’s Sport Shop in Valparaiso\, Ind.  As a women’s group\, we give each other support in the journey of becoming our family’s best protector. Through our weekly events\, we build confidence in our abilities with like-minded women. The events are centered around structured drills that help you set goals and develop your skills. Regardless of skill level\, we provide a welcoming environment of women empowering women! \n Co-ed classes register at: www.mwtraininggroup.com \nWomen only classes register at: www.ladysview.com
URL:https://midwestoutdoors.com/event/ladys-view-elite-women-only-league/2025-10-24/
LOCATION:Blythe’s Sport Shop\, 2810 Calumet Ave.\, Valparaiso\, IN\, 46383\, United States
CATEGORIES:Clubs & Organizations,Shoots/Ranges
GEO:41.4944327;-87.0443915
X-APPLE-STRUCTURED-LOCATION;VALUE=URI;X-ADDRESS=Blythe’s Sport Shop 2810 Calumet Ave. Valparaiso IN 46383 United States;X-APPLE-RADIUS=500;X-TITLE=2810 Calumet Ave.:geo:-87.0443915,41.4944327
END:VEVENT
BEGIN:VEVENT
DTSTART;TZID=America/Chicago:20251025T090000
DTEND;TZID=America/Chicago:20251025T170000
DTSTAMP:20260423T161240
CREATED:20250924T191331Z
LAST-MODIFIED:20250924T191331Z
UID:224039-1761382800-1761411600@midwestoutdoors.com
SUMMARY:The North Metro Ice Show
DESCRIPTION:October 25-26 \nThe North Metro Ice Show\, Adrenaline Sports Center\, 8310 147th Lane\, Ramsey\, MN 55303 \nShow Hours: Satu;rday 9 a.m. to 5 p.m.\, Sunday 10 a.m. to 2 p.m. \nNorth Metro Ice Show\, fred@northmetroiceshow.com\, northmetroiceshow.com.
URL:https://midwestoutdoors.com/event/the-north-metro-ice-show/2025-10-25/
CATEGORIES:Ice Fishing Events,Sports & Boat Shows
END:VEVENT
BEGIN:VEVENT
DTSTART;TZID=America/Chicago:20251025T190000
DTEND;TZID=America/Chicago:20251026T030000
DTSTAMP:20260423T161240
CREATED:20250429T170643Z
LAST-MODIFIED:20250429T170643Z
UID:217485-1761418800-1761447600@midwestoutdoors.com
SUMMARY:Rock Lake Park Catfish Tournaments
DESCRIPTION:Jun. 14\, Jul. 25\, Aug. 23\, Sept. 27\,  Oct. 25 \nRock Lake Park Catfish Tournaments from 7 p.m. to 3 a.m. \nEntry $25 per two-many team\, $5 ea. for big fish pot. \nFor info:  rockvillelake.com/fishing-tournaments.
URL:https://midwestoutdoors.com/event/rock-lake-park-catfish-tournaments/2025-10-25/
CATEGORIES:Fishing,Tournaments
END:VEVENT
BEGIN:VEVENT
DTSTART;TZID=America/Chicago:20251026T100000
DTEND;TZID=America/Chicago:20251026T140000
DTSTAMP:20260423T161240
CREATED:20250924T191331Z
LAST-MODIFIED:20250924T191331Z
UID:224046-1761472800-1761487200@midwestoutdoors.com
SUMMARY:The North Metro Ice Show
DESCRIPTION:October 25-26 \nThe North Metro Ice Show\, Adrenaline Sports Center\, 8310 147th Lane\, Ramsey\, MN 55303 \nShow Hours: Satu;rday 9 a.m. to 5 p.m.\, Sunday 10 a.m. to 2 p.m. \nNorth Metro Ice Show\, fred@northmetroiceshow.com\, northmetroiceshow.com.
URL:https://midwestoutdoors.com/event/the-north-metro-ice-show/2025-10-26/
CATEGORIES:Ice Fishing Events,Sports & Boat Shows
END:VEVENT
BEGIN:VEVENT
DTSTART;TZID=America/Chicago:20251026T160000
DTEND;TZID=America/Chicago:20251026T180000
DTSTAMP:20260423T161240
CREATED:20170322T213036Z
LAST-MODIFIED:20170322T213036Z
UID:217164-1761494400-1761501600@midwestoutdoors.com
SUMMARY:Sandwich Sportsman’s Club
DESCRIPTION:Sandwich Sportsman’s Club. Fishing\, trap shooting\, camping\, pistol and archery ranges. Open trap shoots Thursdays 6-9 p.m.\, $4 for members and $5 for nonmembers and open archery shoots Mondays 7-8 p.m.\,  $4 with your equipment\, $5 to use theirs. Meetings at the club\, 4th Sunday of the month at 4 p.m.\, 1104 Hartman Trail\, Sandwich\, Ill.  www.sandwichsportsmansclub.com. \n  \n 
URL:https://midwestoutdoors.com/event/sandwich-sportsmans-club/2025-10-26/
LOCATION:Sandwich Sportsman’s Club\, 1104 Hartman Trail\,  Sandwich\, IL\, United States
CATEGORIES:Clubs & Organizations,Fishing,Shoots/Ranges
GEO:41.6553301;-88.6483092
X-APPLE-STRUCTURED-LOCATION;VALUE=URI;X-ADDRESS=Sandwich Sportsman’s Club 1104 Hartman Trail  Sandwich IL United States;X-APPLE-RADIUS=500;X-TITLE=1104 Hartman Trail:geo:-88.6483092,41.6553301
END:VEVENT
BEGIN:VEVENT
DTSTART;TZID=America/Chicago:20251027T190000
DTEND;TZID=America/Chicago:20251027T200000
DTSTAMP:20260423T161240
CREATED:20170322T213036Z
LAST-MODIFIED:20170322T213036Z
UID:218771-1761591600-1761595200@midwestoutdoors.com
SUMMARY:Sandwich Sportsman’s Club
DESCRIPTION:Sandwich Sportsman’s Club. Fishing\, trap shooting\, camping\, pistol and archery ranges. Open trap shoots Thursdays 6-9 p.m.\, $4 for members and $5 for nonmembers and open archery shoots Mondays 7-8 p.m.\,  $4 with your equipment\, $5 to use theirs. Meetings at the club\, 4th Sunday of the month at 4 p.m.\, 1104 Hartman Trail\, Sandwich\, Ill.  www.sandwichsportsmansclub.com. \n  \n 
URL:https://midwestoutdoors.com/event/sandwich-sportsmans-club/2025-10-27/
LOCATION:Sandwich Sportsman’s Club\, 1104 Hartman Trail\,  Sandwich\, IL\, United States
CATEGORIES:Clubs & Organizations,Fishing,Shoots/Ranges
GEO:41.6553301;-88.6483092
X-APPLE-STRUCTURED-LOCATION;VALUE=URI;X-ADDRESS=Sandwich Sportsman’s Club 1104 Hartman Trail  Sandwich IL United States;X-APPLE-RADIUS=500;X-TITLE=1104 Hartman Trail:geo:-88.6483092,41.6553301
END:VEVENT
BEGIN:VEVENT
DTSTART;TZID=America/Chicago:20251027T190000
DTEND;TZID=America/Chicago:20251027T210000
DTSTAMP:20260423T161240
CREATED:20170324T024724Z
LAST-MODIFIED:20170324T024724Z
UID:218133-1761591600-1761598800@midwestoutdoors.com
SUMMARY:Wisconsin Fishing Club\, Ltd.
DESCRIPTION:Wisconsin Fishing Club\, Ltd.—Meetings are held on the 2nd and 4th Mondays during the months of Jan.\, Feb.\, March\, May\, Sept.\, and Oct.; and on the 2nd Mondays during June\, July\, August (summer schedule)\, November and December\, and on the 4th Monday in April. The 2nd Monday in April are the DNR hearings and we prefer our members attend the DNR meetings.  Meetings starting at 7 p.m.\, with speakers at 8 p.m.   \nLocation of meetings:  Grainger’s Sports Pub & Grill\, 3500 W. Howard Ave.\, Milwaukee\, Wis. (at the corner of Loomis and Howard). \nFor info: wisconsinfishingclub.com.\nIzzy Sorce\, President\, 414-550-0699\, funlovnteachers@gmail.com
URL:https://midwestoutdoors.com/event/wisconsin-fishing-club-ltd/2025-10-27/
LOCATION:Grainger’s Sports Pub & Grill\, 3500 W. Howard Road\, Milwaukee\, WI\, United States
CATEGORIES:Clubs & Organizations,Fishing
GEO:42.9739993;-87.9583237
X-APPLE-STRUCTURED-LOCATION;VALUE=URI;X-ADDRESS=Grainger’s Sports Pub & Grill 3500 W. Howard Road Milwaukee WI United States;X-APPLE-RADIUS=500;X-TITLE=3500 W. Howard Road:geo:-87.9583237,42.9739993
END:VEVENT
BEGIN:VEVENT
DTSTART;TZID=America/Chicago:20251028T060000
DTEND;TZID=America/Chicago:20251028T200000
DTSTAMP:20260423T161240
CREATED:20191018T204031Z
LAST-MODIFIED:20191018T204031Z
UID:217568-1761631200-1761681600@midwestoutdoors.com
SUMMARY:Blythe’s Sport Shop Tuesday League
DESCRIPTION:Blythe’s Sport Shop Tuesday League\n \nShooting league meets every Tuesday from 6-8PM.  Each week offers a different set of drills which are provided by an instructor. Each participant is scored\, and results are sent through email. Participants are responsible for purchase of range time and target required for drills. These are available at Blythe’s range counter. \nFor information:\nAmanda Kalman\namanda@blythesguns.com\n219-476-0026 – Valparaiso
URL:https://midwestoutdoors.com/event/blythes-sport-shop-tuesday-league/2025-10-28/
LOCATION:Blythe’s Sport Shop\, 2810 Calumet Ave.\, Valparaiso\, IN\, 46383\, United States
CATEGORIES:Clubs & Organizations,Shoots/Ranges
GEO:41.4944327;-87.0443915
X-APPLE-STRUCTURED-LOCATION;VALUE=URI;X-ADDRESS=Blythe’s Sport Shop 2810 Calumet Ave. Valparaiso IN 46383 United States;X-APPLE-RADIUS=500;X-TITLE=2810 Calumet Ave.:geo:-87.0443915,41.4944327
END:VEVENT
BEGIN:VEVENT
DTSTART;TZID=America/Chicago:20251028T183000
DTEND;TZID=America/Chicago:20251028T210000
DTSTAMP:20260423T161240
CREATED:20161230T015528Z
LAST-MODIFIED:20161230T015528Z
UID:217560-1761676200-1761685200@midwestoutdoors.com
SUMMARY:Open Fly Tying Seminar
DESCRIPTION:Note: Due to the current COVID-19 virus crisis\, please verify events before attending!\nEvery Tuesday—Open Fly Tying Seminar from 6:30 – 9 p.m. at the Bass Pro Shop in Portage. Come spend time with local fly fishermen/women at the seminar room on the 2nd floor behind the camo department. The open fly tying format is an excellent opportunity to trade secrets with and learn from the professionals! For further information call 219-787-6800.
URL:https://midwestoutdoors.com/event/open-fly-tying-seminar-2/2025-10-28/
LOCATION:Bass Pro Shop\, Portage\, IN\, 46368\, United States
CATEGORIES:Other
GEO:41.596455;-87.1722037
END:VEVENT
BEGIN:VEVENT
DTSTART;TZID=America/Chicago:20251028T190000
DTEND;TZID=America/Chicago:20251028T210000
DTSTAMP:20260423T161240
CREATED:20170322T002724Z
LAST-MODIFIED:20170322T002724Z
UID:217564-1761678000-1761685200@midwestoutdoors.com
SUMMARY:Maple Bass Masters of the Chicagoland Area
DESCRIPTION:Maple Bass Masters of the Chicagoland Area—We are an Illinois/National bass Federation club. Club meetings are held on the fourth Tuesday of every month at Papa Passero’s Pizza at 6326 S. Cass Ave.\, Westmont\, Ill. For more information\, call Joe Browning at 773-531-6841.
URL:https://midwestoutdoors.com/event/maple-bass-masters-of-the-chicagoland-area-2/2025-10-28/
LOCATION:Pappa Passeros\, 6326 South Cass Avenue\, Westmont\, IL\, 60559\, United States
CATEGORIES:Clubs & Organizations,Fishing
GEO:41.7725328;-87.9751809
X-APPLE-STRUCTURED-LOCATION;VALUE=URI;X-ADDRESS=Pappa Passeros 6326 South Cass Avenue Westmont IL 60559 United States;X-APPLE-RADIUS=500;X-TITLE=6326 South Cass Avenue:geo:-87.9751809,41.7725328
END:VEVENT
BEGIN:VEVENT
DTSTART;TZID=America/Chicago:20251028T190000
DTEND;TZID=America/Chicago:20251028T210000
DTSTAMP:20260423T161240
CREATED:20170322T213825Z
LAST-MODIFIED:20170322T213825Z
UID:217552-1761678000-1761685200@midwestoutdoors.com
SUMMARY:Senior Rods Fishing/Outdoor Club
DESCRIPTION: Senior Rods Fishing/Outdoor Club—A multi-species 50+ club for men and women\, through the Woodrige Park District. meetings are held on the 4th Tuesday of the month at 7 p.m.\, in the park district community building. No membership/guest fees. The club calendar includes: activities\, educational speakers\, fishing outings and discussion topics. \nFor more information\, contact Al at 630-968-7748\, or email alg14895@sbcglobal.net.
URL:https://midwestoutdoors.com/event/senior-rods-fishingoutdoor-club/2025-10-28/
LOCATION:Woodrige Park District Community Center\, 2600 Center Drive\, Woodridge\, IL\, 60517 \, United States
CATEGORIES:Clubs & Organizations,Fishing
ORGANIZER;CN="Senior Rods Fishing/Outdoor Club":MAILTO:alg14895@sbcglobal.net
GEO:41.7583697;-88.0467303
X-APPLE-STRUCTURED-LOCATION;VALUE=URI;X-ADDRESS=Woodrige Park District Community Center 2600 Center Drive Woodridge IL 60517  United States;X-APPLE-RADIUS=500;X-TITLE=2600 Center Drive:geo:-88.0467303,41.7583697
END:VEVENT
BEGIN:VEVENT
DTSTART;TZID=America/Chicago:20251028T190000
DTEND;TZID=America/Chicago:20251028T210000
DTSTAMP:20260423T161240
CREATED:20170602T003253Z
LAST-MODIFIED:20170602T003253Z
UID:217556-1761678000-1761685200@midwestoutdoors.com
SUMMARY:Minnesota Valley In-Fisherman Club
DESCRIPTION:The Minnesota Valley In-Fisherman Club meets the fourth Tuesday of each month at the Apple Valley American Legion at 7:00pm. \nFor more info: Gary @ 952-423-3662 or 763-268-3621.
URL:https://midwestoutdoors.com/event/minnesota-valley-fisherman-club/2025-10-28/
LOCATION:Apple Valley American Legion\, 14521 Granada Drive\, Apple Valley\, MN\, 55124\, United States
CATEGORIES:Clubs & Organizations
GEO:44.737721;-93.2216121
X-APPLE-STRUCTURED-LOCATION;VALUE=URI;X-ADDRESS=Apple Valley American Legion 14521 Granada Drive Apple Valley MN 55124 United States;X-APPLE-RADIUS=500;X-TITLE=14521 Granada Drive:geo:-93.2216121,44.737721
END:VEVENT
BEGIN:VEVENT
DTSTART;TZID=America/Chicago:20251028T190000
DTEND;TZID=America/Chicago:20251028T210000
DTSTAMP:20260423T161240
CREATED:20220224T162916Z
LAST-MODIFIED:20220224T162916Z
UID:217548-1761678000-1761685200@midwestoutdoors.com
SUMMARY:Fox Valley Anglers
DESCRIPTION:Fox Valley Anglers is a multi-species social fishing club where all skills levels are welcome.  \n\n\n\nOur monthly club meetings starts at 7 p.m. on the 4th Tuesday of every month at Tap House Grill\, 3341 W. Main St\, St. Charles\, IL.  Anglers can come at 6 p.m. to have dinner\, drinks and social before the meeting starts.  \nOur meetings will have a premium speaker for an hour to discuss about the upcoming fishing season.  Afterwards we do door prizes\, discuss fishing reports\, raffles\, tournaments\, weekday outings\, volunteer community events\, awards banquet and much more.  \nNon-member meeting fee is $5 which can be applied to your annual membership of $46 or family membership of $81.   \nFor more info visit foxvalleyanglers.com or call/text President Patrick Combs at 630-865-6213.
URL:https://midwestoutdoors.com/event/fox-valley-area-anglers/2025-10-28/
LOCATION:Tap House Grill\, 3341 W. Main St\, St. Charles\, IL\, United States
CATEGORIES:Clubs & Organizations,Fishing
GEO:41.9167128;-88.3583094
X-APPLE-STRUCTURED-LOCATION;VALUE=URI;X-ADDRESS=Tap House Grill 3341 W. Main St St. Charles IL United States;X-APPLE-RADIUS=500;X-TITLE=3341 W. Main St:geo:-88.3583094,41.9167128
END:VEVENT
BEGIN:VEVENT
DTSTART;TZID=America/Chicago:20251030T180000
DTEND;TZID=America/Chicago:20251030T210000
DTSTAMP:20260423T161240
CREATED:20170322T213036Z
LAST-MODIFIED:20170322T213036Z
UID:218755-1761847200-1761858000@midwestoutdoors.com
SUMMARY:Sandwich Sportsman’s Club
DESCRIPTION:Sandwich Sportsman’s Club. Fishing\, trap shooting\, camping\, pistol and archery ranges. Open trap shoots Thursdays 6-9 p.m.\, $4 for members and $5 for nonmembers and open archery shoots Mondays 7-8 p.m.\,  $4 with your equipment\, $5 to use theirs. Meetings at the club\, 4th Sunday of the month at 4 p.m.\, 1104 Hartman Trail\, Sandwich\, Ill.  www.sandwichsportsmansclub.com. \n  \n 
URL:https://midwestoutdoors.com/event/sandwich-sportsmans-club/2025-10-30/
LOCATION:Sandwich Sportsman’s Club\, 1104 Hartman Trail\,  Sandwich\, IL\, United States
CATEGORIES:Clubs & Organizations,Fishing,Shoots/Ranges
GEO:41.6553301;-88.6483092
X-APPLE-STRUCTURED-LOCATION;VALUE=URI;X-ADDRESS=Sandwich Sportsman’s Club 1104 Hartman Trail  Sandwich IL United States;X-APPLE-RADIUS=500;X-TITLE=1104 Hartman Trail:geo:-88.6483092,41.6553301
END:VEVENT
BEGIN:VEVENT
DTSTART;TZID=America/Chicago:20251031T180000
DTEND;TZID=America/Chicago:20251031T200000
DTSTAMP:20260423T161240
CREATED:20191018T202940Z
LAST-MODIFIED:20191018T202940Z
UID:217785-1761933600-1761940800@midwestoutdoors.com
SUMMARY:Lady’s View Elite – Women only league
DESCRIPTION:Lady’s View Elite – Women only league\n \nLady’s View Elite is a women’s shooting group dedicated to learning and practicing defensive shooting skills. We meet weekly on Fridays from 6-8pm at Blythe’s Sport Shop in Valparaiso\, Ind.  As a women’s group\, we give each other support in the journey of becoming our family’s best protector. Through our weekly events\, we build confidence in our abilities with like-minded women. The events are centered around structured drills that help you set goals and develop your skills. Regardless of skill level\, we provide a welcoming environment of women empowering women! \n Co-ed classes register at: www.mwtraininggroup.com \nWomen only classes register at: www.ladysview.com
URL:https://midwestoutdoors.com/event/ladys-view-elite-women-only-league/2025-10-31/
LOCATION:Blythe’s Sport Shop\, 2810 Calumet Ave.\, Valparaiso\, IN\, 46383\, United States
CATEGORIES:Clubs & Organizations,Shoots/Ranges
GEO:41.4944327;-87.0443915
X-APPLE-STRUCTURED-LOCATION;VALUE=URI;X-ADDRESS=Blythe’s Sport Shop 2810 Calumet Ave. Valparaiso IN 46383 United States;X-APPLE-RADIUS=500;X-TITLE=2810 Calumet Ave.:geo:-87.0443915,41.4944327
END:VEVENT
BEGIN:VEVENT
DTSTART;VALUE=DATE:20251101
DTEND;VALUE=DATE:20251102
DTSTAMP:20260423T161240
CREATED:20250917T163228Z
LAST-MODIFIED:20250917T163228Z
UID:223026-1761955200-1762041599@midwestoutdoors.com
SUMMARY:Dekalb Basscasters Tournament
DESCRIPTION:November 1 \nDekalb Basscasters Tournament at Wawasee Lake\, IN. \nFor info: ibfweb@redshad.com\, 260-418-6227. 
URL:https://midwestoutdoors.com/event/dekalb-basscasters-tournament/
CATEGORIES:Fishing,Tournaments
END:VEVENT
BEGIN:VEVENT
DTSTART;TZID=America/Chicago:20251101T070000
DTEND;TZID=America/Chicago:20251101T160000
DTSTAMP:20260423T161240
CREATED:20250917T184455Z
LAST-MODIFIED:20250917T184455Z
UID:223199-1761980400-1762012800@midwestoutdoors.com
SUMMARY:IMTT State Championship at Kinkaid Lake
DESCRIPTION:November 1-2  \nIMTT State Championship at Kinkaid Lake. \nFishing hours: 7 a.m. – 4 p.m. Saturday\,  and 6 a.m. – 1 p.m. on Sunday (moved up an hour due to Daylight Savings). \nTake off and return at Mount Joy Boat Ramp (Main Marina). \nSaturday dinner/raffle at 6 p.m.\, at Elks Lodge\, Murphysboro. \nFriday Night Registration from 6-8 p.m.\, at America’s Best Value Inn\, Murphysboro\, IL. \nEntry fees will be based on entrant’s qualification status: $175 for Tier 1 Qualifiers\, $225 for Tier 2 Qualifiers. \nFor info: Robert Unzicker; robert.unzicker@gmail.com; 309-242-5458.
URL:https://midwestoutdoors.com/event/imtt-state-championship-at-kinkaid-lake/2025-11-01/
CATEGORIES:Fishing,Tournaments
END:VEVENT
BEGIN:VEVENT
DTSTART;TZID=America/Chicago:20251101T090000
DTEND;TZID=America/Chicago:20251101T170000
DTSTAMP:20260423T161240
CREATED:20250917T160132Z
LAST-MODIFIED:20250917T160132Z
UID:222888-1761987600-1762016400@midwestoutdoors.com
SUMMARY:Gaylord Gun & Knife Show
DESCRIPTION:November 1-2 \nGaylord Gun & Knife Show at The Ellison Place\, 150 Dale Dr.\, Gaylord\, MI 49735. \nHours: Saturday 9 a.m. to 5 p.m.\, Sunday 9 a.m. to 3 p.m. \nFor info: Pamela Smith\, (989) 798-8709\, mtmm1@yahoo.com.
URL:https://midwestoutdoors.com/event/gaylord-gun-knife-show/2025-11-01/
CATEGORIES:Gun Shows
END:VEVENT
BEGIN:VEVENT
DTSTART;TZID=America/Chicago:20251101T090000
DTEND;TZID=America/Chicago:20251101T170000
DTSTAMP:20260423T161240
CREATED:20250917T160311Z
LAST-MODIFIED:20250917T160311Z
UID:222897-1761987600-1762016400@midwestoutdoors.com
SUMMARY:Old Time Gun Show in Monroe
DESCRIPTION:November 1-2 \nOld Time Gun Show at Knights of Columbus 48161\, 202 W Front St.\, Monroe\, MI 48239. \nHours: Saturday 9 a.m. to 5 p.m. Sunday 9 a.m. to 2 p.m. \nFor info: Jeff Walker\, (313) 475-4922\,  oldtimegunshow@gmail.com.
URL:https://midwestoutdoors.com/event/old-time-gun-show-in-monroe/2025-11-01/
CATEGORIES:Gun Shows
END:VEVENT
BEGIN:VEVENT
DTSTART;VALUE=DATE:20251102
DTEND;VALUE=DATE:20251103
DTSTAMP:20260423T161240
CREATED:20250917T163410Z
LAST-MODIFIED:20250917T163410Z
UID:223031-1762041600-1762127999@midwestoutdoors.com
SUMMARY:Fishers of Men Tournament at Shafer Lake
DESCRIPTION:November 2 \nFishers of Men Tournament at Shafer Lake\, IN. \nFor info: 260-525-8055\, shamrick@fomntt.com\, fomntt.com. 
URL:https://midwestoutdoors.com/event/fishers-of-men-tournament-at-shafer-lake/
CATEGORIES:Fishing,Tournaments
END:VEVENT
BEGIN:VEVENT
DTSTART;TZID=America/Chicago:20251102T060000
DTEND;TZID=America/Chicago:20251102T130000
DTSTAMP:20260423T161240
CREATED:20250917T184455Z
LAST-MODIFIED:20250917T184455Z
UID:223204-1762063200-1762088400@midwestoutdoors.com
SUMMARY:IMTT State Championship at Kinkaid Lake
DESCRIPTION:November 1-2  \nIMTT State Championship at Kinkaid Lake. \nFishing hours: 7 a.m. – 4 p.m. Saturday\,  and 6 a.m. – 1 p.m. on Sunday (moved up an hour due to Daylight Savings). \nTake off and return at Mount Joy Boat Ramp (Main Marina). \nSaturday dinner/raffle at 6 p.m.\, at Elks Lodge\, Murphysboro. \nFriday Night Registration from 6-8 p.m.\, at America’s Best Value Inn\, Murphysboro\, IL. \nEntry fees will be based on entrant’s qualification status: $175 for Tier 1 Qualifiers\, $225 for Tier 2 Qualifiers. \nFor info: Robert Unzicker; robert.unzicker@gmail.com; 309-242-5458.
URL:https://midwestoutdoors.com/event/imtt-state-championship-at-kinkaid-lake/2025-11-02/
CATEGORIES:Fishing,Tournaments
END:VEVENT
BEGIN:VEVENT
DTSTART;TZID=America/Chicago:20251102T080000
DTEND;TZID=America/Chicago:20251102T150000
DTSTAMP:20260423T161240
CREATED:20250917T160004Z
LAST-MODIFIED:20250917T160004Z
UID:222883-1762070400-1762095600@midwestoutdoors.com
SUMMARY:Last Cast Bass Tournament at Portage Lake
DESCRIPTION:November 2 \nLast Cast Bass Tournament by Schultz Outfitters at Portage Lake from 8 a.m. to 3 p.m. \nFor info: Matthew Spranger\, 734-544-1761\,  team@schultzoutfitters.com.
URL:https://midwestoutdoors.com/event/last-cast-bass-tournament-at-portage-lake/
CATEGORIES:Fishing,Tournaments
END:VEVENT
BEGIN:VEVENT
DTSTART;TZID=America/Chicago:20251102T090000
DTEND;TZID=America/Chicago:20251102T140000
DTSTAMP:20260423T161240
CREATED:20250917T160311Z
LAST-MODIFIED:20250917T160311Z
UID:222902-1762074000-1762092000@midwestoutdoors.com
SUMMARY:Old Time Gun Show in Monroe
DESCRIPTION:November 1-2 \nOld Time Gun Show at Knights of Columbus 48161\, 202 W Front St.\, Monroe\, MI 48239. \nHours: Saturday 9 a.m. to 5 p.m. Sunday 9 a.m. to 2 p.m. \nFor info: Jeff Walker\, (313) 475-4922\,  oldtimegunshow@gmail.com.
URL:https://midwestoutdoors.com/event/old-time-gun-show-in-monroe/2025-11-02/
CATEGORIES:Gun Shows
END:VEVENT
BEGIN:VEVENT
DTSTART;TZID=America/Chicago:20251102T090000
DTEND;TZID=America/Chicago:20251102T150000
DTSTAMP:20260423T161240
CREATED:20250917T160132Z
LAST-MODIFIED:20250917T160132Z
UID:222893-1762074000-1762095600@midwestoutdoors.com
SUMMARY:Gaylord Gun & Knife Show
DESCRIPTION:November 1-2 \nGaylord Gun & Knife Show at The Ellison Place\, 150 Dale Dr.\, Gaylord\, MI 49735. \nHours: Saturday 9 a.m. to 5 p.m.\, Sunday 9 a.m. to 3 p.m. \nFor info: Pamela Smith\, (989) 798-8709\, mtmm1@yahoo.com.
URL:https://midwestoutdoors.com/event/gaylord-gun-knife-show/2025-11-02/
CATEGORIES:Gun Shows
END:VEVENT
END:VCALENDAR