BEGIN:VCALENDAR
VERSION:2.0
PRODID:-//MidWest Outdoors - ECPv6.15.9//NONSGML v1.0//EN
CALSCALE:GREGORIAN
METHOD:PUBLISH
X-WR-CALNAME:MidWest Outdoors
X-ORIGINAL-URL:https://midwestoutdoors.com
X-WR-CALDESC:Events for MidWest Outdoors
REFRESH-INTERVAL;VALUE=DURATION:PT1H
X-Robots-Tag:noindex
X-PUBLISHED-TTL:PT1H
BEGIN:VTIMEZONE
TZID:America/Chicago
BEGIN:DAYLIGHT
TZOFFSETFROM:-0600
TZOFFSETTO:-0500
TZNAME:CDT
DTSTART:20250309T080000
END:DAYLIGHT
BEGIN:STANDARD
TZOFFSETFROM:-0500
TZOFFSETTO:-0600
TZNAME:CST
DTSTART:20251102T070000
END:STANDARD
BEGIN:DAYLIGHT
TZOFFSETFROM:-0600
TZOFFSETTO:-0500
TZNAME:CDT
DTSTART:20260308T080000
END:DAYLIGHT
BEGIN:STANDARD
TZOFFSETFROM:-0500
TZOFFSETTO:-0600
TZNAME:CST
DTSTART:20261101T070000
END:STANDARD
BEGIN:DAYLIGHT
TZOFFSETFROM:-0600
TZOFFSETTO:-0500
TZNAME:CDT
DTSTART:20270314T080000
END:DAYLIGHT
BEGIN:STANDARD
TZOFFSETFROM:-0500
TZOFFSETTO:-0600
TZNAME:CST
DTSTART:20271107T070000
END:STANDARD
END:VTIMEZONE
BEGIN:VEVENT
DTSTART;TZID=America/Chicago:20260801T090000
DTEND;TZID=America/Chicago:20260801T170000
DTSTAMP:20260425T081930
CREATED:20260424T170925Z
LAST-MODIFIED:20260424T170925Z
UID:235168-1785574800-1785603600@midwestoutdoors.com
SUMMARY:The Original Grand Rapids Gun & Knife Show
DESCRIPTION:June 6-7 & August 1-2 \nThe Original Grand Rapids Gun & Knife Show at Rogers Plaza\, 972 28th Street\, Wyoming\, MI 49509. \nHours: Saturday 9 a.m. to 5 p.m.\, Sunday 10 a.m. to 3 p.m. \nAdmission $8. \nFor info: Sport Shows Promotions\, sportshows@gmail.com\, migunshow.com.
URL:https://midwestoutdoors.com/event/the-original-grand-rapids-gun-knife-show/2026-08-01/
CATEGORIES:Gun Shows
END:VEVENT
BEGIN:VEVENT
DTSTART;TZID=America/Chicago:20260725T100000
DTEND;TZID=America/Chicago:20260725T170000
DTSTAMP:20260425T081930
CREATED:20260424T193430Z
LAST-MODIFIED:20260424T193430Z
UID:235223-1784973600-1784998800@midwestoutdoors.com
SUMMARY:Taylor Town’s New Era Gun & Knife Expo
DESCRIPTION:July 24-25 \nTaylor Town’s New Era Gun & Knife Expo at Taylor Town Trade Center\, 22525 Ecorse Rd.\, Taylor\, MI 48180. \nHours: Friday 1 – 7 p.m.\, Saturday 10 a.m. to 5 p.m.\, Sunday 10 a.m. to 3 p.m. \nFor info: New Era Gun Show\, Daryl Robinson\, (734) 309-9170\, wickedtacticals@gmail.com.
URL:https://midwestoutdoors.com/event/taylor-towns-new-era-gun-knife-expo-2/2026-07-25/
CATEGORIES:Gun Shows
END:VEVENT
BEGIN:VEVENT
DTSTART;TZID=America/Chicago:20260724T130000
DTEND;TZID=America/Chicago:20260724T190000
DTSTAMP:20260425T081930
CREATED:20260424T193430Z
LAST-MODIFIED:20260424T193430Z
UID:235219-1784898000-1784919600@midwestoutdoors.com
SUMMARY:Taylor Town’s New Era Gun & Knife Expo
DESCRIPTION:July 24-25 \nTaylor Town’s New Era Gun & Knife Expo at Taylor Town Trade Center\, 22525 Ecorse Rd.\, Taylor\, MI 48180. \nHours: Friday 1 – 7 p.m.\, Saturday 10 a.m. to 5 p.m.\, Sunday 10 a.m. to 3 p.m. \nFor info: New Era Gun Show\, Daryl Robinson\, (734) 309-9170\, wickedtacticals@gmail.com.
URL:https://midwestoutdoors.com/event/taylor-towns-new-era-gun-knife-expo-2/2026-07-24/
CATEGORIES:Gun Shows
END:VEVENT
BEGIN:VEVENT
DTSTART;VALUE=DATE:20260713
DTEND;VALUE=DATE:20260720
DTSTAMP:20260425T081930
CREATED:20260424T165754Z
LAST-MODIFIED:20260424T165754Z
UID:235155-1783900800-1784505599@midwestoutdoors.com
SUMMARY:Ludington Offshore Classic Fishing Tournament
DESCRIPTION:July 13-19 \nLudington Offshore Classic Fishing Tournament is a premier week-long fishing event featuring contests for professional anglers\, amateurs\, ladies\, and youth. Experience the thrill of competition along the Lake Michigan shoreline at Waterfront Park\, then stay and enjoy all the outdoor recreation. \nLudington is known for—from beautiful beaches to scenic trails and waterfront fun. \nFor info: ludingtonoffshoreclassic.com.
URL:https://midwestoutdoors.com/event/ludington-offshore-classic-fishing-tournament/
CATEGORIES:Fishing,Tournaments
END:VEVENT
BEGIN:VEVENT
DTSTART;TZID=America/Chicago:20260709T190000
DTEND;TZID=America/Chicago:20260709T210000
DTSTAMP:20260425T081930
CREATED:20170322T195953Z
LAST-MODIFIED:20170322T195953Z
UID:230048-1783623600-1783630800@midwestoutdoors.com
SUMMARY:Quad County Hawg Hunters Chapter of Muskies Inc.
DESCRIPTION:Quad County Hawg Hunters Chapter of Muskies Inc.—We meet the second Thursday of every month 7 p.m. at the Cedardell Golf Club\, 14264  Hale St.\, Plano\, IL. 60545 \nWe occasionally have a speaker with raffle prize and door prize. Anyone is welcome. Contact Duane 815-761-5182. \n.
URL:https://midwestoutdoors.com/event/quad-county-hawg-hunters-chapter-of-muskies-inc/2026-07-09/
LOCATION:Cedardell Golf Club\, 14264 Hale St.\, Plano\, IL\, 60545\, United States
CATEGORIES:Clubs & Organizations,Fishing
GEO:41.6614041;-88.5300607
X-APPLE-STRUCTURED-LOCATION;VALUE=URI;X-ADDRESS=Cedardell Golf Club 14264 Hale St. Plano IL 60545 United States;X-APPLE-RADIUS=500;X-TITLE=14264 Hale St.:geo:-88.5300607,41.6614041
END:VEVENT
BEGIN:VEVENT
DTSTART;TZID=America/Chicago:20260705T100000
DTEND;TZID=America/Chicago:20260705T150000
DTSTAMP:20260425T081930
CREATED:20260424T193221Z
LAST-MODIFIED:20260424T193221Z
UID:235214-1783245600-1783263600@midwestoutdoors.com
SUMMARY:Lansing/Mason Gun & Knife Show
DESCRIPTION:July 3-5 \nLansing/Mason Gun & Knife Show at Ingham County Fairgrounds\, 700 E Ash St.\, Mason\, MI 48854. \nHours: Friday 2 – 7 p.m.\, Saturday 9 a.m. to 5 p.m.\, Sunday 10 a.m. to 3 p.m. \nAdmission $8\, active/non-active military and seniors $1 off. \nFor info:  Sport Shows Promotions\, (517) 883-5022\, sportshows@gmail.com\, migunshow.com.
URL:https://midwestoutdoors.com/event/lansing-mason-gun-knife-show-4/2026-07-05/
CATEGORIES:Gun Shows
END:VEVENT
BEGIN:VEVENT
DTSTART;TZID=America/Chicago:20260705T090000
DTEND;TZID=America/Chicago:20260705T150000
DTSTAMP:20260425T081930
CREATED:20260424T202745Z
LAST-MODIFIED:20260424T202745Z
UID:235311-1783242000-1783263600@midwestoutdoors.com
SUMMARY:Indianapolis Gun Show
DESCRIPTION:July 4-5 \nIndianapolis Gun Show at Stout Field National Guard Armory\, 3912 W Minnesota St.\, Indianapolis\, IN 46241. \nHours: Saturday 9 a.m. to 5 p.m.\, Sunday 9 a.m. to 3 p.m. \nFor info: Central Indiana Gun Shows\, centralindianagunshows.com.
URL:https://midwestoutdoors.com/event/indianapolis-gun-show-3/2026-07-05/
CATEGORIES:Gun Shows
END:VEVENT
BEGIN:VEVENT
DTSTART;TZID=America/Chicago:20260704T090000
DTEND;TZID=America/Chicago:20260704T170000
DTSTAMP:20260425T081930
CREATED:20260424T202745Z
LAST-MODIFIED:20260424T202745Z
UID:235307-1783155600-1783184400@midwestoutdoors.com
SUMMARY:Indianapolis Gun Show
DESCRIPTION:July 4-5 \nIndianapolis Gun Show at Stout Field National Guard Armory\, 3912 W Minnesota St.\, Indianapolis\, IN 46241. \nHours: Saturday 9 a.m. to 5 p.m.\, Sunday 9 a.m. to 3 p.m. \nFor info: Central Indiana Gun Shows\, centralindianagunshows.com.
URL:https://midwestoutdoors.com/event/indianapolis-gun-show-3/2026-07-04/
CATEGORIES:Gun Shows
END:VEVENT
BEGIN:VEVENT
DTSTART;TZID=America/Chicago:20260704T090000
DTEND;TZID=America/Chicago:20260704T170000
DTSTAMP:20260425T081930
CREATED:20260424T193221Z
LAST-MODIFIED:20260424T193221Z
UID:235210-1783155600-1783184400@midwestoutdoors.com
SUMMARY:Lansing/Mason Gun & Knife Show
DESCRIPTION:July 3-5 \nLansing/Mason Gun & Knife Show at Ingham County Fairgrounds\, 700 E Ash St.\, Mason\, MI 48854. \nHours: Friday 2 – 7 p.m.\, Saturday 9 a.m. to 5 p.m.\, Sunday 10 a.m. to 3 p.m. \nAdmission $8\, active/non-active military and seniors $1 off. \nFor info:  Sport Shows Promotions\, (517) 883-5022\, sportshows@gmail.com\, migunshow.com.
URL:https://midwestoutdoors.com/event/lansing-mason-gun-knife-show-4/2026-07-04/
CATEGORIES:Gun Shows
END:VEVENT
BEGIN:VEVENT
DTSTART;TZID=America/Chicago:20260703T140000
DTEND;TZID=America/Chicago:20260703T190000
DTSTAMP:20260425T081930
CREATED:20260424T193221Z
LAST-MODIFIED:20260424T193221Z
UID:235206-1783087200-1783105200@midwestoutdoors.com
SUMMARY:Lansing/Mason Gun & Knife Show
DESCRIPTION:July 3-5 \nLansing/Mason Gun & Knife Show at Ingham County Fairgrounds\, 700 E Ash St.\, Mason\, MI 48854. \nHours: Friday 2 – 7 p.m.\, Saturday 9 a.m. to 5 p.m.\, Sunday 10 a.m. to 3 p.m. \nAdmission $8\, active/non-active military and seniors $1 off. \nFor info:  Sport Shows Promotions\, (517) 883-5022\, sportshows@gmail.com\, migunshow.com.
URL:https://midwestoutdoors.com/event/lansing-mason-gun-knife-show-4/2026-07-03/
CATEGORIES:Gun Shows
END:VEVENT
BEGIN:VEVENT
DTSTART;TZID=America/Chicago:20260628T090000
DTEND;TZID=America/Chicago:20260628T150000
DTSTAMP:20260425T081930
CREATED:20260227T212924Z
LAST-MODIFIED:20260227T212924Z
UID:234165-1782637200-1782658800@midwestoutdoors.com
SUMMARY:Crown Point Gun Show
DESCRIPTION:April 18-19 & May 23-24 & June 27-28 \nCrown Point Gun Show at Lake County Fairgrounds\, 889 S. Court Street\, Crown Point\, IN 46307. \nHours: Saturday 9 a.m. to 5 p.m.\, Sunday 9 a.m. to 3 p.m. \nFor info: Central Indiana Gun Shows\, cigshows@gmail.com\, centralindianagunshows.com.
URL:https://midwestoutdoors.com/event/crown-point-gun-show/2026-06-28/
CATEGORIES:Gun Shows
END:VEVENT
BEGIN:VEVENT
DTSTART;VALUE=DATE:20260628
DTEND;VALUE=DATE:20260629
DTSTAMP:20260425T081930
CREATED:20260424T201840Z
LAST-MODIFIED:20260424T201840Z
UID:235271-1782604800-1782691199@midwestoutdoors.com
SUMMARY:Bass Junkies X2 Tournament at Waldron Lake
DESCRIPTION:June 28  \nBass Junkies X2 Tournament at Waldron Lake\, Dukes Bridge Ramp. \nAll opens $100 entry fee at the ramp. \ \nFor info: Scott Sizemore\, 260-302-6515. 
URL:https://midwestoutdoors.com/event/bass-junkies-x2-tournament-at-waldron-lake/
CATEGORIES:Fishing,Tournaments
END:VEVENT
BEGIN:VEVENT
DTSTART;TZID=America/Chicago:20260627T090000
DTEND;TZID=America/Chicago:20260627T170000
DTSTAMP:20260425T081930
CREATED:20260227T212924Z
LAST-MODIFIED:20260227T212924Z
UID:234161-1782550800-1782579600@midwestoutdoors.com
SUMMARY:Crown Point Gun Show
DESCRIPTION:April 18-19 & May 23-24 & June 27-28 \nCrown Point Gun Show at Lake County Fairgrounds\, 889 S. Court Street\, Crown Point\, IN 46307. \nHours: Saturday 9 a.m. to 5 p.m.\, Sunday 9 a.m. to 3 p.m. \nFor info: Central Indiana Gun Shows\, cigshows@gmail.com\, centralindianagunshows.com.
URL:https://midwestoutdoors.com/event/crown-point-gun-show/2026-06-27/
CATEGORIES:Gun Shows
END:VEVENT
BEGIN:VEVENT
DTSTART;VALUE=DATE:20260627
DTEND;VALUE=DATE:20260628
DTSTAMP:20260425T081930
CREATED:20260424T195435Z
LAST-MODIFIED:20260424T195435Z
UID:235266-1782518400-1782604799@midwestoutdoors.com
SUMMARY:Bass 2 Bass Tournament at Randall Lake
DESCRIPTION:June 27 \nBass 2 Bass Tournament at Randall Lake\, Waffle Farm Ramp. \nFor info: Jim Graham\,  260-403-2672 jimgraham1@live.com\, Bass2bassfishing.com. 
URL:https://midwestoutdoors.com/event/bass-2-bass-tournament-at-randall-lake/
CATEGORIES:Fishing,Tournaments
END:VEVENT
BEGIN:VEVENT
DTSTART;TZID=America/Chicago:20260625T170000
DTEND;TZID=America/Chicago:20260625T203000
DTSTAMP:20260425T081930
CREATED:20260424T194251Z
LAST-MODIFIED:20260424T194251Z
UID:235236-1782406800-1782419400@midwestoutdoors.com
SUMMARY:Protackle Week Night Series Bass Tournaments at Wawasee
DESCRIPTION:June 4\, 11\, 25 \nProtackle Week Night Series Bass Tournaments at Wawasee Lake\, DNR Ramp\, from 5 – 8:30 p.m.   \nEntry: $30 per team membership; $50 includes big bass. \nFor info: Joe Hammond\, 574-551-2920\, layklover@yahoo.com.
URL:https://midwestoutdoors.com/event/protackle-week-night-series-bass-tournaments-at-wawasee/2026-06-25/
CATEGORIES:Fishing,Tournaments
END:VEVENT
BEGIN:VEVENT
DTSTART;TZID=America/Chicago:20260621T090000
DTEND;TZID=America/Chicago:20260621T150000
DTSTAMP:20260425T081930
CREATED:20260424T202557Z
LAST-MODIFIED:20260424T202557Z
UID:235302-1782032400-1782054000@midwestoutdoors.com
SUMMARY:Muncie Gun Show
DESCRIPTION:June 20-21 \nMuncie Gun Show at Delaware County Fairgrounds\, 1210 N Wheeling Ave.\, Muncie\, IN 47303. \nHours: Saturday; 9 a.m. to 5 p.m.\, Sunday 9 a.m. to 3 p.m. \nAdmission $6\, children 12 and under free. \nFor info: Central Indiana Gun Shows\, Dan Hedger\, (765) 993-8942\, cigshows@gmail.com\, centralindianagunshows.com.
URL:https://midwestoutdoors.com/event/muncie-gun-show-3/2026-06-21/
CATEGORIES:Gun Shows
END:VEVENT
BEGIN:VEVENT
DTSTART;TZID=America/Chicago:20260621T090000
DTEND;TZID=America/Chicago:20260621T150000
DTSTAMP:20260425T081930
CREATED:20260424T192652Z
LAST-MODIFIED:20260424T192652Z
UID:235201-1782032400-1782054000@midwestoutdoors.com
SUMMARY:Midland Gun Show
DESCRIPTION:June 20-21 \nMidland Gun Show at Midland County Fairgrounds\, 6905 Eastman Ave.\, Midland\, MI 48642. \nHours: Saturday 9 a.m. to 5 p.m.\, Sunday 9 a.m. to 3 p.m. \nAdmission $10\, children 14 and under free. \nFor info: JDR Promotions LLC\, Dominic Jakubowski\, (810) 292-0001\, greatlakesgunshows.com.
URL:https://midwestoutdoors.com/event/midland-gun-show/2026-06-21/
CATEGORIES:Gun Shows
END:VEVENT
BEGIN:VEVENT
DTSTART;TZID=America/Chicago:20260621T090000
DTEND;TZID=America/Chicago:20260621T150000
DTSTAMP:20260425T081930
CREATED:20260302T173526Z
LAST-MODIFIED:20260302T173526Z
UID:233374-1782032400-1782054000@midwestoutdoors.com
SUMMARY:Pecatonica Gun Show
DESCRIPTION:June 19-21 \nPecatonica Gun Show at Winnebago County Fairgrounds\, 500 W 1st St.\, Pecatonica\, IL 61063. \nHours: Friday 3 – 8 p.m.\, Saturday; 9 a.m. to 5 p.m.\, Sunday 9 a.m. to 3 p.m. \nAdmission $10. \nFor info: Marv Kraus Promotions\, marvkrauspromotions.net.
URL:https://midwestoutdoors.com/event/pecatonica-gun-show/2026-06-21/
CATEGORIES:Gun Shows
END:VEVENT
BEGIN:VEVENT
DTSTART;TZID=America/Chicago:20260620T190000
DTEND;TZID=America/Chicago:20260621T030000
DTSTAMP:20260425T081930
CREATED:20260424T195328Z
LAST-MODIFIED:20260424T195328Z
UID:235261-1781982000-1782010800@midwestoutdoors.com
SUMMARY:Rockville Lake Park Catfish Tournament
DESCRIPTION:June 20 \nRockville Lake Park Catfish Tournament from 7 p.m. to 3 a.m. \nEntry $25 per two-man team; $5 Big Fish pot. \nFor info: rockvillelake.com/fishing-tournaments. 
URL:https://midwestoutdoors.com/event/rockville-lake-park-catfish-tournament-2/
CATEGORIES:Fishing,Tournaments
END:VEVENT
BEGIN:VEVENT
DTSTART;TZID=America/Chicago:20260620T090000
DTEND;TZID=America/Chicago:20260620T170000
DTSTAMP:20260425T081930
CREATED:20260424T202557Z
LAST-MODIFIED:20260424T202557Z
UID:235298-1781946000-1781974800@midwestoutdoors.com
SUMMARY:Muncie Gun Show
DESCRIPTION:June 20-21 \nMuncie Gun Show at Delaware County Fairgrounds\, 1210 N Wheeling Ave.\, Muncie\, IN 47303. \nHours: Saturday; 9 a.m. to 5 p.m.\, Sunday 9 a.m. to 3 p.m. \nAdmission $6\, children 12 and under free. \nFor info: Central Indiana Gun Shows\, Dan Hedger\, (765) 993-8942\, cigshows@gmail.com\, centralindianagunshows.com.
URL:https://midwestoutdoors.com/event/muncie-gun-show-3/2026-06-20/
CATEGORIES:Gun Shows
END:VEVENT
BEGIN:VEVENT
DTSTART;TZID=America/Chicago:20260620T090000
DTEND;TZID=America/Chicago:20260620T170000
DTSTAMP:20260425T081930
CREATED:20260424T192652Z
LAST-MODIFIED:20260424T192652Z
UID:235197-1781946000-1781974800@midwestoutdoors.com
SUMMARY:Midland Gun Show
DESCRIPTION:June 20-21 \nMidland Gun Show at Midland County Fairgrounds\, 6905 Eastman Ave.\, Midland\, MI 48642. \nHours: Saturday 9 a.m. to 5 p.m.\, Sunday 9 a.m. to 3 p.m. \nAdmission $10\, children 14 and under free. \nFor info: JDR Promotions LLC\, Dominic Jakubowski\, (810) 292-0001\, greatlakesgunshows.com.
URL:https://midwestoutdoors.com/event/midland-gun-show/2026-06-20/
CATEGORIES:Gun Shows
END:VEVENT
BEGIN:VEVENT
DTSTART;TZID=America/Chicago:20260620T090000
DTEND;TZID=America/Chicago:20260620T170000
DTSTAMP:20260425T081930
CREATED:20260302T173526Z
LAST-MODIFIED:20260302T173526Z
UID:233370-1781946000-1781974800@midwestoutdoors.com
SUMMARY:Pecatonica Gun Show
DESCRIPTION:June 19-21 \nPecatonica Gun Show at Winnebago County Fairgrounds\, 500 W 1st St.\, Pecatonica\, IL 61063. \nHours: Friday 3 – 8 p.m.\, Saturday; 9 a.m. to 5 p.m.\, Sunday 9 a.m. to 3 p.m. \nAdmission $10. \nFor info: Marv Kraus Promotions\, marvkrauspromotions.net.
URL:https://midwestoutdoors.com/event/pecatonica-gun-show/2026-06-20/
CATEGORIES:Gun Shows
END:VEVENT
BEGIN:VEVENT
DTSTART;TZID=America/Chicago:20260619T150000
DTEND;TZID=America/Chicago:20260619T200000
DTSTAMP:20260425T081930
CREATED:20260302T173526Z
LAST-MODIFIED:20260302T173526Z
UID:233366-1781881200-1781899200@midwestoutdoors.com
SUMMARY:Pecatonica Gun Show
DESCRIPTION:June 19-21 \nPecatonica Gun Show at Winnebago County Fairgrounds\, 500 W 1st St.\, Pecatonica\, IL 61063. \nHours: Friday 3 – 8 p.m.\, Saturday; 9 a.m. to 5 p.m.\, Sunday 9 a.m. to 3 p.m. \nAdmission $10. \nFor info: Marv Kraus Promotions\, marvkrauspromotions.net.
URL:https://midwestoutdoors.com/event/pecatonica-gun-show/2026-06-19/
CATEGORIES:Gun Shows
END:VEVENT
BEGIN:VEVENT
DTSTART;TZID=America/Chicago:20260614T100000
DTEND;TZID=America/Chicago:20260614T170000
DTSTAMP:20260425T081930
CREATED:20260424T204252Z
LAST-MODIFIED:20260424T204252Z
UID:235324-1781431200-1781456400@midwestoutdoors.com
SUMMARY:Walleye Weekend in Fond du Lac
DESCRIPTION:June 12-14 \nWalleye Weekend on Main Street\, Fond du Lac\, Wis. All-day fun and endless entertainment\, including live music on three stages\, free children’s shows and activities\, sports tournaments\, a family fishing tournament\, exhibits\, the Mercury National Walleye Tournament\, and much more. \nHours: Friday 3 – 10 p.m.\, Saturday 8 a.m. to 10 p.m.\, Sunday 10 a.m. to 5 p.m. \nFor info: 920-923-6555\, fdlfest.com/walleyeweekend.
URL:https://midwestoutdoors.com/event/walleye-weekend-in-fond-du-lac/2026-06-14/
CATEGORIES:Festival,Fishing,Tournaments
END:VEVENT
BEGIN:VEVENT
DTSTART;TZID=America/Chicago:20260614T100000
DTEND;TZID=America/Chicago:20260614T150000
DTSTAMP:20260425T081930
CREATED:20260424T192510Z
LAST-MODIFIED:20260424T192510Z
UID:235184-1781431200-1781449200@midwestoutdoors.com
SUMMARY:Monroe Gun & Knife Show
DESCRIPTION:June 13-14 & August 22-23 \nMonroe Gun & Knife Show at First Merchants Bank Expo Center\, 3775 S Custer Road\, Monroe\, MI 48161. \nHours: Saturday 9 a.m. to 5 p.m.\, Sunday 10 a.m. to 3 p.m. \nAdmission $8\, active military and seniors $1 off. \nFor info: Sport Shows Promotions\, (517) 883-5022\,  sportshows@gmail.com\, migunshow.com.
URL:https://midwestoutdoors.com/event/monroe-gun-knife-show-3/2026-06-14/
CATEGORIES:Gun Shows
END:VEVENT
BEGIN:VEVENT
DTSTART;TZID=America/Chicago:20260614T090000
DTEND;TZID=America/Chicago:20260614T160000
DTSTAMP:20260425T081930
CREATED:20260424T202403Z
LAST-MODIFIED:20260424T202403Z
UID:235293-1781427600-1781452800@midwestoutdoors.com
SUMMARY:Indy 1500 Gun & Blade Show
DESCRIPTION:June 12-14 \nIndy 1500 Gun & Blade Show at Indiana State Fairgrounds\, South Pavilion Building\, 1202 East 38th Street\,  Indianapolis\, IN 46205. \nHours: Friday 2 – 7 p.m.\, Saturday 9 a.m. to 6 p.m. Sunday 9 a.m. to 4 p.m. \nAdmission $15\, good all weekend.   \nFor info: Indy 1500.com\, (405) 408-6197\, indy1500.com.
URL:https://midwestoutdoors.com/event/indy-1500-gun-blade-show-2/2026-06-14/
CATEGORIES:Gun Shows
END:VEVENT
BEGIN:VEVENT
DTSTART;TZID=America/Chicago:20260614T070000
DTEND;TZID=America/Chicago:20260614T130000
DTSTAMP:20260425T081930
CREATED:20260424T195138Z
LAST-MODIFIED:20260424T195138Z
UID:235256-1781420400-1781442000@midwestoutdoors.com
SUMMARY:Rockville Lake Park Bass Tournament
DESCRIPTION:June 14 \nRockville Lake Park Bass Tournament from 7 a.m. to 1 p.m. \nEntry: $10/boat with optional Big Bass entry. \nRegistration 6:30 – 6:50 a.m. at the boat launch. \nFor info: rockvillelake.com/fishing-tournaments. 
URL:https://midwestoutdoors.com/event/rockville-lake-park-bass-tournament-2/
CATEGORIES:Fishing,Tournaments
END:VEVENT
BEGIN:VEVENT
DTSTART;VALUE=DATE:20260614
DTEND;VALUE=DATE:20260615
DTSTAMP:20260425T081930
CREATED:20260424T195014Z
LAST-MODIFIED:20260424T195014Z
UID:235251-1781395200-1781481599@midwestoutdoors.com
SUMMARY:USA Bassin IN-56 Bass Tournament at Pine Lake
DESCRIPTION:June 14 \nUSA Bassin IN-56 Bass Tournament at Pine Lake\, Stone Ramp. \nFor info:  219-669-9818 . 
URL:https://midwestoutdoors.com/event/usa-bassin-in-56-bass-tournament-at-pine-lake/
CATEGORIES:Fishing,Tournaments
END:VEVENT
BEGIN:VEVENT
DTSTART;TZID=America/Chicago:20260613T090000
DTEND;TZID=America/Chicago:20260613T180000
DTSTAMP:20260425T081930
CREATED:20260424T202403Z
LAST-MODIFIED:20260424T202403Z
UID:235289-1781341200-1781373600@midwestoutdoors.com
SUMMARY:Indy 1500 Gun & Blade Show
DESCRIPTION:June 12-14 \nIndy 1500 Gun & Blade Show at Indiana State Fairgrounds\, South Pavilion Building\, 1202 East 38th Street\,  Indianapolis\, IN 46205. \nHours: Friday 2 – 7 p.m.\, Saturday 9 a.m. to 6 p.m. Sunday 9 a.m. to 4 p.m. \nAdmission $15\, good all weekend.   \nFor info: Indy 1500.com\, (405) 408-6197\, indy1500.com.
URL:https://midwestoutdoors.com/event/indy-1500-gun-blade-show-2/2026-06-13/
CATEGORIES:Gun Shows
END:VEVENT
BEGIN:VEVENT
DTSTART;TZID=America/Chicago:20260613T090000
DTEND;TZID=America/Chicago:20260613T170000
DTSTAMP:20260425T081930
CREATED:20260424T192510Z
LAST-MODIFIED:20260424T192510Z
UID:235180-1781341200-1781370000@midwestoutdoors.com
SUMMARY:Monroe Gun & Knife Show
DESCRIPTION:June 13-14 & August 22-23 \nMonroe Gun & Knife Show at First Merchants Bank Expo Center\, 3775 S Custer Road\, Monroe\, MI 48161. \nHours: Saturday 9 a.m. to 5 p.m.\, Sunday 10 a.m. to 3 p.m. \nAdmission $8\, active military and seniors $1 off. \nFor info: Sport Shows Promotions\, (517) 883-5022\,  sportshows@gmail.com\, migunshow.com.
URL:https://midwestoutdoors.com/event/monroe-gun-knife-show-3/2026-06-13/
CATEGORIES:Gun Shows
END:VEVENT
END:VCALENDAR