BEGIN:VCALENDAR
VERSION:2.0
PRODID:-//MidWest Outdoors - ECPv6.15.9//NONSGML v1.0//EN
CALSCALE:GREGORIAN
METHOD:PUBLISH
X-WR-CALNAME:MidWest Outdoors
X-ORIGINAL-URL:https://midwestoutdoors.com
X-WR-CALDESC:Events for MidWest Outdoors
REFRESH-INTERVAL;VALUE=DURATION:PT1H
X-Robots-Tag:noindex
X-PUBLISHED-TTL:PT1H
BEGIN:VTIMEZONE
TZID:America/Chicago
BEGIN:DAYLIGHT
TZOFFSETFROM:-0600
TZOFFSETTO:-0500
TZNAME:CDT
DTSTART:20240310T080000
END:DAYLIGHT
BEGIN:STANDARD
TZOFFSETFROM:-0500
TZOFFSETTO:-0600
TZNAME:CST
DTSTART:20241103T070000
END:STANDARD
BEGIN:DAYLIGHT
TZOFFSETFROM:-0600
TZOFFSETTO:-0500
TZNAME:CDT
DTSTART:20250309T080000
END:DAYLIGHT
BEGIN:STANDARD
TZOFFSETFROM:-0500
TZOFFSETTO:-0600
TZNAME:CST
DTSTART:20251102T070000
END:STANDARD
BEGIN:DAYLIGHT
TZOFFSETFROM:-0600
TZOFFSETTO:-0500
TZNAME:CDT
DTSTART:20260308T080000
END:DAYLIGHT
BEGIN:STANDARD
TZOFFSETFROM:-0500
TZOFFSETTO:-0600
TZNAME:CST
DTSTART:20261101T070000
END:STANDARD
END:VTIMEZONE
BEGIN:VEVENT
DTSTART;VALUE=DATE:20250620
DTEND;VALUE=DATE:20250623
DTSTAMP:20260423T081813
CREATED:20250430T160658Z
LAST-MODIFIED:20250430T160658Z
UID:217709-1750377600-1750636799@midwestoutdoors.com
SUMMARY:Musky Festival at Downtown Hayward
DESCRIPTION:June 20-22 \nMusky Festival at Downtown Hayward\, Main Street\, Hayward\, WI 54843. \nHayward’s largest summer celebration of the great fishing history of Wisconsin’s Northwoods. Held annually the weekend following Father’s Day in downtown Hayward. The weekend includes the crowning of our Musky Festival Queen\, sidewalk sales\, large handmade arts & crafts show\, live music\, children’s games\, great food booths\, Musky Run\, cornhole tournament\, FHNB fishing contest\, paddle race and a carnival. Everyone will enjoy regional musicians during Friday and Saturday night street dances. The weekend concludes with a large parade on Sunday. \nFor info: 715-634-8662\, muskyfest.com.
URL:https://midwestoutdoors.com/event/musky-festival-at-downtown-hayward/
CATEGORIES:Festival,Fishing,Tournaments
END:VEVENT
BEGIN:VEVENT
DTSTART;TZID=America/Chicago:20250621T050000
DTEND;TZID=America/Chicago:20250621T170000
DTSTAMP:20260423T081813
CREATED:20250429T164309Z
LAST-MODIFIED:20250429T164309Z
UID:217397-1750482000-1750525200@midwestoutdoors.com
SUMMARY:Kentucky BASS Nation Adult Qualifier 3\, at Green River Lake
DESCRIPTION:June 21 \nKentucky BASS Nation Adult Qualifier 3\, at Green River Lake\, Ramp #1\, from 5 a.m. to 1 p.m. \nFor info: Kevin True\, 502-319-2861\, kybassnation.org.
URL:https://midwestoutdoors.com/event/kentucky-bass-nation-adult-qualifier-3-at-green-river-lake/
CATEGORIES:Fishing,Tournaments
END:VEVENT
BEGIN:VEVENT
DTSTART;TZID=America/Chicago:20250621T060000
DTEND;TZID=America/Chicago:20250621T130000
DTSTAMP:20260423T081813
CREATED:20250429T164033Z
LAST-MODIFIED:20250429T164033Z
UID:217392-1750485600-1750510800@midwestoutdoors.com
SUMMARY:FTF Open Bass Tournament at Barren River Lake
DESCRIPTION:June 21 \nFTF Open Bass Tournament at Barren River Lake\, Port Oliver Ramp\, from 6 p.m. to 1 a.m. \nFor info: Morris Hogue\, happy_hogue66@yahoo.com\, 270-606-3321.
URL:https://midwestoutdoors.com/event/ftf-open-bass-tournament-at-barren-river-lake-2/
CATEGORIES:Fishing,Tournaments
END:VEVENT
BEGIN:VEVENT
DTSTART;TZID=America/Chicago:20250621T080000
DTEND;TZID=America/Chicago:20250621T140000
DTSTAMP:20260423T081813
CREATED:20250430T163219Z
LAST-MODIFIED:20250430T163219Z
UID:217764-1750492800-1750514400@midwestoutdoors.com
SUMMARY:Cardboard Boat Race & Youth Fishing Derby at Fox Lake
DESCRIPTION:June 21 \nCardboard Boat Race & Youth Fishing Derby at Fox Lake from 8 a.m. to 2 p.m.\, at Lakefront Park. \nBring out your kids for a fun day of catching fish and cardboard boat races. There will be giveaways\, music\, and prizes for top catches. Test out your craftsmanship and build a cardboard boat to race against others. This will be a fun event for people of all ages whether they are sailing their vessel or cheering on from the shoreline. \nFor info: foxlake.org/420/Cardboard-Boat-Race-Youth-Fishing-Derby.
URL:https://midwestoutdoors.com/event/cardboard-boat-race-youth-fishing-derby-at-fox-lake/
CATEGORIES:Fishing,Tournaments
END:VEVENT
END:VCALENDAR