BEGIN:VCALENDAR
VERSION:2.0
PRODID:-//MidWest Outdoors - ECPv6.15.9//NONSGML v1.0//EN
CALSCALE:GREGORIAN
METHOD:PUBLISH
X-ORIGINAL-URL:https://midwestoutdoors.com
X-WR-CALDESC:Events for MidWest Outdoors
REFRESH-INTERVAL;VALUE=DURATION:PT1H
X-Robots-Tag:noindex
X-PUBLISHED-TTL:PT1H
BEGIN:VTIMEZONE
TZID:America/Chicago
BEGIN:DAYLIGHT
TZOFFSETFROM:-0600
TZOFFSETTO:-0500
TZNAME:CDT
DTSTART:20240310T080000
END:DAYLIGHT
BEGIN:STANDARD
TZOFFSETFROM:-0500
TZOFFSETTO:-0600
TZNAME:CST
DTSTART:20241103T070000
END:STANDARD
BEGIN:DAYLIGHT
TZOFFSETFROM:-0600
TZOFFSETTO:-0500
TZNAME:CDT
DTSTART:20250309T080000
END:DAYLIGHT
BEGIN:STANDARD
TZOFFSETFROM:-0500
TZOFFSETTO:-0600
TZNAME:CST
DTSTART:20251102T070000
END:STANDARD
BEGIN:DAYLIGHT
TZOFFSETFROM:-0600
TZOFFSETTO:-0500
TZNAME:CDT
DTSTART:20260308T080000
END:DAYLIGHT
BEGIN:STANDARD
TZOFFSETFROM:-0500
TZOFFSETTO:-0600
TZNAME:CST
DTSTART:20261101T070000
END:STANDARD
END:VTIMEZONE
BEGIN:VEVENT
DTSTART;TZID=America/Chicago:20250602T173000
DTEND;TZID=America/Chicago:20250602T210000
DTSTAMP:20260422T124124
CREATED:20250429T152754Z
LAST-MODIFIED:20250429T152754Z
UID:217236-1748885400-1748898000@midwestoutdoors.com
SUMMARY:Hawkeye Bass Anglers Open Tournament at Badger Creek Lake
DESCRIPTION:June 2 & 9 \nHawkeye Bass Anglers Open Tournament at Badger Creek Lake\, Van Meter\, IA\, 50261. \nHours: 5:30 – 9 p.m. both days. \nFor info: Hawkeye Bass Anglers\, Inc.\, (515) 556-1032\, ricsumiller@gmail.com.
URL:https://midwestoutdoors.com/event/hawkeye-bass-anglers-open-tournament-at-badger-creek-lake-3/2025-06-02/
CATEGORIES:Fishing,Tournaments
END:VEVENT
BEGIN:VEVENT
DTSTART;TZID=America/Chicago:20250602T173000
DTEND;TZID=America/Chicago:20250602T213000
DTSTAMP:20260422T124124
CREATED:20250429T202204Z
LAST-MODIFIED:20250429T202204Z
UID:217572-1748885400-1748899800@midwestoutdoors.com
SUMMARY:BAM Open Tournament at Austin Lake
DESCRIPTION:June 2 \nBAM Open Tournament at Austin Lake\, Kalamazoo County\, from 5:30 to 9:30 p.m. \nMust be a BAM member; you can sign up at ramp. \nFor info: 269-744-1151\, miles@dandrsports.com\, FishBAM.net.
URL:https://midwestoutdoors.com/event/bam-open-tournament-at-austin-lake/
CATEGORIES:Fishing,Tournaments
END:VEVENT
BEGIN:VEVENT
DTSTART;TZID=America/Chicago:20250602T180000
DTEND;TZID=America/Chicago:20250602T210000
DTSTAMP:20260422T124124
CREATED:20250429T202400Z
LAST-MODIFIED:20250429T202400Z
UID:217577-1748887200-1748898000@midwestoutdoors.com
SUMMARY:Cash for Bass Tournament at Lake Orion
DESCRIPTION:June 2 \nCash for Bass Open Tournament at Lake Orion\, Oakland County\, from 6 to 9 p.m. \nFor info: 248-361-6372.
URL:https://midwestoutdoors.com/event/cash-for-bass-tournament-at-lake-orion/
CATEGORIES:Fishing,Tournaments
END:VEVENT
END:VCALENDAR