BEGIN:VCALENDAR
VERSION:2.0
PRODID:-//MidWest Outdoors - ECPv6.15.9//NONSGML v1.0//EN
CALSCALE:GREGORIAN
METHOD:PUBLISH
X-ORIGINAL-URL:https://midwestoutdoors.com
X-WR-CALDESC:Events for MidWest Outdoors
REFRESH-INTERVAL;VALUE=DURATION:PT1H
X-Robots-Tag:noindex
X-PUBLISHED-TTL:PT1H
BEGIN:VTIMEZONE
TZID:America/Chicago
BEGIN:DAYLIGHT
TZOFFSETFROM:-0600
TZOFFSETTO:-0500
TZNAME:CDT
DTSTART:20250309T080000
END:DAYLIGHT
BEGIN:STANDARD
TZOFFSETFROM:-0500
TZOFFSETTO:-0600
TZNAME:CST
DTSTART:20251102T070000
END:STANDARD
BEGIN:DAYLIGHT
TZOFFSETFROM:-0600
TZOFFSETTO:-0500
TZNAME:CDT
DTSTART:20260308T080000
END:DAYLIGHT
BEGIN:STANDARD
TZOFFSETFROM:-0500
TZOFFSETTO:-0600
TZNAME:CST
DTSTART:20261101T070000
END:STANDARD
BEGIN:DAYLIGHT
TZOFFSETFROM:-0600
TZOFFSETTO:-0500
TZNAME:CDT
DTSTART:20270314T080000
END:DAYLIGHT
BEGIN:STANDARD
TZOFFSETFROM:-0500
TZOFFSETTO:-0600
TZNAME:CST
DTSTART:20271107T070000
END:STANDARD
END:VTIMEZONE
BEGIN:VEVENT
DTSTART;TZID=America/Chicago:20260305T130000
DTEND;TZID=America/Chicago:20260305T200000
DTSTAMP:20260423T130923
CREATED:20251001T195628Z
LAST-MODIFIED:20251001T195628Z
UID:224463-1772715600-1772740800@midwestoutdoors.com
SUMMARY:Northwest Sportshow
DESCRIPTION:March 5-8 \nNorthwest Sportshow\, at the Minneapolis Convention Center\, 1301 2nd Ave. S\, Minneapolis MN 55403-2710 \nShow Hours: Thursday 1 – 8 p.m.\, Friday 12 – 8 p.m.\, Saturday 10 a.m to 7 p.m.\, Sunday 10 a.m. to 5 p.m. \nFor info: Marketplace Events\, BruceE@mpeshowscom\, northwestsportshow.com.
URL:https://midwestoutdoors.com/event/northwest-sportshow/2026-03-05/
CATEGORIES:Sports & Boat Shows
END:VEVENT
BEGIN:VEVENT
DTSTART;TZID=America/Chicago:20260305T170000
DTEND;TZID=America/Chicago:20260305T210000
DTSTAMP:20260423T130923
CREATED:20251001T171937Z
LAST-MODIFIED:20251001T171937Z
UID:224446-1772730000-1772744400@midwestoutdoors.com
SUMMARY:61st Annual Red River Valley Sportsmen’s Boat\, Camping & Vacation Show
DESCRIPTION:March 5-8 \n61st Annual Red River Valley Sportsmen’s Boat\, Camping & Vacation Show\, at Fargo Dome\, 1800 North University Drive\, Fargo\, ND\, \nShow Hours: Thursday 5 – 9 p.m.\, Friday 12 – 9 p.m.\, Saturday 10 a.m. to 8 p.m.\, Sunday 10 a.m. to 5 p.m. \nFor info: Cenaiko Products\, cenaiko.com\, fargosportshow.com\, info@cenaiko.com.
URL:https://midwestoutdoors.com/event/61st-annual-red-river-valley-sportsmens-boat-camping-vacation-show/2026-03-05/
CATEGORIES:Sports & Boat Shows
END:VEVENT
END:VCALENDAR