BEGIN:VCALENDAR
VERSION:2.0
PRODID:-//MidWest Outdoors - ECPv6.15.9//NONSGML v1.0//EN
CALSCALE:GREGORIAN
METHOD:PUBLISH
X-WR-CALNAME:MidWest Outdoors
X-ORIGINAL-URL:https://midwestoutdoors.com
X-WR-CALDESC:Events for MidWest Outdoors
REFRESH-INTERVAL;VALUE=DURATION:PT1H
X-Robots-Tag:noindex
X-PUBLISHED-TTL:PT1H
BEGIN:VTIMEZONE
TZID:America/Chicago
BEGIN:DAYLIGHT
TZOFFSETFROM:-0600
TZOFFSETTO:-0500
TZNAME:CDT
DTSTART:20250309T080000
END:DAYLIGHT
BEGIN:STANDARD
TZOFFSETFROM:-0500
TZOFFSETTO:-0600
TZNAME:CST
DTSTART:20251102T070000
END:STANDARD
BEGIN:DAYLIGHT
TZOFFSETFROM:-0600
TZOFFSETTO:-0500
TZNAME:CDT
DTSTART:20260308T080000
END:DAYLIGHT
BEGIN:STANDARD
TZOFFSETFROM:-0500
TZOFFSETTO:-0600
TZNAME:CST
DTSTART:20261101T070000
END:STANDARD
BEGIN:DAYLIGHT
TZOFFSETFROM:-0600
TZOFFSETTO:-0500
TZNAME:CDT
DTSTART:20270314T080000
END:DAYLIGHT
BEGIN:STANDARD
TZOFFSETFROM:-0500
TZOFFSETTO:-0600
TZNAME:CST
DTSTART:20271107T070000
END:STANDARD
END:VTIMEZONE
BEGIN:VEVENT
DTSTART;TZID=America/Chicago:20260222T100000
DTEND;TZID=America/Chicago:20260222T150000
DTSTAMP:20260425T112316
CREATED:20250926T194356Z
LAST-MODIFIED:20250926T194356Z
UID:224177-1771754400-1771772400@midwestoutdoors.com
SUMMARY:QCCA RV and Camping Show
DESCRIPTION:February 20-22 \nQCCA RV and Camping Show\, at the QCCA Expo Center\, 2621 4th Ave.\, Rock Island\, Illinois \nShow Hours:  Friday 10 a.m. – 7 p.m.\, Saturday 10 a.m. – 7 p.m.\, Sunday 10 a.m. – 3 p.m. \nFor info: Quad City Conservation Alliance\, Inc.\, info@qccaexpocenter.com\, qccaexpocenter.com.
URL:https://midwestoutdoors.com/event/qcca-rv-and-camping-show-2/2026-02-22/
CATEGORIES:Sports & Boat Shows
END:VEVENT
BEGIN:VEVENT
DTSTART;TZID=America/Chicago:20260222T100000
DTEND;TZID=America/Chicago:20260222T160000
DTSTAMP:20260425T112316
CREATED:20250926T164214Z
LAST-MODIFIED:20250926T164214Z
UID:224128-1771754400-1771776000@midwestoutdoors.com
SUMMARY:Duluth Sports Show
DESCRIPTION:February 19-22 \nDuluth Sports Show\, Duluth Entertainment & Convention Center\, 350 Harbor Drive\, Duluth\, MN 55802 \nShow Hours:  Thursday 3 – 8 pm\,  Friday 10 am – 8 pm\, Saturday 9 am – 8 pm\,  Sunday 10 am – 4 pm \nFor info: Shamrock Prod\, shamrockprod.com\, duluthsportshow.com.
URL:https://midwestoutdoors.com/event/duluth-sports-show-2/2026-02-22/
CATEGORIES:Sports & Boat Shows
END:VEVENT
BEGIN:VEVENT
DTSTART;TZID=America/Chicago:20260222T100000
DTEND;TZID=America/Chicago:20260222T160000
DTSTAMP:20260425T112316
CREATED:20250929T194629Z
LAST-MODIFIED:20250929T194629Z
UID:224241-1771754400-1771776000@midwestoutdoors.com
SUMMARY:Cedar Rapids Sportshow
DESCRIPTION:February 20-22 \nCedar Rapids Sportshow\, Hawkeye Downs Event Center\, Cedar Rapids\, IA\, \nHours: Friday 3pm – 8pm\, Saturday: 10am – 8pm\, Sunday: 10am – 4pm \nFor info: Events\, Inc.\, (317) 716-2684\, boatrvandsportshows.com\, info@events-inc.com.
URL:https://midwestoutdoors.com/event/cedar-rapids-sportshow/2026-02-22/
CATEGORIES:Sports & Boat Shows
END:VEVENT
BEGIN:VEVENT
DTSTART;TZID=America/Chicago:20260222T100000
DTEND;TZID=America/Chicago:20260222T160000
DTSTAMP:20260425T112316
CREATED:20250929T195840Z
LAST-MODIFIED:20250929T195919Z
UID:224264-1771754400-1771776000@midwestoutdoors.com
SUMMARY:Lake County Boat Show
DESCRIPTION:February 20-22 \nLake County Boat Show\, Lake County Fairgrounds\, 889 South Court St.\, Crown Point\, IN 46356 \nShow Hours: Friday 2 – 7 p.m.\, Saturday 10 a.m to 7 p.m.\, Sunday 10 a.m to 4 p.m. \nFor info: Indiana Boat Shows\, LLC.\,  boatshow@boatshop.com\, lakecountyboatshow.com.
URL:https://midwestoutdoors.com/event/lake-county-boat-show/2026-02-22/
CATEGORIES:Sports & Boat Shows
END:VEVENT
BEGIN:VEVENT
DTSTART;TZID=America/Chicago:20260222T100000
DTEND;TZID=America/Chicago:20260222T160000
DTSTAMP:20260425T112316
CREATED:20250930T192041Z
LAST-MODIFIED:20250930T192041Z
UID:224334-1771754400-1771776000@midwestoutdoors.com
SUMMARY:RV and Boat Show Main Sales Event
DESCRIPTION:February 20-22 \nRV and Boat Show Main Sales Event\, at the EAA Grounds\, 1305 W Waukau Ave\, Oshkosh\, WI 54902 \nShow Hours: Friday 11 a.m. to 8 p.m.\, Saturday 10 a.m. to 7 p.m.\, Sunday 10 a.m to 4 p.m. \nFor info: Fox Valley Outdoor Enthusiasts\, LLC\, rvboatmainevent.com\, (920) 676-7903\, info@rvboatmainevent.com
URL:https://midwestoutdoors.com/event/rv-and-boat-show-main-sales-event/2026-02-22/
CATEGORIES:Sports & Boat Shows
END:VEVENT
BEGIN:VEVENT
DTSTART;TZID=America/Chicago:20260222T100000
DTEND;TZID=America/Chicago:20260222T170000
DTSTAMP:20260425T112316
CREATED:20250926T164743Z
LAST-MODIFIED:20250926T164743Z
UID:224145-1771754400-1771779600@midwestoutdoors.com
SUMMARY:Cottage and Lakefront Living Show - Detroit
DESCRIPTION:February 19-22 \nCottage and Lakefront Living Show – Detroit\, at the Suburban Collection Showplace\, 46100 Grand River Ave.\, Novi\, MI 48347 \nShow Hours: Thursday 1 – 8 p.m.\, Friday 12 – 8 p.m.\, Saturday 10 a.m. to 8 p.m.\, Sunday 10 a.m to 5 p.m. \nFor info: Showspan Inc.\, showspan.com\, events@showspan.com.
URL:https://midwestoutdoors.com/event/cottage-and-lakefront-living-show-detroit/2026-02-22/
CATEGORIES:Sports & Boat Shows
END:VEVENT
BEGIN:VEVENT
DTSTART;TZID=America/Chicago:20260222T100000
DTEND;TZID=America/Chicago:20260222T170000
DTSTAMP:20260425T112316
CREATED:20250926T165519Z
LAST-MODIFIED:20250926T165519Z
UID:224162-1771754400-1771779600@midwestoutdoors.com
SUMMARY:Outdoorama - Novi
DESCRIPTION:February 19-22 \nOutdoorama at the Suburban Collection Showplace\, 46100 Grand River Ave.\, Novi\, MI 48347 \n\n\nShow Hours: Thursday 1 – 8 p.m.\, Friday 12 – 8 p.m.\, Saturday 10 a.m. to 8 p.m.\, Sunday 10 a.m to 5 p.m.\n\n\nFor info: Showspan Inc.\, John Loeks\, (616) 447-2860\, showspan.com\, events@showspan.com.
URL:https://midwestoutdoors.com/event/outdoorama-novi/2026-02-22/
CATEGORIES:Sports & Boat Shows
END:VEVENT
BEGIN:VEVENT
DTSTART;TZID=America/Chicago:20260222T100000
DTEND;TZID=America/Chicago:20260222T170000
DTSTAMP:20260425T112316
CREATED:20250930T191631Z
LAST-MODIFIED:20250930T191631Z
UID:224299-1771754400-1771779600@midwestoutdoors.com
SUMMARY:Ford Indianapolis Boat\, Sport & Travel Show
DESCRIPTION:February 20-22 and February 25 – March 1 \nFord Indianapolis Boat\, Sport & Travel Show\, Indiana State Fairgrounds\,1202 E. 38th St.\, Indianapolis\, IN 46205 \nShow Hours:\nFriday\, Feb. 20:  1 – 8 p.m.\nSaturday\, Feb. 21:  10 a.m. – 8 p.m.\nSunday\, Feb. 22:  10 a.m. – 5 p.m.\nMonday & Tuesday\, Feb. 23-24 – CLOSED\nWednesday-Thursday\, Feb. 25-26:  12 – 7 p.m.\nFriday\, Feb. 27:  12 – 8 p.m.\nSaturday\, Feb. 28: 10 a.m. – 8 p.m.\nSunday\,  Mar. 1:    10 a.m. – 5 p.m. \nFor info: Renfro Productions & Management\, Inc.\, renfroproductions.com\, indianapolisboatsportandtravelshow.com.
URL:https://midwestoutdoors.com/event/ford-indianapolis-boat-sport-travel-show-3/2026-02-22/
CATEGORIES:Sports & Boat Shows
END:VEVENT
END:VCALENDAR