BEGIN:VCALENDAR
VERSION:2.0
PRODID:-//MidWest Outdoors - ECPv6.15.9//NONSGML v1.0//EN
CALSCALE:GREGORIAN
METHOD:PUBLISH
X-WR-CALNAME:MidWest Outdoors
X-ORIGINAL-URL:https://midwestoutdoors.com
X-WR-CALDESC:Events for MidWest Outdoors
REFRESH-INTERVAL;VALUE=DURATION:PT1H
X-Robots-Tag:noindex
X-PUBLISHED-TTL:PT1H
BEGIN:VTIMEZONE
TZID:America/Chicago
BEGIN:DAYLIGHT
TZOFFSETFROM:-0600
TZOFFSETTO:-0500
TZNAME:CDT
DTSTART:20250309T080000
END:DAYLIGHT
BEGIN:STANDARD
TZOFFSETFROM:-0500
TZOFFSETTO:-0600
TZNAME:CST
DTSTART:20251102T070000
END:STANDARD
BEGIN:DAYLIGHT
TZOFFSETFROM:-0600
TZOFFSETTO:-0500
TZNAME:CDT
DTSTART:20260308T080000
END:DAYLIGHT
BEGIN:STANDARD
TZOFFSETFROM:-0500
TZOFFSETTO:-0600
TZNAME:CST
DTSTART:20261101T070000
END:STANDARD
BEGIN:DAYLIGHT
TZOFFSETFROM:-0600
TZOFFSETTO:-0500
TZNAME:CDT
DTSTART:20270314T080000
END:DAYLIGHT
BEGIN:STANDARD
TZOFFSETFROM:-0500
TZOFFSETTO:-0600
TZNAME:CST
DTSTART:20271107T070000
END:STANDARD
END:VTIMEZONE
BEGIN:VEVENT
DTSTART;TZID=America/Chicago:20260128T030000
DTEND;TZID=America/Chicago:20260128T210000
DTSTAMP:20260424T041453
CREATED:20250923T164530Z
LAST-MODIFIED:20250923T164530Z
UID:223755-1769569200-1769634000@midwestoutdoors.com
SUMMARY:Cincinnati Travel\, Sports & Boat Show
DESCRIPTION:January 23-25 and January 28 – February 1 \nCincinnati Travel\, Sports & Boat Show\, Duke Energy Convention Center\, 525 Elm St.\, Cincinnati\, OH 45202 \nShow Hours:\nFri. Jan. 23 – 5-9pm\nSat. Jan. 24 – 10am – 9pm\nSun. Jan. 25 – 10am – 5pm\nMon. & Tues. – CLOSED\nWed. Jan 28 – 3pm-9pm\nThurs. Jan 29 – 3pm-9pm\nFri. Jan 30 – 3pm-9pm\nSat. Jan. 31 – 10am – 9pm\nSun. Feb. 1 – 10am – 5pm \nFor info: Renfro Productions & Management\, Kevin Renfro\, renfroproductions.com\, info@renfroproductions.com\, or cincinnatitravelsportsandboatshow.com.
URL:https://midwestoutdoors.com/event/cincinnati-travel-sports-boat-show/2026-01-28/
CATEGORIES:Sports & Boat Shows
END:VEVENT
BEGIN:VEVENT
DTSTART;TZID=America/Chicago:20260128T130000
DTEND;TZID=America/Chicago:20260128T200000
DTSTAMP:20260424T041453
CREATED:20250923T193744Z
LAST-MODIFIED:20250923T193744Z
UID:223833-1769605200-1769630400@midwestoutdoors.com
SUMMARY:60th Detroit Camper and RV Show
DESCRIPTION:January 28 – February 1 \n60th Detroit Camper and RV Show\, Suburban Collection Showplace\, 46100 Grand River Ave.\, Novi\, MI 48374 \nHours: Wednesday – Friday 1 – 8 p.m.\, Saturday10 a.m. to 9 p.m.\, Sunday 10 a.m to 5 p.m. \nFor info: MARVAC\, marvac.org\, michiganrvandcampgrounds.org.
URL:https://midwestoutdoors.com/event/60th-detroit-camper-and-rv-show/2026-01-28/
CATEGORIES:Sports & Boat Shows
END:VEVENT
BEGIN:VEVENT
DTSTART;TZID=America/Chicago:20260128T140000
DTEND;TZID=America/Chicago:20260128T200000
DTSTAMP:20260424T041453
CREATED:20250923T190707Z
LAST-MODIFIED:20250923T192829Z
UID:223813-1769608800-1769630400@midwestoutdoors.com
SUMMARY:Chicago Boat Show
DESCRIPTION:January 28 – February 1 \nChicago Boat Show\, Donald E. Stephens Convention Center\, 5555 N River Rd.\,Rosemont\, IL 60018 \nHours: Wednesday 2 – 8 p.m.\, Thursday 11 a.m. to 8 p.m.\, Friday 11 a.m. to 9 p.m.\, Saturday 10 a.m. to 8 p.m.\, Sunday 10 a.m to 5 p.m.. \nNMMA\, Jeff Marquard (312) 946-6240\,  jmarquard@nmma.org\, chicagoboatshow.com.
URL:https://midwestoutdoors.com/event/chicago-boat-show/2026-01-28/
CATEGORIES:Sports & Boat Shows
END:VEVENT
BEGIN:VEVENT
DTSTART;TZID=America/Chicago:20260128T170000
DTEND;TZID=America/Chicago:20260128T210000
DTSTAMP:20260424T041453
CREATED:20250923T184635Z
LAST-MODIFIED:20250923T184635Z
UID:223792-1769619600-1769634000@midwestoutdoors.com
SUMMARY:Louisville Boat\, RV & Sportshow
DESCRIPTION:January 28 – February 1 \nLouisville Boat\, RV & Sportshow\, Kentucky Exposition Center\, 937 Phillips Ln.\, Louisville KY 40209 \nHours:  Wednesday 5 – 9 p.m.\, Thursday 12 – 9 p.m.\, Friday 12 – 9 p.m.\, Saturday 10 a.m to 9 p.m.\, Sunday 10 a.m to 5 p.m.. \nFor info: NMMA\, info@louisvilleboatshow.com\, louisvilleboatshow.com.
URL:https://midwestoutdoors.com/event/louisville-boat-rv-sportshow-2/2026-01-28/
CATEGORIES:Sports & Boat Shows
END:VEVENT
END:VCALENDAR