BEGIN:VCALENDAR
VERSION:2.0
PRODID:-//MidWest Outdoors - ECPv6.15.9//NONSGML v1.0//EN
CALSCALE:GREGORIAN
METHOD:PUBLISH
X-WR-CALNAME:MidWest Outdoors
X-ORIGINAL-URL:https://midwestoutdoors.com
X-WR-CALDESC:Events for MidWest Outdoors
REFRESH-INTERVAL;VALUE=DURATION:PT1H
X-Robots-Tag:noindex
X-PUBLISHED-TTL:PT1H
BEGIN:VTIMEZONE
TZID:America/Chicago
BEGIN:DAYLIGHT
TZOFFSETFROM:-0600
TZOFFSETTO:-0500
TZNAME:CDT
DTSTART:20250309T080000
END:DAYLIGHT
BEGIN:STANDARD
TZOFFSETFROM:-0500
TZOFFSETTO:-0600
TZNAME:CST
DTSTART:20251102T070000
END:STANDARD
BEGIN:DAYLIGHT
TZOFFSETFROM:-0600
TZOFFSETTO:-0500
TZNAME:CDT
DTSTART:20260308T080000
END:DAYLIGHT
BEGIN:STANDARD
TZOFFSETFROM:-0500
TZOFFSETTO:-0600
TZNAME:CST
DTSTART:20261101T070000
END:STANDARD
BEGIN:DAYLIGHT
TZOFFSETFROM:-0600
TZOFFSETTO:-0500
TZNAME:CDT
DTSTART:20270314T080000
END:DAYLIGHT
BEGIN:STANDARD
TZOFFSETFROM:-0500
TZOFFSETTO:-0600
TZNAME:CST
DTSTART:20271107T070000
END:STANDARD
END:VTIMEZONE
BEGIN:VEVENT
DTSTART;TZID=America/Chicago:20260115T120000
DTEND;TZID=America/Chicago:20260115T200000
DTSTAMP:20260425T203000
CREATED:20250918T161809Z
LAST-MODIFIED:20250918T161809Z
UID:223383-1768478400-1768507200@midwestoutdoors.com
SUMMARY:Ohio RV & Boat Show
DESCRIPTION:January 9-18 \nOhio RV & Boat Show\, at the Ohio Expo Center\, 717 E. 17th Ave.\, Columbus\, OH 43211 \nHours:\n1/9 Friday noon-8pm\n1/10 Saturday 10-8\n1/11 Sunday 11am-5pm\nMON-TUES closed\n1/14-16 Wed-Fri 12 noon-8pm\n1/17 Saturday 10-8\n1/18 Sunday 11am-5pm \nFor info: info@ohiorvandboatshow.com\, ohiorvandboatshow.com
URL:https://midwestoutdoors.com/event/ohio-rv-boat-show/2026-01-15/
CATEGORIES:Sports & Boat Shows
END:VEVENT
BEGIN:VEVENT
DTSTART;TZID=America/Chicago:20260115T120000
DTEND;TZID=America/Chicago:20260115T210000
DTSTAMP:20260425T203000
CREATED:20250918T163456Z
LAST-MODIFIED:20250918T163456Z
UID:223416-1768478400-1768510800@midwestoutdoors.com
SUMMARY:Cleveland Boat Show
DESCRIPTION:January 15-18 \nCleveland Boat Show at the International Exposition Center\, 1 I-X Center Dr\, Cleveland\, OH 44135 \nHours: Thursday 12 – 9 p.m.\, Friday 10 a.m. to 9 p.m.\, Saturday 10 a.m. to 9 p.m.\, Sunday 10 a.m. to 5 p.m. \nMarine Trade Assoc.\, (440) 899-5009\, info@omta.com\, omta.com\, or clevelandboatshow.com.
URL:https://midwestoutdoors.com/event/cleveland-boat-show/2026-01-15/
CATEGORIES:Sports & Boat Shows
END:VEVENT
BEGIN:VEVENT
DTSTART;TZID=America/Chicago:20260115T150000
DTEND;TZID=America/Chicago:20260115T210000
DTSTAMP:20260425T203000
CREATED:20250918T162403Z
LAST-MODIFIED:20250918T162403Z
UID:223399-1768489200-1768510800@midwestoutdoors.com
SUMMARY:Grand Rapids Camper\, Travel & RV Show
DESCRIPTION:January 15-18 \nGrand Rapids Camper\, Travel & RV Show\, at DeVos Place\, 303 Monroe Ave NW\, Grand Rapids\, MI 49503 \nHours: Thursday 3 – 9 p.m.\, Friday 12 – 9 p.m.\, Saturday 10 a.m. to 9 p.m.\, Sunday 11 a.m to 5 p.m. \nFor info: Show Span\, events@showspan.com\, showspan.com.
URL:https://midwestoutdoors.com/event/grand-rapids-camper-travel-rv-show/2026-01-15/
CATEGORIES:Sports & Boat Shows
END:VEVENT
END:VCALENDAR