BEGIN:VCALENDAR
VERSION:2.0
PRODID:-//MidWest Outdoors - ECPv6.15.9//NONSGML v1.0//EN
CALSCALE:GREGORIAN
METHOD:PUBLISH
X-ORIGINAL-URL:https://midwestoutdoors.com
X-WR-CALDESC:Events for MidWest Outdoors
REFRESH-INTERVAL;VALUE=DURATION:PT1H
X-Robots-Tag:noindex
X-PUBLISHED-TTL:PT1H
BEGIN:VTIMEZONE
TZID:America/Chicago
BEGIN:DAYLIGHT
TZOFFSETFROM:-0600
TZOFFSETTO:-0500
TZNAME:CDT
DTSTART:20250309T080000
END:DAYLIGHT
BEGIN:STANDARD
TZOFFSETFROM:-0500
TZOFFSETTO:-0600
TZNAME:CST
DTSTART:20251102T070000
END:STANDARD
BEGIN:DAYLIGHT
TZOFFSETFROM:-0600
TZOFFSETTO:-0500
TZNAME:CDT
DTSTART:20260308T080000
END:DAYLIGHT
BEGIN:STANDARD
TZOFFSETFROM:-0500
TZOFFSETTO:-0600
TZNAME:CST
DTSTART:20261101T070000
END:STANDARD
BEGIN:DAYLIGHT
TZOFFSETFROM:-0600
TZOFFSETTO:-0500
TZNAME:CDT
DTSTART:20270314T080000
END:DAYLIGHT
BEGIN:STANDARD
TZOFFSETFROM:-0500
TZOFFSETTO:-0600
TZNAME:CST
DTSTART:20271107T070000
END:STANDARD
END:VTIMEZONE
BEGIN:VEVENT
DTSTART;TZID=America/Chicago:20260301T080000
DTEND;TZID=America/Chicago:20260301T160000
DTSTAMP:20260422T171745
CREATED:20251001T162152Z
LAST-MODIFIED:20251001T162152Z
UID:224411-1772352000-1772380800@midwestoutdoors.com
SUMMARY:Springfield RV Mega Show
DESCRIPTION:February 27 – March 1 \nSpringfield RV Mega Show\, at the Ozark Empire Fairgrounds\, 3001 N Grant Ave.\, Springfield\, MO 65802 \nShow Hours: Friday 10 a.m. to 6 p.m.\, Satuday 10 a.m to 6 p.m.\, Sunday 11 a.m to 4 p.m. \nFor info: Sport Shows LLC\, rvmegashows.com\, springfieldrvmegashow.com.
URL:https://midwestoutdoors.com/event/springfield-rv%e2%80%88mega-show/2026-03-01/
CATEGORIES:Sports & Boat Shows
END:VEVENT
BEGIN:VEVENT
DTSTART;TZID=America/Chicago:20260301T090000
DTEND;TZID=America/Chicago:20260301T150000
DTSTAMP:20260422T171745
CREATED:20251001T164656Z
LAST-MODIFIED:20251001T164656Z
UID:224424-1772355600-1772377200@midwestoutdoors.com
SUMMARY:Wisconsin Fishing Expo
DESCRIPTION:February 27 – March 1 \nWisconsin Fishing Expo\, Alliant Energy Center\, 1919 Alliant Energy Center Way\,  Madison\, WI 53713 \nShow Hours: Friday 1 – 8 p.m.\, Saturday 9 a.m to 6 p.m.\, Sunday 9 a.m. to 3 p.m. \nFor info: Wisconsin Fishing Expo\, Inc.\, ddurbin@bastdurbin.com\, wifishingexpo.com.
URL:https://midwestoutdoors.com/event/wisconsin-fishing-expo/2026-03-01/
CATEGORIES:Sports & Boat Shows
END:VEVENT
BEGIN:VEVENT
DTSTART;TZID=America/Chicago:20260301T090000
DTEND;TZID=America/Chicago:20260301T150000
DTSTAMP:20260422T171745
CREATED:20251001T165106Z
LAST-MODIFIED:20251001T165106Z
UID:228090-1772355600-1772377200@midwestoutdoors.com
SUMMARY:Wisconsin State Hunting and Fishing Expo
DESCRIPTION:February 27 – March 1 \nWisconsin State Hunting and Fishing Expo\, at the Resch Expo\, 840 Armed Forces Dr\, Ashwaubenon\, WI 54304 \nShow Hours: Friday Noon – 8 p.m.\, Saturday 9 a.m. to 7 p.m.\, Sunday 9 a.m. to 3 p.m. \nFor info: Saje Events\, Inc\, wisconsinstatehuntingexpo.com\, wistatehuntingexpo@gmail.com.
URL:https://midwestoutdoors.com/event/wisconsin-state-hunting-and-fishing-expo/2026-03-01/
CATEGORIES:Fishing,Hunting,Sports & Boat Shows
END:VEVENT
BEGIN:VEVENT
DTSTART;TZID=America/Chicago:20260301T100000
DTEND;TZID=America/Chicago:20260301T160000
DTSTAMP:20260422T171745
CREATED:20251001T165513Z
LAST-MODIFIED:20251001T165513Z
UID:224442-1772359200-1772380800@midwestoutdoors.com
SUMMARY:George’s Minnesota Muskie Expo
DESCRIPTION:February 27 – March 1 \nGeorge’s Minnesota Muskie Expo\, at Canterbury Park\, 1100 Canterbury Rd\, Shakopee\, MN 55379. \nShow Hours: Friday 1 – 7:30 p.m.\, Saturday 10 a.m. to 6:30 p.m.\, Sunday 10 a.m. to 4 p.m. \nFor info: Paul Hartman\, mnmuskieexpo@gmail.com \, 651-269-2144\, mn-muskieexpo.com.
URL:https://midwestoutdoors.com/event/georges-minnesota-muskie-expo-2/2026-03-01/
CATEGORIES:Sports & Boat Shows
END:VEVENT
BEGIN:VEVENT
DTSTART;TZID=America/Chicago:20260301T100000
DTEND;TZID=America/Chicago:20260301T170000
DTSTAMP:20260422T171745
CREATED:20250930T191631Z
LAST-MODIFIED:20250930T191631Z
UID:224319-1772359200-1772384400@midwestoutdoors.com
SUMMARY:Ford Indianapolis Boat\, Sport & Travel Show
DESCRIPTION:February 20-22 and February 25 – March 1 \nFord Indianapolis Boat\, Sport & Travel Show\, Indiana State Fairgrounds\,1202 E. 38th St.\, Indianapolis\, IN 46205 \nShow Hours:\nFriday\, Feb. 20:  1 – 8 p.m.\nSaturday\, Feb. 21:  10 a.m. – 8 p.m.\nSunday\, Feb. 22:  10 a.m. – 5 p.m.\nMonday & Tuesday\, Feb. 23-24 – CLOSED\nWednesday-Thursday\, Feb. 25-26:  12 – 7 p.m.\nFriday\, Feb. 27:  12 – 8 p.m.\nSaturday\, Feb. 28: 10 a.m. – 8 p.m.\nSunday\,  Mar. 1:    10 a.m. – 5 p.m. \nFor info: Renfro Productions & Management\, Inc.\, renfroproductions.com\, indianapolisboatsportandtravelshow.com.
URL:https://midwestoutdoors.com/event/ford-indianapolis-boat-sport-travel-show-3/2026-03-01/
CATEGORIES:Sports & Boat Shows
END:VEVENT
BEGIN:VEVENT
DTSTART;TZID=America/Chicago:20260301T100000
DTEND;TZID=America/Chicago:20260301T170000
DTSTAMP:20260422T171745
CREATED:20250930T193302Z
LAST-MODIFIED:20250930T193302Z
UID:224368-1772359200-1772384400@midwestoutdoors.com
SUMMARY:Indiana Deer\, Turkey & Waterfowl Exposition
DESCRIPTION:February 27 – March 1 \nIndiana Deer\, Turkey & Waterfowl Exposition\, at the Indiana State Fairgrounds\, 1202 E. 38th St.\, Indianapolis\, IN 46205 \nShow Hours: Friday 12 – 8 p.m.\, Saturday 10 a.m to 8 p.m.\, Sunday 10 a.m to 5 p.m. \nFor info: Renfro Productions & Management\, Inc.\, renfroproductions.com\, indianadeerandturkeyexpo.com.
URL:https://midwestoutdoors.com/event/indiana-deer-turkey-waterfowl-exposition/2026-03-01/
CATEGORIES:Sports & Boat Shows
END:VEVENT
BEGIN:VEVENT
DTSTART;TZID=America/Chicago:20260301T100000
DTEND;TZID=America/Chicago:20260301T170000
DTSTAMP:20260422T171745
CREATED:20250930T205856Z
LAST-MODIFIED:20250930T205856Z
UID:224381-1772359200-1772384400@midwestoutdoors.com
SUMMARY:The Boat Show in Springfield
DESCRIPTION:February 27 – March 1 \nThe Boat Show in Springfield\, at the Illinois State Fairgrounds\, Richard Orr Building\, 801 E. Sangamon Ave.\, Springfield\, IL  62702. \nShow hours: Friday 2pm – 8pm\, Saturday 10am – 7pm\, and Sunday 10am – 5pm. \nFor info: JLS Marine\, Inc.\, jlsmarine.com\, jeff@jlsmarine.com\, theboatshowinspringfield.com.
URL:https://midwestoutdoors.com/event/the-boat-show-in-springfield/2026-03-01/
CATEGORIES:Sports & Boat Shows
END:VEVENT
BEGIN:VEVENT
DTSTART;TZID=America/Chicago:20260301T110000
DTEND;TZID=America/Chicago:20260301T170000
DTSTAMP:20260422T171745
CREATED:20250930T192806Z
LAST-MODIFIED:20250930T192806Z
UID:224355-1772362800-1772384400@midwestoutdoors.com
SUMMARY:Downtown Knoxville Boat Show
DESCRIPTION:February 26 – March 1 \nDowntown Knoxville Boat Show\, at the Knoxville Convention Center\, Knoxville\, TN. \nHours: Thursday 2 – 8 p.m.\, Friday 12 – 8 p.m.\, Saturday 10 a.m. to 8 p.m.\, Sunday 11 a.m. to 5 p.m. \nFor info: info@downtownknoxvilleboatshow.com\, downtownknoxvilleboatshow.com.
URL:https://midwestoutdoors.com/event/downtown-knoxville-boat-show-2/2026-03-01/
CATEGORIES:Sports & Boat Shows
END:VEVENT
BEGIN:VEVENT
DTSTART;TZID=America/Chicago:20260305T130000
DTEND;TZID=America/Chicago:20260305T200000
DTSTAMP:20260422T171745
CREATED:20251001T195628Z
LAST-MODIFIED:20251001T195628Z
UID:224463-1772715600-1772740800@midwestoutdoors.com
SUMMARY:Northwest Sportshow
DESCRIPTION:March 5-8 \nNorthwest Sportshow\, at the Minneapolis Convention Center\, 1301 2nd Ave. S\, Minneapolis MN 55403-2710 \nShow Hours: Thursday 1 – 8 p.m.\, Friday 12 – 8 p.m.\, Saturday 10 a.m to 7 p.m.\, Sunday 10 a.m. to 5 p.m. \nFor info: Marketplace Events\, BruceE@mpeshowscom\, northwestsportshow.com.
URL:https://midwestoutdoors.com/event/northwest-sportshow/2026-03-05/
CATEGORIES:Sports & Boat Shows
END:VEVENT
BEGIN:VEVENT
DTSTART;TZID=America/Chicago:20260305T170000
DTEND;TZID=America/Chicago:20260305T210000
DTSTAMP:20260422T171745
CREATED:20251001T171937Z
LAST-MODIFIED:20251001T171937Z
UID:224446-1772730000-1772744400@midwestoutdoors.com
SUMMARY:61st Annual Red River Valley Sportsmen’s Boat\, Camping & Vacation Show
DESCRIPTION:March 5-8 \n61st Annual Red River Valley Sportsmen’s Boat\, Camping & Vacation Show\, at Fargo Dome\, 1800 North University Drive\, Fargo\, ND\, \nShow Hours: Thursday 5 – 9 p.m.\, Friday 12 – 9 p.m.\, Saturday 10 a.m. to 8 p.m.\, Sunday 10 a.m. to 5 p.m. \nFor info: Cenaiko Products\, cenaiko.com\, fargosportshow.com\, info@cenaiko.com.
URL:https://midwestoutdoors.com/event/61st-annual-red-river-valley-sportsmens-boat-camping-vacation-show/2026-03-05/
CATEGORIES:Sports & Boat Shows
END:VEVENT
BEGIN:VEVENT
DTSTART;VALUE=DATE:20260306
DTEND;VALUE=DATE:20260309
DTSTAMP:20260422T171745
CREATED:20251001T203912Z
LAST-MODIFIED:20251001T203912Z
UID:224501-1772755200-1773014399@midwestoutdoors.com
SUMMARY:39th Battle Creek RV & Camping Show
DESCRIPTION:March 6-8 \n39th Battle Creek RV & Camping Show\, Kellogg Arena\, Battle Creek\, MI\, \nFor info: MARVAC\, marvac.org.
URL:https://midwestoutdoors.com/event/39th-battle-creek-rv%e2%80%88-camping-show-2/
CATEGORIES:Sports & Boat Shows
END:VEVENT
BEGIN:VEVENT
DTSTART;TZID=America/Chicago:20260306T120000
DTEND;TZID=America/Chicago:20260306T200000
DTSTAMP:20260422T171745
CREATED:20251001T195628Z
LAST-MODIFIED:20251001T195628Z
UID:224468-1772798400-1772827200@midwestoutdoors.com
SUMMARY:Northwest Sportshow
DESCRIPTION:March 5-8 \nNorthwest Sportshow\, at the Minneapolis Convention Center\, 1301 2nd Ave. S\, Minneapolis MN 55403-2710 \nShow Hours: Thursday 1 – 8 p.m.\, Friday 12 – 8 p.m.\, Saturday 10 a.m to 7 p.m.\, Sunday 10 a.m. to 5 p.m. \nFor info: Marketplace Events\, BruceE@mpeshowscom\, northwestsportshow.com.
URL:https://midwestoutdoors.com/event/northwest-sportshow/2026-03-06/
CATEGORIES:Sports & Boat Shows
END:VEVENT
BEGIN:VEVENT
DTSTART;TZID=America/Chicago:20260306T120000
DTEND;TZID=America/Chicago:20260306T200000
DTSTAMP:20260422T171745
CREATED:20251001T200654Z
LAST-MODIFIED:20251001T200654Z
UID:224480-1772798400-1772827200@midwestoutdoors.com
SUMMARY:Milwaukee Journal Sentinel Sports Show
DESCRIPTION:March 6-8 \nMilwaukee Journal Sentinel Sports Show\, at the Wisconsin State Fair Park Exposition Center\, 8200 W Greenfield Ave.\, West Allis\, WI 53214 \nShow Hours: Friday 12 – 8 p.m.\, Saturday 10 a.m. to 7 p.m.\, Sunday 10 a.m. to 5 p.m. \nFor info: Outdoor Sports Group\, rick@osgshows.com\, osgshows.com\, jssportsshow.com.
URL:https://midwestoutdoors.com/event/milwaukee-journal-sentinel-sports-show/2026-03-06/
CATEGORIES:Sports & Boat Shows
END:VEVENT
BEGIN:VEVENT
DTSTART;TZID=America/Chicago:20260306T120000
DTEND;TZID=America/Chicago:20260306T210000
DTSTAMP:20260422T171745
CREATED:20251001T171937Z
LAST-MODIFIED:20251001T171937Z
UID:224451-1772798400-1772830800@midwestoutdoors.com
SUMMARY:61st Annual Red River Valley Sportsmen’s Boat\, Camping & Vacation Show
DESCRIPTION:March 5-8 \n61st Annual Red River Valley Sportsmen’s Boat\, Camping & Vacation Show\, at Fargo Dome\, 1800 North University Drive\, Fargo\, ND\, \nShow Hours: Thursday 5 – 9 p.m.\, Friday 12 – 9 p.m.\, Saturday 10 a.m. to 8 p.m.\, Sunday 10 a.m. to 5 p.m. \nFor info: Cenaiko Products\, cenaiko.com\, fargosportshow.com\, info@cenaiko.com.
URL:https://midwestoutdoors.com/event/61st-annual-red-river-valley-sportsmens-boat-camping-vacation-show/2026-03-06/
CATEGORIES:Sports & Boat Shows
END:VEVENT
BEGIN:VEVENT
DTSTART;TZID=America/Chicago:20260306T140000
DTEND;TZID=America/Chicago:20260306T200000
DTSTAMP:20260422T171745
CREATED:20251001T204432Z
LAST-MODIFIED:20251001T204432Z
UID:224506-1772805600-1772827200@midwestoutdoors.com
SUMMARY:Iowa Deer Classic
DESCRIPTION:March 6-8 \nIowa Deer Classic\, Iowa Events Center\, 730 3rd Street\, Des Moines\, IA 50309 \nShow Hours:  Friday 2 – 8 p.m.\, Saturday 9 a.m. to 7 p.m.\, Sunday 10 a.m. to 4 p.m. \nFor info: Iowa Show Productions\, Inc.\, info@deerclassics.com\, iowadeerclassic.com.
URL:https://midwestoutdoors.com/event/iowa-deer-classic/2026-03-06/
CATEGORIES:Hunting,Sports & Boat Shows
END:VEVENT
BEGIN:VEVENT
DTSTART;TZID=America/Chicago:20260307T080000
DTEND;TZID=America/Chicago:20260307T150000
DTSTAMP:20260422T171745
CREATED:20260123T215758Z
LAST-MODIFIED:20260123T215758Z
UID:230785-1772870400-1772895600@midwestoutdoors.com
SUMMARY:Kankakee Gun & Sportsman’s Show
DESCRIPTION:March 7-8 \nKankakee Gun & Sportsman’s Show at Kankakee County Fairgrounds\, 213 W 4000S Rd.\, Kankakee\, IL 60901. \nShow hours: Saturday 8 a.m. to 3 p.m.\, Sunday 8 a.m. to 2 p.m. \nFor info: M & J Sportsmans Group\, mjsportsmansgroupllc.com.
URL:https://midwestoutdoors.com/event/kankakee-gun-sportsmans-show/2026-03-07/
CATEGORIES:Gun Shows,Sports & Boat Shows
END:VEVENT
BEGIN:VEVENT
DTSTART;TZID=America/Chicago:20260307T090000
DTEND;TZID=America/Chicago:20260307T190000
DTSTAMP:20260422T171745
CREATED:20251001T204432Z
LAST-MODIFIED:20251001T204432Z
UID:224511-1772874000-1772910000@midwestoutdoors.com
SUMMARY:Iowa Deer Classic
DESCRIPTION:March 6-8 \nIowa Deer Classic\, Iowa Events Center\, 730 3rd Street\, Des Moines\, IA 50309 \nShow Hours:  Friday 2 – 8 p.m.\, Saturday 9 a.m. to 7 p.m.\, Sunday 10 a.m. to 4 p.m. \nFor info: Iowa Show Productions\, Inc.\, info@deerclassics.com\, iowadeerclassic.com.
URL:https://midwestoutdoors.com/event/iowa-deer-classic/2026-03-07/
CATEGORIES:Hunting,Sports & Boat Shows
END:VEVENT
BEGIN:VEVENT
DTSTART;TZID=America/Chicago:20260307T100000
DTEND;TZID=America/Chicago:20260307T190000
DTSTAMP:20260422T171745
CREATED:20251001T195628Z
LAST-MODIFIED:20251001T195628Z
UID:224472-1772877600-1772910000@midwestoutdoors.com
SUMMARY:Northwest Sportshow
DESCRIPTION:March 5-8 \nNorthwest Sportshow\, at the Minneapolis Convention Center\, 1301 2nd Ave. S\, Minneapolis MN 55403-2710 \nShow Hours: Thursday 1 – 8 p.m.\, Friday 12 – 8 p.m.\, Saturday 10 a.m to 7 p.m.\, Sunday 10 a.m. to 5 p.m. \nFor info: Marketplace Events\, BruceE@mpeshowscom\, northwestsportshow.com.
URL:https://midwestoutdoors.com/event/northwest-sportshow/2026-03-07/
CATEGORIES:Sports & Boat Shows
END:VEVENT
BEGIN:VEVENT
DTSTART;TZID=America/Chicago:20260307T100000
DTEND;TZID=America/Chicago:20260307T190000
DTSTAMP:20260422T171745
CREATED:20251001T200654Z
LAST-MODIFIED:20251001T200654Z
UID:224485-1772877600-1772910000@midwestoutdoors.com
SUMMARY:Milwaukee Journal Sentinel Sports Show
DESCRIPTION:March 6-8 \nMilwaukee Journal Sentinel Sports Show\, at the Wisconsin State Fair Park Exposition Center\, 8200 W Greenfield Ave.\, West Allis\, WI 53214 \nShow Hours: Friday 12 – 8 p.m.\, Saturday 10 a.m. to 7 p.m.\, Sunday 10 a.m. to 5 p.m. \nFor info: Outdoor Sports Group\, rick@osgshows.com\, osgshows.com\, jssportsshow.com.
URL:https://midwestoutdoors.com/event/milwaukee-journal-sentinel-sports-show/2026-03-07/
CATEGORIES:Sports & Boat Shows
END:VEVENT
BEGIN:VEVENT
DTSTART;TZID=America/Chicago:20260307T100000
DTEND;TZID=America/Chicago:20260307T200000
DTSTAMP:20260422T171745
CREATED:20251001T171937Z
LAST-MODIFIED:20251001T171937Z
UID:224455-1772877600-1772913600@midwestoutdoors.com
SUMMARY:61st Annual Red River Valley Sportsmen’s Boat\, Camping & Vacation Show
DESCRIPTION:March 5-8 \n61st Annual Red River Valley Sportsmen’s Boat\, Camping & Vacation Show\, at Fargo Dome\, 1800 North University Drive\, Fargo\, ND\, \nShow Hours: Thursday 5 – 9 p.m.\, Friday 12 – 9 p.m.\, Saturday 10 a.m. to 8 p.m.\, Sunday 10 a.m. to 5 p.m. \nFor info: Cenaiko Products\, cenaiko.com\, fargosportshow.com\, info@cenaiko.com.
URL:https://midwestoutdoors.com/event/61st-annual-red-river-valley-sportsmens-boat-camping-vacation-show/2026-03-07/
CATEGORIES:Sports & Boat Shows
END:VEVENT
BEGIN:VEVENT
DTSTART;TZID=America/Chicago:20260308T073000
DTEND;TZID=America/Chicago:20260308T123000
DTSTAMP:20260422T171745
CREATED:20260123T220000Z
LAST-MODIFIED:20260123T220000Z
UID:230794-1772955000-1772973000@midwestoutdoors.com
SUMMARY:Kane County Sportsman’s Show
DESCRIPTION:March 8 & April 19 \nKane County Sportsman’s Show at Kane County Fairgrounds\, 525 S Randall Rd.\, St. Charles\, IL 60174. \nShow hours: 7:30 a.m. to 12:30 p.m. \nFor info: Constellation Inc.\, kanecountysportsmanshow.com.
URL:https://midwestoutdoors.com/event/kane-county-sportsmans-show-3/2026-03-08/
CATEGORIES:Gun Shows,Sports & Boat Shows
END:VEVENT
BEGIN:VEVENT
DTSTART;TZID=America/Chicago:20260308T080000
DTEND;TZID=America/Chicago:20260308T140000
DTSTAMP:20260422T171745
CREATED:20260123T215758Z
LAST-MODIFIED:20260123T215758Z
UID:230789-1772956800-1772978400@midwestoutdoors.com
SUMMARY:Kankakee Gun & Sportsman’s Show
DESCRIPTION:March 7-8 \nKankakee Gun & Sportsman’s Show at Kankakee County Fairgrounds\, 213 W 4000S Rd.\, Kankakee\, IL 60901. \nShow hours: Saturday 8 a.m. to 3 p.m.\, Sunday 8 a.m. to 2 p.m. \nFor info: M & J Sportsmans Group\, mjsportsmansgroupllc.com.
URL:https://midwestoutdoors.com/event/kankakee-gun-sportsmans-show/2026-03-08/
CATEGORIES:Gun Shows,Sports & Boat Shows
END:VEVENT
BEGIN:VEVENT
DTSTART;TZID=America/Chicago:20260308T090000
DTEND;TZID=America/Chicago:20260308T160000
DTSTAMP:20260422T171745
CREATED:20251001T204432Z
LAST-MODIFIED:20251001T204432Z
UID:224515-1772960400-1772985600@midwestoutdoors.com
SUMMARY:Iowa Deer Classic
DESCRIPTION:March 6-8 \nIowa Deer Classic\, Iowa Events Center\, 730 3rd Street\, Des Moines\, IA 50309 \nShow Hours:  Friday 2 – 8 p.m.\, Saturday 9 a.m. to 7 p.m.\, Sunday 10 a.m. to 4 p.m. \nFor info: Iowa Show Productions\, Inc.\, info@deerclassics.com\, iowadeerclassic.com.
URL:https://midwestoutdoors.com/event/iowa-deer-classic/2026-03-08/
CATEGORIES:Hunting,Sports & Boat Shows
END:VEVENT
BEGIN:VEVENT
DTSTART;TZID=America/Chicago:20260308T100000
DTEND;TZID=America/Chicago:20260308T170000
DTSTAMP:20260422T171745
CREATED:20251001T171937Z
LAST-MODIFIED:20251001T171937Z
UID:224459-1772964000-1772989200@midwestoutdoors.com
SUMMARY:61st Annual Red River Valley Sportsmen’s Boat\, Camping & Vacation Show
DESCRIPTION:March 5-8 \n61st Annual Red River Valley Sportsmen’s Boat\, Camping & Vacation Show\, at Fargo Dome\, 1800 North University Drive\, Fargo\, ND\, \nShow Hours: Thursday 5 – 9 p.m.\, Friday 12 – 9 p.m.\, Saturday 10 a.m. to 8 p.m.\, Sunday 10 a.m. to 5 p.m. \nFor info: Cenaiko Products\, cenaiko.com\, fargosportshow.com\, info@cenaiko.com.
URL:https://midwestoutdoors.com/event/61st-annual-red-river-valley-sportsmens-boat-camping-vacation-show/2026-03-08/
CATEGORIES:Sports & Boat Shows
END:VEVENT
BEGIN:VEVENT
DTSTART;TZID=America/Chicago:20260308T100000
DTEND;TZID=America/Chicago:20260308T170000
DTSTAMP:20260422T171745
CREATED:20251001T195628Z
LAST-MODIFIED:20251001T195628Z
UID:224476-1772964000-1772989200@midwestoutdoors.com
SUMMARY:Northwest Sportshow
DESCRIPTION:March 5-8 \nNorthwest Sportshow\, at the Minneapolis Convention Center\, 1301 2nd Ave. S\, Minneapolis MN 55403-2710 \nShow Hours: Thursday 1 – 8 p.m.\, Friday 12 – 8 p.m.\, Saturday 10 a.m to 7 p.m.\, Sunday 10 a.m. to 5 p.m. \nFor info: Marketplace Events\, BruceE@mpeshowscom\, northwestsportshow.com.
URL:https://midwestoutdoors.com/event/northwest-sportshow/2026-03-08/
CATEGORIES:Sports & Boat Shows
END:VEVENT
BEGIN:VEVENT
DTSTART;TZID=America/Chicago:20260308T100000
DTEND;TZID=America/Chicago:20260308T170000
DTSTAMP:20260422T171745
CREATED:20251001T200654Z
LAST-MODIFIED:20251001T200654Z
UID:224489-1772964000-1772989200@midwestoutdoors.com
SUMMARY:Milwaukee Journal Sentinel Sports Show
DESCRIPTION:March 6-8 \nMilwaukee Journal Sentinel Sports Show\, at the Wisconsin State Fair Park Exposition Center\, 8200 W Greenfield Ave.\, West Allis\, WI 53214 \nShow Hours: Friday 12 – 8 p.m.\, Saturday 10 a.m. to 7 p.m.\, Sunday 10 a.m. to 5 p.m. \nFor info: Outdoor Sports Group\, rick@osgshows.com\, osgshows.com\, jssportsshow.com.
URL:https://midwestoutdoors.com/event/milwaukee-journal-sentinel-sports-show/2026-03-08/
CATEGORIES:Sports & Boat Shows
END:VEVENT
BEGIN:VEVENT
DTSTART;TZID=America/Chicago:20260312T130000
DTEND;TZID=America/Chicago:20260312T200000
DTSTAMP:20260422T171745
CREATED:20251002T153952Z
LAST-MODIFIED:20251002T153952Z
UID:224554-1773320400-1773345600@midwestoutdoors.com
SUMMARY:Ultimate Sport Show Grand Rapids
DESCRIPTION:March 12-15 \nUltimate Sport Show Grand Rapids\, at the DeVos Place\, 303 Monroe Ave. NW\, Grand Rapids\, MI 49503 \nShow Hours: Thursday 1 – 8 p.m.\, Friday 12 – 8 p.m.\, Saturday 10 a.m to 8 p.m.\, Sunday 10 a.m. to 5 p.m. \nFor info: Showspan Inc\, showspan.com\, events@showspan.com.
URL:https://midwestoutdoors.com/event/ultimate-sport-show-grand-rapids/2026-03-12/
CATEGORIES:Sports & Boat Shows
END:VEVENT
BEGIN:VEVENT
DTSTART;TZID=America/Chicago:20260312T140000
DTEND;TZID=America/Chicago:20260312T210000
DTSTAMP:20260422T171745
CREATED:20251001T205352Z
LAST-MODIFIED:20251001T205352Z
UID:224524-1773324000-1773349200@midwestoutdoors.com
SUMMARY: Novi Boating Show
DESCRIPTION:March 12-15 \nNovi Boating Show\, at the Suburban Collection Showplace\, 46100 Grand River Avenue\, Novi\, MI 48374 \nShow Hours: Thursday & Friday 2 – 9 p.m.\, Saturday 11 a.m. to 9 p.m.\, Sunday 11 a.m. to 5 p.m. \nFor info: MBIA\, boatmichigan@mbia.org\, mbia.org or boatmichigan.org
URL:https://midwestoutdoors.com/event/novi-boating-show/2026-03-12/
CATEGORIES:Sports & Boat Shows
END:VEVENT
BEGIN:VEVENT
DTSTART;TZID=America/Chicago:20260312T170000
DTEND;TZID=America/Chicago:20260312T210000
DTSTAMP:20260422T171745
CREATED:20251002T154733Z
LAST-MODIFIED:20251002T154733Z
UID:224571-1773334800-1773349200@midwestoutdoors.com
SUMMARY:59th Sioux Empire Sportsmen’s Boat\, Camping & Vacation Show
DESCRIPTION:March 12-15 \n59th Sioux Empire Sportsmen’s Boat\, Camping & Vacation Show\, at Sioux Falls Arena & Convention Center\, 1201 Northwest Ave.\, Sioux Falls\, SD 57104 \nShow Hours: Thursday 5 – 9 p.m.\, Friday 12 – 9 p.m.\, Saturday 10 a.m. to 8 p.m.\, Sunday 10 a.m. to 5 p.m. \nFor info: Cenaiko Productions\, cenaiko.com\, siouxfallssportshow.com\,  info@cenaiko.com.
URL:https://midwestoutdoors.com/event/59th-sioux-empire-sportsmens-boat-camping-vacation-show/2026-03-12/
CATEGORIES:Sports & Boat Shows
END:VEVENT
BEGIN:VEVENT
DTSTART;VALUE=DATE:20260313
DTEND;VALUE=DATE:20260316
DTSTAMP:20260422T171745
CREATED:20260123T194835Z
LAST-MODIFIED:20260123T194955Z
UID:230604-1773360000-1773619199@midwestoutdoors.com
SUMMARY:30th Port Huron Camper & RV Show
DESCRIPTION:March 13-15 \n30th Port Huron Camper & RV Show\, at the Blue Water Convention Center\, Port Huron\, MI \nFor info: MARVAC\, ding@mmhrvac.org\, marvac.org. 
URL:https://midwestoutdoors.com/event/230604/
CATEGORIES:Sports & Boat Shows
END:VEVENT
END:VCALENDAR