BEGIN:VCALENDAR
VERSION:2.0
PRODID:-//MidWest Outdoors - ECPv6.15.9//NONSGML v1.0//EN
CALSCALE:GREGORIAN
METHOD:PUBLISH
X-ORIGINAL-URL:https://midwestoutdoors.com
X-WR-CALDESC:Events for MidWest Outdoors
REFRESH-INTERVAL;VALUE=DURATION:PT1H
X-Robots-Tag:noindex
X-PUBLISHED-TTL:PT1H
BEGIN:VTIMEZONE
TZID:America/Chicago
BEGIN:DAYLIGHT
TZOFFSETFROM:-0600
TZOFFSETTO:-0500
TZNAME:CDT
DTSTART:20250309T080000
END:DAYLIGHT
BEGIN:STANDARD
TZOFFSETFROM:-0500
TZOFFSETTO:-0600
TZNAME:CST
DTSTART:20251102T070000
END:STANDARD
BEGIN:DAYLIGHT
TZOFFSETFROM:-0600
TZOFFSETTO:-0500
TZNAME:CDT
DTSTART:20260308T080000
END:DAYLIGHT
BEGIN:STANDARD
TZOFFSETFROM:-0500
TZOFFSETTO:-0600
TZNAME:CST
DTSTART:20261101T070000
END:STANDARD
BEGIN:DAYLIGHT
TZOFFSETFROM:-0600
TZOFFSETTO:-0500
TZNAME:CDT
DTSTART:20270314T080000
END:DAYLIGHT
BEGIN:STANDARD
TZOFFSETFROM:-0500
TZOFFSETTO:-0600
TZNAME:CST
DTSTART:20271107T070000
END:STANDARD
END:VTIMEZONE
BEGIN:VEVENT
DTSTART;TZID=America/Chicago:20260102T120000
DTEND;TZID=America/Chicago:20260102T200000
DTSTAMP:20260424T041749
CREATED:20250917T193215Z
LAST-MODIFIED:20250917T193215Z
UID:223279-1767355200-1767384000@midwestoutdoors.com
SUMMARY:Let’s Go Fishing Show in Collinsville
DESCRIPTION:January 2-4 \nLet’s Go Fishing Show at the Gateway Convention Center\, 1 Gateway Dr\, Collinsville\, IL 62234. \nHours: Friday 12 – 8 p.m.\, Saturday 9 a.m. to 7 p.m.\, Sunday 10 a.m. to 4 p.m. \nFor info: gatewaycenter.com\, or letsgoshows.com.
URL:https://midwestoutdoors.com/event/lets-go-fishing-show-in-collinsville/2026-01-02/
CATEGORIES:Sports & Boat Shows
END:VEVENT
BEGIN:VEVENT
DTSTART;TZID=America/Chicago:20260103T100000
DTEND;TZID=America/Chicago:20260103T160000
DTSTAMP:20260424T041749
CREATED:20250917T193215Z
LAST-MODIFIED:20250917T193215Z
UID:223284-1767434400-1767456000@midwestoutdoors.com
SUMMARY:Let’s Go Fishing Show in Collinsville
DESCRIPTION:January 2-4 \nLet’s Go Fishing Show at the Gateway Convention Center\, 1 Gateway Dr\, Collinsville\, IL 62234. \nHours: Friday 12 – 8 p.m.\, Saturday 9 a.m. to 7 p.m.\, Sunday 10 a.m. to 4 p.m. \nFor info: gatewaycenter.com\, or letsgoshows.com.
URL:https://midwestoutdoors.com/event/lets-go-fishing-show-in-collinsville/2026-01-03/
CATEGORIES:Sports & Boat Shows
END:VEVENT
BEGIN:VEVENT
DTSTART;TZID=America/Chicago:20260104T120000
DTEND;TZID=America/Chicago:20260104T200000
DTSTAMP:20260424T041749
CREATED:20250917T193215Z
LAST-MODIFIED:20250917T193215Z
UID:223288-1767528000-1767556800@midwestoutdoors.com
SUMMARY:Let’s Go Fishing Show in Collinsville
DESCRIPTION:January 2-4 \nLet’s Go Fishing Show at the Gateway Convention Center\, 1 Gateway Dr\, Collinsville\, IL 62234. \nHours: Friday 12 – 8 p.m.\, Saturday 9 a.m. to 7 p.m.\, Sunday 10 a.m. to 4 p.m. \nFor info: gatewaycenter.com\, or letsgoshows.com.
URL:https://midwestoutdoors.com/event/lets-go-fishing-show-in-collinsville/2026-01-04/
CATEGORIES:Sports & Boat Shows
END:VEVENT
BEGIN:VEVENT
DTSTART;VALUE=DATE:20260106
DTEND;VALUE=DATE:20260112
DTSTAMP:20260424T041749
CREATED:20250909T185224Z
LAST-MODIFIED:20250924T191119Z
UID:222497-1767657600-1768175999@midwestoutdoors.com
SUMMARY:ATA Trade Show **Trade Only**
DESCRIPTION:January 6-11 \nATA Trade Show **Trade Only** (Jan. 7-8) and Archery & Bowhunting Super Show (Jan. 9-10)\, Indianapolis Convention Center\, Indianapolis\, IN\, \nFor info: Archery Trade Association\, archerytrade.org\, registration@archerytrade.org.
URL:https://midwestoutdoors.com/event/ata-trade-show-trade-only/
CATEGORIES:Sports & Boat Shows
END:VEVENT
BEGIN:VEVENT
DTSTART;TZID=America/Chicago:20260108T130000
DTEND;TZID=America/Chicago:20260108T200000
DTSTAMP:20260424T041749
CREATED:20250917T162849Z
LAST-MODIFIED:20250917T162849Z
UID:223009-1767877200-1767902400@midwestoutdoors.com
SUMMARY:Ultimate Detroit Fishing Show
DESCRIPTION:January 8-11 \nUltimate Detroit Fishing Show\, Suburban Collection Showplace\, Novi\, MI. \nHours: Thursday 1 – 8 p.m.\, Friday 12 – 8 p.m.\, Saturday 10 a.m. to 8 p.m.\, Sunday 10 a.m. to 5 p.m.   \nFor info: Showspan\, John Loeks (616) 447-2860\, showspan.com\, events@showspan.com.
URL:https://midwestoutdoors.com/event/ultimate-detroit-fishing-show/2026-01-08/
CATEGORIES:Sports & Boat Shows
END:VEVENT
BEGIN:VEVENT
DTSTART;TZID=America/Chicago:20260109T120000
DTEND;TZID=America/Chicago:20260109T200000
DTSTAMP:20260424T041749
CREATED:20250917T162849Z
LAST-MODIFIED:20250917T162849Z
UID:223014-1767960000-1767988800@midwestoutdoors.com
SUMMARY:Ultimate Detroit Fishing Show
DESCRIPTION:January 8-11 \nUltimate Detroit Fishing Show\, Suburban Collection Showplace\, Novi\, MI. \nHours: Thursday 1 – 8 p.m.\, Friday 12 – 8 p.m.\, Saturday 10 a.m. to 8 p.m.\, Sunday 10 a.m. to 5 p.m.   \nFor info: Showspan\, John Loeks (616) 447-2860\, showspan.com\, events@showspan.com.
URL:https://midwestoutdoors.com/event/ultimate-detroit-fishing-show/2026-01-09/
CATEGORIES:Sports & Boat Shows
END:VEVENT
BEGIN:VEVENT
DTSTART;TZID=America/Chicago:20260109T120000
DTEND;TZID=America/Chicago:20260109T200000
DTSTAMP:20260424T041749
CREATED:20250918T155550Z
LAST-MODIFIED:20250918T155550Z
UID:223353-1767960000-1767988800@midwestoutdoors.com
SUMMARY:Fort Wayne All American Outdoor Expo
DESCRIPTION:January 9-11 \nFort Wayne All American Outdoor Expo\, at the Allen County Memorial Coliseum\, 4000 Parnell Ave.\, Ft Wayne\, In. 46805 \nHours: Friday 12 – 8 p.m.\, Saturday 10 a.m. to 6 p.m.\, Sunday 10 a.m. to 4 p.m. \nFor info: Advanced Expo\, Inc.\, ftwayneallamericanoutdoorexpo.com\, advancedexposhows@gmail.com.
URL:https://midwestoutdoors.com/event/fort-wayne-all-american-outdoor-expo/2026-01-09/
CATEGORIES:Sports & Boat Shows
END:VEVENT
BEGIN:VEVENT
DTSTART;TZID=America/Chicago:20260109T120000
DTEND;TZID=America/Chicago:20260109T200000
DTSTAMP:20260424T041749
CREATED:20250918T161809Z
LAST-MODIFIED:20250918T161809Z
UID:223366-1767960000-1767988800@midwestoutdoors.com
SUMMARY:Ohio RV & Boat Show
DESCRIPTION:January 9-18 \nOhio RV & Boat Show\, at the Ohio Expo Center\, 717 E. 17th Ave.\, Columbus\, OH 43211 \nHours:\n1/9 Friday noon-8pm\n1/10 Saturday 10-8\n1/11 Sunday 11am-5pm\nMON-TUES closed\n1/14-16 Wed-Fri 12 noon-8pm\n1/17 Saturday 10-8\n1/18 Sunday 11am-5pm \nFor info: info@ohiorvandboatshow.com\, ohiorvandboatshow.com
URL:https://midwestoutdoors.com/event/ohio-rv-boat-show/2026-01-09/
CATEGORIES:Sports & Boat Shows
END:VEVENT
BEGIN:VEVENT
DTSTART;TZID=America/Chicago:20260110T100000
DTEND;TZID=America/Chicago:20260110T180000
DTSTAMP:20260424T041749
CREATED:20250918T155550Z
LAST-MODIFIED:20250918T155550Z
UID:223358-1768039200-1768068000@midwestoutdoors.com
SUMMARY:Fort Wayne All American Outdoor Expo
DESCRIPTION:January 9-11 \nFort Wayne All American Outdoor Expo\, at the Allen County Memorial Coliseum\, 4000 Parnell Ave.\, Ft Wayne\, In. 46805 \nHours: Friday 12 – 8 p.m.\, Saturday 10 a.m. to 6 p.m.\, Sunday 10 a.m. to 4 p.m. \nFor info: Advanced Expo\, Inc.\, ftwayneallamericanoutdoorexpo.com\, advancedexposhows@gmail.com.
URL:https://midwestoutdoors.com/event/fort-wayne-all-american-outdoor-expo/2026-01-10/
CATEGORIES:Sports & Boat Shows
END:VEVENT
BEGIN:VEVENT
DTSTART;TZID=America/Chicago:20260110T100000
DTEND;TZID=America/Chicago:20260110T200000
DTSTAMP:20260424T041749
CREATED:20250917T162849Z
LAST-MODIFIED:20250917T162849Z
UID:223018-1768039200-1768075200@midwestoutdoors.com
SUMMARY:Ultimate Detroit Fishing Show
DESCRIPTION:January 8-11 \nUltimate Detroit Fishing Show\, Suburban Collection Showplace\, Novi\, MI. \nHours: Thursday 1 – 8 p.m.\, Friday 12 – 8 p.m.\, Saturday 10 a.m. to 8 p.m.\, Sunday 10 a.m. to 5 p.m.   \nFor info: Showspan\, John Loeks (616) 447-2860\, showspan.com\, events@showspan.com.
URL:https://midwestoutdoors.com/event/ultimate-detroit-fishing-show/2026-01-10/
CATEGORIES:Sports & Boat Shows
END:VEVENT
BEGIN:VEVENT
DTSTART;TZID=America/Chicago:20260110T100000
DTEND;TZID=America/Chicago:20260110T200000
DTSTAMP:20260424T041749
CREATED:20250918T161809Z
LAST-MODIFIED:20250918T161809Z
UID:223371-1768039200-1768075200@midwestoutdoors.com
SUMMARY:Ohio RV & Boat Show
DESCRIPTION:January 9-18 \nOhio RV & Boat Show\, at the Ohio Expo Center\, 717 E. 17th Ave.\, Columbus\, OH 43211 \nHours:\n1/9 Friday noon-8pm\n1/10 Saturday 10-8\n1/11 Sunday 11am-5pm\nMON-TUES closed\n1/14-16 Wed-Fri 12 noon-8pm\n1/17 Saturday 10-8\n1/18 Sunday 11am-5pm \nFor info: info@ohiorvandboatshow.com\, ohiorvandboatshow.com
URL:https://midwestoutdoors.com/event/ohio-rv-boat-show/2026-01-10/
CATEGORIES:Sports & Boat Shows
END:VEVENT
BEGIN:VEVENT
DTSTART;TZID=America/Chicago:20260111T100000
DTEND;TZID=America/Chicago:20260111T160000
DTSTAMP:20260424T041749
CREATED:20250918T155550Z
LAST-MODIFIED:20250918T155550Z
UID:223362-1768125600-1768147200@midwestoutdoors.com
SUMMARY:Fort Wayne All American Outdoor Expo
DESCRIPTION:January 9-11 \nFort Wayne All American Outdoor Expo\, at the Allen County Memorial Coliseum\, 4000 Parnell Ave.\, Ft Wayne\, In. 46805 \nHours: Friday 12 – 8 p.m.\, Saturday 10 a.m. to 6 p.m.\, Sunday 10 a.m. to 4 p.m. \nFor info: Advanced Expo\, Inc.\, ftwayneallamericanoutdoorexpo.com\, advancedexposhows@gmail.com.
URL:https://midwestoutdoors.com/event/fort-wayne-all-american-outdoor-expo/2026-01-11/
CATEGORIES:Sports & Boat Shows
END:VEVENT
BEGIN:VEVENT
DTSTART;TZID=America/Chicago:20260111T100000
DTEND;TZID=America/Chicago:20260111T170000
DTSTAMP:20260424T041749
CREATED:20250917T162849Z
LAST-MODIFIED:20250917T162849Z
UID:223022-1768125600-1768150800@midwestoutdoors.com
SUMMARY:Ultimate Detroit Fishing Show
DESCRIPTION:January 8-11 \nUltimate Detroit Fishing Show\, Suburban Collection Showplace\, Novi\, MI. \nHours: Thursday 1 – 8 p.m.\, Friday 12 – 8 p.m.\, Saturday 10 a.m. to 8 p.m.\, Sunday 10 a.m. to 5 p.m.   \nFor info: Showspan\, John Loeks (616) 447-2860\, showspan.com\, events@showspan.com.
URL:https://midwestoutdoors.com/event/ultimate-detroit-fishing-show/2026-01-11/
CATEGORIES:Sports & Boat Shows
END:VEVENT
BEGIN:VEVENT
DTSTART;TZID=America/Chicago:20260111T110000
DTEND;TZID=America/Chicago:20260111T170000
DTSTAMP:20260424T041749
CREATED:20250918T161809Z
LAST-MODIFIED:20250918T161809Z
UID:223375-1768129200-1768150800@midwestoutdoors.com
SUMMARY:Ohio RV & Boat Show
DESCRIPTION:January 9-18 \nOhio RV & Boat Show\, at the Ohio Expo Center\, 717 E. 17th Ave.\, Columbus\, OH 43211 \nHours:\n1/9 Friday noon-8pm\n1/10 Saturday 10-8\n1/11 Sunday 11am-5pm\nMON-TUES closed\n1/14-16 Wed-Fri 12 noon-8pm\n1/17 Saturday 10-8\n1/18 Sunday 11am-5pm \nFor info: info@ohiorvandboatshow.com\, ohiorvandboatshow.com
URL:https://midwestoutdoors.com/event/ohio-rv-boat-show/2026-01-11/
CATEGORIES:Sports & Boat Shows
END:VEVENT
BEGIN:VEVENT
DTSTART;TZID=America/Chicago:20260114T120000
DTEND;TZID=America/Chicago:20260114T200000
DTSTAMP:20260424T041749
CREATED:20250918T161809Z
LAST-MODIFIED:20250918T161809Z
UID:223379-1768392000-1768420800@midwestoutdoors.com
SUMMARY:Ohio RV & Boat Show
DESCRIPTION:January 9-18 \nOhio RV & Boat Show\, at the Ohio Expo Center\, 717 E. 17th Ave.\, Columbus\, OH 43211 \nHours:\n1/9 Friday noon-8pm\n1/10 Saturday 10-8\n1/11 Sunday 11am-5pm\nMON-TUES closed\n1/14-16 Wed-Fri 12 noon-8pm\n1/17 Saturday 10-8\n1/18 Sunday 11am-5pm \nFor info: info@ohiorvandboatshow.com\, ohiorvandboatshow.com
URL:https://midwestoutdoors.com/event/ohio-rv-boat-show/2026-01-14/
CATEGORIES:Sports & Boat Shows
END:VEVENT
BEGIN:VEVENT
DTSTART;TZID=America/Chicago:20260115T120000
DTEND;TZID=America/Chicago:20260115T200000
DTSTAMP:20260424T041749
CREATED:20250918T161809Z
LAST-MODIFIED:20250918T161809Z
UID:223383-1768478400-1768507200@midwestoutdoors.com
SUMMARY:Ohio RV & Boat Show
DESCRIPTION:January 9-18 \nOhio RV & Boat Show\, at the Ohio Expo Center\, 717 E. 17th Ave.\, Columbus\, OH 43211 \nHours:\n1/9 Friday noon-8pm\n1/10 Saturday 10-8\n1/11 Sunday 11am-5pm\nMON-TUES closed\n1/14-16 Wed-Fri 12 noon-8pm\n1/17 Saturday 10-8\n1/18 Sunday 11am-5pm \nFor info: info@ohiorvandboatshow.com\, ohiorvandboatshow.com
URL:https://midwestoutdoors.com/event/ohio-rv-boat-show/2026-01-15/
CATEGORIES:Sports & Boat Shows
END:VEVENT
BEGIN:VEVENT
DTSTART;TZID=America/Chicago:20260115T120000
DTEND;TZID=America/Chicago:20260115T210000
DTSTAMP:20260424T041749
CREATED:20250918T163456Z
LAST-MODIFIED:20250918T163456Z
UID:223416-1768478400-1768510800@midwestoutdoors.com
SUMMARY:Cleveland Boat Show
DESCRIPTION:January 15-18 \nCleveland Boat Show at the International Exposition Center\, 1 I-X Center Dr\, Cleveland\, OH 44135 \nHours: Thursday 12 – 9 p.m.\, Friday 10 a.m. to 9 p.m.\, Saturday 10 a.m. to 9 p.m.\, Sunday 10 a.m. to 5 p.m. \nMarine Trade Assoc.\, (440) 899-5009\, info@omta.com\, omta.com\, or clevelandboatshow.com.
URL:https://midwestoutdoors.com/event/cleveland-boat-show/2026-01-15/
CATEGORIES:Sports & Boat Shows
END:VEVENT
BEGIN:VEVENT
DTSTART;TZID=America/Chicago:20260115T150000
DTEND;TZID=America/Chicago:20260115T210000
DTSTAMP:20260424T041749
CREATED:20250918T162403Z
LAST-MODIFIED:20250918T162403Z
UID:223399-1768489200-1768510800@midwestoutdoors.com
SUMMARY:Grand Rapids Camper\, Travel & RV Show
DESCRIPTION:January 15-18 \nGrand Rapids Camper\, Travel & RV Show\, at DeVos Place\, 303 Monroe Ave NW\, Grand Rapids\, MI 49503 \nHours: Thursday 3 – 9 p.m.\, Friday 12 – 9 p.m.\, Saturday 10 a.m. to 9 p.m.\, Sunday 11 a.m to 5 p.m. \nFor info: Show Span\, events@showspan.com\, showspan.com.
URL:https://midwestoutdoors.com/event/grand-rapids-camper-travel-rv-show/2026-01-15/
CATEGORIES:Sports & Boat Shows
END:VEVENT
BEGIN:VEVENT
DTSTART;VALUE=DATE:20260116
DTEND;VALUE=DATE:20260119
DTSTAMP:20260424T041749
CREATED:20250918T170309Z
LAST-MODIFIED:20250918T170309Z
UID:223446-1768521600-1768780799@midwestoutdoors.com
SUMMARY:Muskie Expo Chicago
DESCRIPTION:January 16-18 \nMuskie Expo Chicago\, at the Kane County Fairgrounds\, 525 South Randall Road\, St. Charles\, IL 60174 \nMike Voserat\, (608) 220-7392\, info@muskieexpo.com\, muskieexpo.com.
URL:https://midwestoutdoors.com/event/muskie-expo-chicago/
CATEGORIES:Sports & Boat Shows
END:VEVENT
BEGIN:VEVENT
DTSTART;TZID=America/Chicago:20260116T100000
DTEND;TZID=America/Chicago:20260116T210000
DTSTAMP:20260424T041749
CREATED:20250918T163456Z
LAST-MODIFIED:20250918T163456Z
UID:223421-1768557600-1768597200@midwestoutdoors.com
SUMMARY:Cleveland Boat Show
DESCRIPTION:January 15-18 \nCleveland Boat Show at the International Exposition Center\, 1 I-X Center Dr\, Cleveland\, OH 44135 \nHours: Thursday 12 – 9 p.m.\, Friday 10 a.m. to 9 p.m.\, Saturday 10 a.m. to 9 p.m.\, Sunday 10 a.m. to 5 p.m. \nMarine Trade Assoc.\, (440) 899-5009\, info@omta.com\, omta.com\, or clevelandboatshow.com.
URL:https://midwestoutdoors.com/event/cleveland-boat-show/2026-01-16/
CATEGORIES:Sports & Boat Shows
END:VEVENT
BEGIN:VEVENT
DTSTART;TZID=America/Chicago:20260116T120000
DTEND;TZID=America/Chicago:20260116T200000
DTSTAMP:20260424T041749
CREATED:20250918T161809Z
LAST-MODIFIED:20250918T161809Z
UID:223387-1768564800-1768593600@midwestoutdoors.com
SUMMARY:Ohio RV & Boat Show
DESCRIPTION:January 9-18 \nOhio RV & Boat Show\, at the Ohio Expo Center\, 717 E. 17th Ave.\, Columbus\, OH 43211 \nHours:\n1/9 Friday noon-8pm\n1/10 Saturday 10-8\n1/11 Sunday 11am-5pm\nMON-TUES closed\n1/14-16 Wed-Fri 12 noon-8pm\n1/17 Saturday 10-8\n1/18 Sunday 11am-5pm \nFor info: info@ohiorvandboatshow.com\, ohiorvandboatshow.com
URL:https://midwestoutdoors.com/event/ohio-rv-boat-show/2026-01-16/
CATEGORIES:Sports & Boat Shows
END:VEVENT
BEGIN:VEVENT
DTSTART;TZID=America/Chicago:20260116T120000
DTEND;TZID=America/Chicago:20260116T200000
DTSTAMP:20260424T041749
CREATED:20250918T165656Z
LAST-MODIFIED:20250918T165656Z
UID:223433-1768564800-1768593600@midwestoutdoors.com
SUMMARY:2nd Annual Minnesota Sportsmen’s Show
DESCRIPTION:January 16-18 \n2nd Annual Sportsmen’s Show\, at Canterbury Park\, 1100 Canterbury Rd.\, Shakopee\, MN 55379 \nHours: Friday 12 – 8 p.m.\, Saturday 10 a.m. to 7 p.m.\, Sunday 10 a.m.to 4 p.m. \nFor info: Cenaiko Products\, mnresortshow.com\, cenaiko.com\, info@cenaiko.com.
URL:https://midwestoutdoors.com/event/2nd-annual-minnesota-sportsmens-show/2026-01-16/
CATEGORIES:Sports & Boat Shows
END:VEVENT
BEGIN:VEVENT
DTSTART;TZID=America/Chicago:20260116T120000
DTEND;TZID=America/Chicago:20260116T200000
DTSTAMP:20260424T041749
CREATED:20250918T190714Z
LAST-MODIFIED:20250918T190714Z
UID:223456-1768564800-1768593600@midwestoutdoors.com
SUMMARY:Milwaukee Boat Show
DESCRIPTION:January 16-18 and 21-25 \nMilwaukee Boat Show\, at the Wisconsin Expo Center at State Fair Park\, 8200 W Greenfield\, West Allis\, WI 53214. \nHours:\nFriday\, January 16\, 12-8 pm\nSaturday\, January 17\,  10 am – 8 pm\nSunday\, January 18\, 10 am – 5 pm \n\n\nWednesday\, January 21\, 1 – 8 pm\n\n\n\n\nThursday\, January 22\,  1 – 8 pm\n\n\n\n\nFriday\, January 23 12 – 8 pm\n\n\n\n\nSaturday\, January 24\, 10 am – 8 pm\n\n\n\n\nSunday\, January 25\, 10 am – 5 pm\n\n\nFor info: ShowSpan\, Inc.\, John Loeks\, (616) 447-2860\, showspan.com\, events@showspan.com.
URL:https://midwestoutdoors.com/event/milwaukee-boat-show/2026-01-16/
CATEGORIES:Sports & Boat Shows
END:VEVENT
BEGIN:VEVENT
DTSTART;TZID=America/Chicago:20260116T120000
DTEND;TZID=America/Chicago:20260116T210000
DTSTAMP:20260424T041749
CREATED:20250918T162403Z
LAST-MODIFIED:20250918T162403Z
UID:223404-1768564800-1768597200@midwestoutdoors.com
SUMMARY:Grand Rapids Camper\, Travel & RV Show
DESCRIPTION:January 15-18 \nGrand Rapids Camper\, Travel & RV Show\, at DeVos Place\, 303 Monroe Ave NW\, Grand Rapids\, MI 49503 \nHours: Thursday 3 – 9 p.m.\, Friday 12 – 9 p.m.\, Saturday 10 a.m. to 9 p.m.\, Sunday 11 a.m to 5 p.m. \nFor info: Show Span\, events@showspan.com\, showspan.com.
URL:https://midwestoutdoors.com/event/grand-rapids-camper-travel-rv-show/2026-01-16/
CATEGORIES:Sports & Boat Shows
END:VEVENT
BEGIN:VEVENT
DTSTART;TZID=America/Chicago:20260116T150000
DTEND;TZID=America/Chicago:20260116T200000
DTSTAMP:20260424T041749
CREATED:20251030T184437Z
LAST-MODIFIED:20251030T184437Z
UID:227868-1768575600-1768593600@midwestoutdoors.com
SUMMARY:All-Canada Show Milwaukee
DESCRIPTION:January 16-18 \nAll-Canada Show Milwaukee\, Brookfield Conference Center\, 325 South Moorland Rd.\, Brookfield WI 53005. \nHours: Friday\, 3 – 8 p.m.\, Saturday 10 a.m. to 6 p.m.\, Sunday 10 a.m. to 3 p.m. \nFor info: allcanada.com
URL:https://midwestoutdoors.com/event/all-canada-show-milwaukee-3/2026-01-16/
CATEGORIES:Sports & Boat Shows
END:VEVENT
BEGIN:VEVENT
DTSTART;TZID=America/Chicago:20260117T100000
DTEND;TZID=America/Chicago:20260117T180000
DTSTAMP:20260424T041749
CREATED:20251030T184437Z
LAST-MODIFIED:20251030T184437Z
UID:227872-1768644000-1768672800@midwestoutdoors.com
SUMMARY:All-Canada Show Milwaukee
DESCRIPTION:January 16-18 \nAll-Canada Show Milwaukee\, Brookfield Conference Center\, 325 South Moorland Rd.\, Brookfield WI 53005. \nHours: Friday\, 3 – 8 p.m.\, Saturday 10 a.m. to 6 p.m.\, Sunday 10 a.m. to 3 p.m. \nFor info: allcanada.com
URL:https://midwestoutdoors.com/event/all-canada-show-milwaukee-3/2026-01-17/
CATEGORIES:Sports & Boat Shows
END:VEVENT
BEGIN:VEVENT
DTSTART;TZID=America/Chicago:20260117T100000
DTEND;TZID=America/Chicago:20260117T190000
DTSTAMP:20260424T041749
CREATED:20250918T165656Z
LAST-MODIFIED:20250918T165656Z
UID:223438-1768644000-1768676400@midwestoutdoors.com
SUMMARY:2nd Annual Minnesota Sportsmen’s Show
DESCRIPTION:January 16-18 \n2nd Annual Sportsmen’s Show\, at Canterbury Park\, 1100 Canterbury Rd.\, Shakopee\, MN 55379 \nHours: Friday 12 – 8 p.m.\, Saturday 10 a.m. to 7 p.m.\, Sunday 10 a.m.to 4 p.m. \nFor info: Cenaiko Products\, mnresortshow.com\, cenaiko.com\, info@cenaiko.com.
URL:https://midwestoutdoors.com/event/2nd-annual-minnesota-sportsmens-show/2026-01-17/
CATEGORIES:Sports & Boat Shows
END:VEVENT
BEGIN:VEVENT
DTSTART;TZID=America/Chicago:20260117T100000
DTEND;TZID=America/Chicago:20260117T200000
DTSTAMP:20260424T041749
CREATED:20250918T161809Z
LAST-MODIFIED:20250918T161809Z
UID:223391-1768644000-1768680000@midwestoutdoors.com
SUMMARY:Ohio RV & Boat Show
DESCRIPTION:January 9-18 \nOhio RV & Boat Show\, at the Ohio Expo Center\, 717 E. 17th Ave.\, Columbus\, OH 43211 \nHours:\n1/9 Friday noon-8pm\n1/10 Saturday 10-8\n1/11 Sunday 11am-5pm\nMON-TUES closed\n1/14-16 Wed-Fri 12 noon-8pm\n1/17 Saturday 10-8\n1/18 Sunday 11am-5pm \nFor info: info@ohiorvandboatshow.com\, ohiorvandboatshow.com
URL:https://midwestoutdoors.com/event/ohio-rv-boat-show/2026-01-17/
CATEGORIES:Sports & Boat Shows
END:VEVENT
BEGIN:VEVENT
DTSTART;TZID=America/Chicago:20260117T100000
DTEND;TZID=America/Chicago:20260117T200000
DTSTAMP:20260424T041749
CREATED:20250918T190714Z
LAST-MODIFIED:20250918T190714Z
UID:223461-1768644000-1768680000@midwestoutdoors.com
SUMMARY:Milwaukee Boat Show
DESCRIPTION:January 16-18 and 21-25 \nMilwaukee Boat Show\, at the Wisconsin Expo Center at State Fair Park\, 8200 W Greenfield\, West Allis\, WI 53214. \nHours:\nFriday\, January 16\, 12-8 pm\nSaturday\, January 17\,  10 am – 8 pm\nSunday\, January 18\, 10 am – 5 pm \n\n\nWednesday\, January 21\, 1 – 8 pm\n\n\n\n\nThursday\, January 22\,  1 – 8 pm\n\n\n\n\nFriday\, January 23 12 – 8 pm\n\n\n\n\nSaturday\, January 24\, 10 am – 8 pm\n\n\n\n\nSunday\, January 25\, 10 am – 5 pm\n\n\nFor info: ShowSpan\, Inc.\, John Loeks\, (616) 447-2860\, showspan.com\, events@showspan.com.
URL:https://midwestoutdoors.com/event/milwaukee-boat-show/2026-01-17/
CATEGORIES:Sports & Boat Shows
END:VEVENT
BEGIN:VEVENT
DTSTART;TZID=America/Chicago:20260117T100000
DTEND;TZID=America/Chicago:20260117T200000
DTSTAMP:20260424T041749
CREATED:20251030T193522Z
LAST-MODIFIED:20251030T193522Z
UID:227891-1768644000-1768680000@midwestoutdoors.com
SUMMARY:Peoria RV\, Boat and Vacation Show
DESCRIPTION:January 17-18 \nPeoria RV\, Boat and Vacation Show at the Peoria Civic Center\, Peoria\, IL. \nHours: Saturday 10 a.m. to 8 p.m.\, Sunday 10 a.m. to 4 p.m. \nFor info: Events\, Inc.\, events-inc.com. 
URL:https://midwestoutdoors.com/event/peoria-rv-boat-and-vacation-show/2026-01-17/
CATEGORIES:Sports & Boat Shows
END:VEVENT
END:VCALENDAR