BEGIN:VCALENDAR
VERSION:2.0
PRODID:-//MidWest Outdoors - ECPv6.15.9//NONSGML v1.0//EN
CALSCALE:GREGORIAN
METHOD:PUBLISH
X-WR-CALNAME:MidWest Outdoors
X-ORIGINAL-URL:https://midwestoutdoors.com
X-WR-CALDESC:Events for MidWest Outdoors
REFRESH-INTERVAL;VALUE=DURATION:PT1H
X-Robots-Tag:noindex
X-PUBLISHED-TTL:PT1H
BEGIN:VTIMEZONE
TZID:America/Chicago
BEGIN:DAYLIGHT
TZOFFSETFROM:-0600
TZOFFSETTO:-0500
TZNAME:CDT
DTSTART:20250309T080000
END:DAYLIGHT
BEGIN:STANDARD
TZOFFSETFROM:-0500
TZOFFSETTO:-0600
TZNAME:CST
DTSTART:20251102T070000
END:STANDARD
BEGIN:DAYLIGHT
TZOFFSETFROM:-0600
TZOFFSETTO:-0500
TZNAME:CDT
DTSTART:20260308T080000
END:DAYLIGHT
BEGIN:STANDARD
TZOFFSETFROM:-0500
TZOFFSETTO:-0600
TZNAME:CST
DTSTART:20261101T070000
END:STANDARD
BEGIN:DAYLIGHT
TZOFFSETFROM:-0600
TZOFFSETTO:-0500
TZNAME:CDT
DTSTART:20270314T080000
END:DAYLIGHT
BEGIN:STANDARD
TZOFFSETFROM:-0500
TZOFFSETTO:-0600
TZNAME:CST
DTSTART:20271107T070000
END:STANDARD
END:VTIMEZONE
BEGIN:VEVENT
DTSTART;TZID=America/Chicago:20260120T183000
DTEND;TZID=America/Chicago:20260120T210000
DTSTAMP:20260422T050654
CREATED:20161230T015528Z
LAST-MODIFIED:20161230T015528Z
UID:221332-1768933800-1768942800@midwestoutdoors.com
SUMMARY:Open Fly Tying Seminar
DESCRIPTION:Note: Due to the current COVID-19 virus crisis\, please verify events before attending!\nEvery Tuesday—Open Fly Tying Seminar from 6:30 – 9 p.m. at the Bass Pro Shop in Portage. Come spend time with local fly fishermen/women at the seminar room on the 2nd floor behind the camo department. The open fly tying format is an excellent opportunity to trade secrets with and learn from the professionals! For further information call 219-787-6800.
URL:https://midwestoutdoors.com/event/open-fly-tying-seminar-2/2026-01-20/
LOCATION:Bass Pro Shop\, Portage\, IN\, 46368\, United States
CATEGORIES:Other
GEO:41.596455;-87.1722037
END:VEVENT
BEGIN:VEVENT
DTSTART;TZID=America/Chicago:20260120T193000
DTEND;TZID=America/Chicago:20260120T210000
DTSTAMP:20260422T050654
CREATED:20170322T202721Z
LAST-MODIFIED:20170322T202721Z
UID:221320-1768937400-1768942800@midwestoutdoors.com
SUMMARY:Rock Island Conservation Club
DESCRIPTION:Rock Island Conservation Club meets on the 3rd Tuesday of each month at the RICC Clubhouse in Milan\, Ill. Our dues are $50 a year for seniors 65 and over\, and $65 for family membership under 65 years old. The club has over 100 acres for camping and fishing. There are 110 acres and 80 acres of water for fishing\, kayaking\, and canoeing. RICC is one of the managing clubs of the Quad City Conservation Alliance. For more information visit us on the web at riccnews.com or Facebook.
URL:https://midwestoutdoors.com/event/rock-island-conservation-club/2026-01-20/
LOCATION:Rock Island Conservation Clubhouse\, 2421 Big Island Pkwy\, Milan\, IL\, 61264\, United States
CATEGORIES:Clubs & Organizations,Fishing,Other
GEO:41.4659068;-90.6005971
X-APPLE-STRUCTURED-LOCATION;VALUE=URI;X-ADDRESS=Rock Island Conservation Clubhouse 2421 Big Island Pkwy Milan IL 61264 United States;X-APPLE-RADIUS=500;X-TITLE=2421 Big Island Pkwy:geo:-90.6005971,41.4659068
END:VEVENT
END:VCALENDAR