BEGIN:VCALENDAR
VERSION:2.0
PRODID:-//MidWest Outdoors - ECPv6.15.9//NONSGML v1.0//EN
CALSCALE:GREGORIAN
METHOD:PUBLISH
X-ORIGINAL-URL:https://midwestoutdoors.com
X-WR-CALDESC:Events for MidWest Outdoors
REFRESH-INTERVAL;VALUE=DURATION:PT1H
X-Robots-Tag:noindex
X-PUBLISHED-TTL:PT1H
BEGIN:VTIMEZONE
TZID:America/Chicago
BEGIN:DAYLIGHT
TZOFFSETFROM:-0600
TZOFFSETTO:-0500
TZNAME:CDT
DTSTART:20250309T080000
END:DAYLIGHT
BEGIN:STANDARD
TZOFFSETFROM:-0500
TZOFFSETTO:-0600
TZNAME:CST
DTSTART:20251102T070000
END:STANDARD
BEGIN:DAYLIGHT
TZOFFSETFROM:-0600
TZOFFSETTO:-0500
TZNAME:CDT
DTSTART:20260308T080000
END:DAYLIGHT
BEGIN:STANDARD
TZOFFSETFROM:-0500
TZOFFSETTO:-0600
TZNAME:CST
DTSTART:20261101T070000
END:STANDARD
BEGIN:DAYLIGHT
TZOFFSETFROM:-0600
TZOFFSETTO:-0500
TZNAME:CDT
DTSTART:20270314T080000
END:DAYLIGHT
BEGIN:STANDARD
TZOFFSETFROM:-0500
TZOFFSETTO:-0600
TZNAME:CST
DTSTART:20271107T070000
END:STANDARD
END:VTIMEZONE
BEGIN:VEVENT
DTSTART;TZID=America/Chicago:20260106T193000
DTEND;TZID=America/Chicago:20260106T210000
DTSTAMP:20260420T004547
CREATED:20170322T020437Z
LAST-MODIFIED:20170322T020437Z
UID:220332-1767727800-1767733200@midwestoutdoors.com
SUMMARY:Northwest Towns Sportsmen’s Club
DESCRIPTION:Northwest Towns Sportsmen’s Club—meets the first Tuesday of every month from September through May in the American Legion Hall\, 515 Main St.\, Wauconda\, IL. \nNWTSC is a social organization\, formed and participated in by sportsmen with common interests in hunting\, shooting\, fishing\, and boat related activities. \nHalFor information\, contact Don Haug at doca42@ameritech.net or 847-494-5132.
URL:https://midwestoutdoors.com/event/northwest-towns-sportsmens-club/2026-01-06/
LOCATION:American Legion  Hall Wauconda\, 515 Main St\, Wauconda\, IL\, United States
CATEGORIES:Clubs & Organizations,Fishing,Hunting
ORGANIZER;CN="Northwest Towns Sportsmen%E2%80%99s Club":MAILTO:doca42@ameritech.net
GEO:42.2538556;-88.136116
X-APPLE-STRUCTURED-LOCATION;VALUE=URI;X-ADDRESS=American Legion  Hall Wauconda 515 Main St Wauconda IL United States;X-APPLE-RADIUS=500;X-TITLE=515 Main St:geo:-88.136116,42.2538556
END:VEVENT
BEGIN:VEVENT
DTSTART;TZID=America/Chicago:20260107T200000
DTEND;TZID=America/Chicago:20260107T213000
DTSTAMP:20260420T004547
CREATED:20170324T025328Z
LAST-MODIFIED:20170324T025328Z
UID:220372-1767816000-1767821400@midwestoutdoors.com
SUMMARY:Mishicot Sportsmen’s Club
DESCRIPTION:Mishicot Sportsmen’s Club—Meetings are held the first Wednesday of each month at 8 p.m. at 13804 Jamb Creek Rd.\, Mishicot\, WI 54228\, west of Mishicot off of Hwy. 147. Public is welcome\, contact David Gohr 920-901-9229 or Dave Koller (920) 323-0127.
URL:https://midwestoutdoors.com/event/mishicot-sportsmens-club/2026-01-07/
LOCATION:Mishicot Sportsmen’s Club\, 13804 Jamb Creek Rd.\, Mishicot\, WI\, 54228\, United States
CATEGORIES:Clubs & Organizations,Fishing,Hunting
GEO:44.239162;-87.6411949
X-APPLE-STRUCTURED-LOCATION;VALUE=URI;X-ADDRESS=Mishicot Sportsmen’s Club 13804 Jamb Creek Rd. Mishicot WI 54228 United States;X-APPLE-RADIUS=500;X-TITLE=13804 Jamb Creek Rd.:geo:-87.6411949,44.239162
END:VEVENT
BEGIN:VEVENT
DTSTART;TZID=America/Chicago:20260114T190000
DTEND;TZID=America/Chicago:20260114T210000
DTSTAMP:20260420T004547
CREATED:20170321T215714Z
LAST-MODIFIED:20170321T215714Z
UID:220777-1768417200-1768424400@midwestoutdoors.com
SUMMARY:Fox River Valley Hunting Retriever Club (FRVHRC)
DESCRIPTION:Fox River Valley Hunting Retriever Club (FRVHRC)\, located in the N.W. Chicagoland area. FRVHRC is a family oriented organization founded by hunting enthusiasts.  Meetings are the 2nd Wednesday of the month and regular training sessions are scheduled. Contact Joe Scarpy for details 708-341-2576 or Joe@HuntEmUp.com\, frvhrc.com/Membership.html
URL:https://midwestoutdoors.com/event/fox-river-valley-hunting-retriever-club-frvhrc-2/2026-01-14/
CATEGORIES:Clubs & Organizations,Hunting
ORGANIZER;CN="Fox River Valley Hunting Retriever Club (FRVHRC)":MAILTO:Joe@HuntEmUp.com
END:VEVENT
END:VCALENDAR