BEGIN:VCALENDAR
VERSION:2.0
PRODID:-//MidWest Outdoors - ECPv6.15.9//NONSGML v1.0//EN
CALSCALE:GREGORIAN
METHOD:PUBLISH
X-WR-CALNAME:MidWest Outdoors
X-ORIGINAL-URL:https://midwestoutdoors.com
X-WR-CALDESC:Events for MidWest Outdoors
REFRESH-INTERVAL;VALUE=DURATION:PT1H
X-Robots-Tag:noindex
X-PUBLISHED-TTL:PT1H
BEGIN:VTIMEZONE
TZID:America/Chicago
BEGIN:DAYLIGHT
TZOFFSETFROM:-0600
TZOFFSETTO:-0500
TZNAME:CDT
DTSTART:20250309T080000
END:DAYLIGHT
BEGIN:STANDARD
TZOFFSETFROM:-0500
TZOFFSETTO:-0600
TZNAME:CST
DTSTART:20251102T070000
END:STANDARD
BEGIN:DAYLIGHT
TZOFFSETFROM:-0600
TZOFFSETTO:-0500
TZNAME:CDT
DTSTART:20260308T080000
END:DAYLIGHT
BEGIN:STANDARD
TZOFFSETFROM:-0500
TZOFFSETTO:-0600
TZNAME:CST
DTSTART:20261101T070000
END:STANDARD
BEGIN:DAYLIGHT
TZOFFSETFROM:-0600
TZOFFSETTO:-0500
TZNAME:CDT
DTSTART:20270314T080000
END:DAYLIGHT
BEGIN:STANDARD
TZOFFSETFROM:-0500
TZOFFSETTO:-0600
TZNAME:CST
DTSTART:20271107T070000
END:STANDARD
END:VTIMEZONE
BEGIN:VEVENT
DTSTART;TZID=America/Chicago:20260516T080000
DTEND;TZID=America/Chicago:20260516T140000
DTSTAMP:20260425T182144
CREATED:20260330T203740Z
LAST-MODIFIED:20260330T203740Z
UID:234128-1778918400-1778940000@midwestoutdoors.com
SUMMARY:New Lisbon Gun\, Ammunition & Accessory Show
DESCRIPTION:May 15-16 \nNew Lisbon Gun\, Ammunition & Accessory Show at American Legion Post 110\, New Lisbon Community Center\, 110 Welch Prairie Road / Hwy 80\, New Lisbon\, WI 53950. \nHours: Friday 12 – 6 p.m.\, Saturday 8 a.m. to 2 p.m. \nAdmission $5 good for both days. \nFor info: Gun Buyer Gun Shows\, B.J. Keating\, (608) 548-4867\, keating84@ymail.com.
URL:https://midwestoutdoors.com/event/new-lisbon-gun-ammunition-accessory-show-3/2026-05-16/
CATEGORIES:Gun Shows
END:VEVENT
BEGIN:VEVENT
DTSTART;TZID=America/Chicago:20260516T080000
DTEND;TZID=America/Chicago:20260516T150000
DTSTAMP:20260425T182144
CREATED:20260302T173234Z
LAST-MODIFIED:20260302T173234Z
UID:233357-1778918400-1778943600@midwestoutdoors.com
SUMMARY:Kankakee Gun & Sportsman’s Show
DESCRIPTION:May 16-17 \nKankakee Gun & Sportsman’s Show at Kankakee County Fairgrounds\, 213 W 4000S Rd.\, Kankakee\, IL 60901. \nShow hours: Saturday 8 a.m. to 3 p.m.\, Sunday 8 a.m. to 2 p.m. \nFor info: M & J Sportsmans Group\, mjsportsmansgroupllc.com.
URL:https://midwestoutdoors.com/event/kankakee-gun-sportsmans-show-2/2026-05-16/
CATEGORIES:Gun Shows
END:VEVENT
BEGIN:VEVENT
DTSTART;TZID=America/Chicago:20260516T080000
DTEND;TZID=America/Chicago:20260516T150000
DTSTAMP:20260425T182144
CREATED:20260330T204740Z
LAST-MODIFIED:20260330T204740Z
UID:234152-1778918400-1778943600@midwestoutdoors.com
SUMMARY:Kankakee Gun & Sportsman’s Show
DESCRIPTION:May 16-17 \nKankakee Gun & Sportsman’s Show at Kankakee County Fairgrounds\, 213 W 4000S Rd.\, Kankakee\, IL 60901. \nShow hours: Saturday 8 a.m. to 3 p.m.\, Sunday 8 a.m. to 2 p.m. \nFor info: M & J Sportsmans Group\, mjsportsmansgroupllc.com.
URL:https://midwestoutdoors.com/event/kankakee-gun-sportsmans-show-5/2026-05-16/
CATEGORIES:Gun Shows,Sports & Boat Shows
END:VEVENT
BEGIN:VEVENT
DTSTART;TZID=America/Chicago:20260516T090000
DTEND;TZID=America/Chicago:20260516T170000
DTSTAMP:20260425T182144
CREATED:20260330T192503Z
LAST-MODIFIED:20260330T192503Z
UID:233945-1778922000-1778950800@midwestoutdoors.com
SUMMARY:St. Ignace Gun & Knife Show
DESCRIPTION:May 15-16 \nSt Ignace Gun & Knife Show at Kewadin Casinos\, 3015 Mackinac Trail\, St. Ignace\, MI 49781. \nHours: Friday 2 – 7 p.m.\, Saturday 9 a.m. to 5 p.m. \nAdmission $8\, children under 14 free w/ adult. \nFor info: PJS Promotions LLC\, (989) 798-8709\,  mtmm1@yahoo.com.
URL:https://midwestoutdoors.com/event/st-ignace-gun-knife-show/2026-05-16/
CATEGORIES:Gun Shows
END:VEVENT
BEGIN:VEVENT
DTSTART;TZID=America/Chicago:20260516T100000
DTEND;TZID=America/Chicago:20260516T170000
DTSTAMP:20260425T182144
CREATED:20260227T202203Z
LAST-MODIFIED:20260227T202203Z
UID:233017-1778925600-1778950800@midwestoutdoors.com
SUMMARY:Taylor Town’s New Era Gun & Knife Expo
DESCRIPTION:April 17-19 & May 15-17 \nTaylor Town’s New Era Gun & Knife Expo at Taylor Town Trade Center\, 22525 Ecorse Rd.\, Taylor\, MI 48180. \nHours: Friday 1 – 7 p.m.\, Saturday 10 a.m. to 5 p.m.\, Sunday 10 a.m. to 3 p.m. \nFor info: New Era Gun Show\, (734) 309-9170\, wickedtacticals@gmail.com.
URL:https://midwestoutdoors.com/event/taylor-towns-new-era-gun-knife-expo/2026-05-16/
CATEGORIES:Gun Shows
END:VEVENT
END:VCALENDAR