BEGIN:VCALENDAR
VERSION:2.0
PRODID:-//MidWest Outdoors - ECPv6.15.9//NONSGML v1.0//EN
CALSCALE:GREGORIAN
METHOD:PUBLISH
X-WR-CALNAME:MidWest Outdoors
X-ORIGINAL-URL:https://midwestoutdoors.com
X-WR-CALDESC:Events for MidWest Outdoors
REFRESH-INTERVAL;VALUE=DURATION:PT1H
X-Robots-Tag:noindex
X-PUBLISHED-TTL:PT1H
BEGIN:VTIMEZONE
TZID:America/Chicago
BEGIN:DAYLIGHT
TZOFFSETFROM:-0600
TZOFFSETTO:-0500
TZNAME:CDT
DTSTART:20250309T080000
END:DAYLIGHT
BEGIN:STANDARD
TZOFFSETFROM:-0500
TZOFFSETTO:-0600
TZNAME:CST
DTSTART:20251102T070000
END:STANDARD
BEGIN:DAYLIGHT
TZOFFSETFROM:-0600
TZOFFSETTO:-0500
TZNAME:CDT
DTSTART:20260308T080000
END:DAYLIGHT
BEGIN:STANDARD
TZOFFSETFROM:-0500
TZOFFSETTO:-0600
TZNAME:CST
DTSTART:20261101T070000
END:STANDARD
BEGIN:DAYLIGHT
TZOFFSETFROM:-0600
TZOFFSETTO:-0500
TZNAME:CDT
DTSTART:20270314T080000
END:DAYLIGHT
BEGIN:STANDARD
TZOFFSETFROM:-0500
TZOFFSETTO:-0600
TZNAME:CST
DTSTART:20271107T070000
END:STANDARD
END:VTIMEZONE
BEGIN:VEVENT
DTSTART;TZID=America/Chicago:20260510T090000
DTEND;TZID=America/Chicago:20260510T150000
DTSTAMP:20260425T231147
CREATED:20260227T213341Z
LAST-MODIFIED:20260227T213341Z
UID:233148-1778403600-1778425200@midwestoutdoors.com
SUMMARY:Indianapolis Gun Show
DESCRIPTION:May 9-10 \nIndianapolis Gun Show at Stout Field National Guard Armory\, 3912 W Minnesota St.\, Indianapolis\, IN 46241. \nHours: Saturday 9 a.m. to 5 p.m.\, Sunday 9 a.m. to 3 p.m. \nFor info: Central Indiana Gun Shows\, centralindianagunshows.com.
URL:https://midwestoutdoors.com/event/indianapolis-gun-show-7/2026-05-10/
CATEGORIES:Gun Shows
END:VEVENT
BEGIN:VEVENT
DTSTART;TZID=America/Chicago:20260510T100000
DTEND;TZID=America/Chicago:20260510T150000
DTSTAMP:20260425T231147
CREATED:20260330T192331Z
LAST-MODIFIED:20260330T192331Z
UID:233936-1778407200-1778425200@midwestoutdoors.com
SUMMARY:Kalamazoo Gun & Knife Show
DESCRIPTION:May 9-10 \nKalamazoo Gun & Knife Show at Kalamazoo Fairgrounds\, 2900 Lake St.\, Kalamazoo\, MI 49048. \nHours: Saturday 9 a.m. to 5 p.m.\, Sunday 10 a.m. to 3 p.m. \nAdmission $8\, children 12 and under free. \nFor info: Sport Shows Promotions\, (517) 883-5022\, sportshows@gmail.com\, migunshow.com\, Facebook.com/SportShowsPromotions. 
URL:https://midwestoutdoors.com/event/kalamazoo-gun-knife-show/2026-05-10/
CATEGORIES:Gun Shows
END:VEVENT
END:VCALENDAR