BEGIN:VCALENDAR
VERSION:2.0
PRODID:-//MidWest Outdoors - ECPv6.15.9//NONSGML v1.0//EN
CALSCALE:GREGORIAN
METHOD:PUBLISH
X-ORIGINAL-URL:https://midwestoutdoors.com
X-WR-CALDESC:Events for MidWest Outdoors
REFRESH-INTERVAL;VALUE=DURATION:PT1H
X-Robots-Tag:noindex
X-PUBLISHED-TTL:PT1H
BEGIN:VTIMEZONE
TZID:America/Chicago
BEGIN:DAYLIGHT
TZOFFSETFROM:-0600
TZOFFSETTO:-0500
TZNAME:CDT
DTSTART:20240310T080000
END:DAYLIGHT
BEGIN:STANDARD
TZOFFSETFROM:-0500
TZOFFSETTO:-0600
TZNAME:CST
DTSTART:20241103T070000
END:STANDARD
BEGIN:DAYLIGHT
TZOFFSETFROM:-0600
TZOFFSETTO:-0500
TZNAME:CDT
DTSTART:20250309T080000
END:DAYLIGHT
BEGIN:STANDARD
TZOFFSETFROM:-0500
TZOFFSETTO:-0600
TZNAME:CST
DTSTART:20251102T070000
END:STANDARD
BEGIN:DAYLIGHT
TZOFFSETFROM:-0600
TZOFFSETTO:-0500
TZNAME:CDT
DTSTART:20260308T080000
END:DAYLIGHT
BEGIN:STANDARD
TZOFFSETFROM:-0500
TZOFFSETTO:-0600
TZNAME:CST
DTSTART:20261101T070000
END:STANDARD
END:VTIMEZONE
BEGIN:VEVENT
DTSTART;TZID=America/Chicago:20251109T190000
DTEND;TZID=America/Chicago:20251109T235500
DTSTAMP:20260422T015142
CREATED:20161230T021502Z
LAST-MODIFIED:20161230T021502Z
UID:218116-1762714800-1762732500@midwestoutdoors.com
SUMMARY:Women for Fishing\, Hunting\, and Wildlife (WFHW)
DESCRIPTION:Women for Fishing\, Hunting\, and Wildlife (WFHW) meet the second Monday of each month at the Sawmill Inn in Brainerd\, MN at 7:00pm. For more info: Peggy @ 218-764-3372 or Kim @ 218-963-7539.
URL:https://midwestoutdoors.com/event/women-for-fishing-hunting-and-wildlife-wfhw-2/2025-11-09/
LOCATION:Sawmill Inn\, 601 Washington St\, Brainerd\, MN\, 56401\, United States
CATEGORIES:Clubs & Organizations
GEO:46.358278;-94.2003569
X-APPLE-STRUCTURED-LOCATION;VALUE=URI;X-ADDRESS=Sawmill Inn 601 Washington St Brainerd MN 56401 United States;X-APPLE-RADIUS=500;X-TITLE=601 Washington St:geo:-94.2003569,46.358278
END:VEVENT
BEGIN:VEVENT
DTSTART;TZID=America/Chicago:20251109T193000
DTEND;TZID=America/Chicago:20251109T220000
DTSTAMP:20260422T015142
CREATED:20161230T021131Z
LAST-MODIFIED:20161230T021131Z
UID:218112-1762716600-1762725600@midwestoutdoors.com
SUMMARY:Women Anglers of Minnesota (WAM)
DESCRIPTION:Women Anglers of Minnesota (WAM) meet the second Monday of each month at Elks 44 Club\, 2975 Brookdale Dr\, Brooklyn Park\, MN\, at 7:30pm. Public is welcome. For more info: 612-339-1322 or WomanAnglers@aol.com.
URL:https://midwestoutdoors.com/event/women-anglers-of-minnesota-wam-2/2025-11-09/
LOCATION:Elks 44 Club\, 2975 Brookdale Dr\, Brooklyn Park\, MN\, United States
CATEGORIES:Clubs & Organizations
GEO:45.0964806;-93.3185236
X-APPLE-STRUCTURED-LOCATION;VALUE=URI;X-ADDRESS=Elks 44 Club 2975 Brookdale Dr Brooklyn Park MN United States;X-APPLE-RADIUS=500;X-TITLE=2975 Brookdale Dr:geo:-93.3185236,45.0964806
END:VEVENT
END:VCALENDAR