BEGIN:VCALENDAR
VERSION:2.0
PRODID:-//MidWest Outdoors - ECPv6.15.9//NONSGML v1.0//EN
CALSCALE:GREGORIAN
METHOD:PUBLISH
X-ORIGINAL-URL:https://midwestoutdoors.com
X-WR-CALDESC:Events for MidWest Outdoors
REFRESH-INTERVAL;VALUE=DURATION:PT1H
X-Robots-Tag:noindex
X-PUBLISHED-TTL:PT1H
BEGIN:VTIMEZONE
TZID:America/Chicago
BEGIN:DAYLIGHT
TZOFFSETFROM:-0600
TZOFFSETTO:-0500
TZNAME:CDT
DTSTART:20250309T080000
END:DAYLIGHT
BEGIN:STANDARD
TZOFFSETFROM:-0500
TZOFFSETTO:-0600
TZNAME:CST
DTSTART:20251102T070000
END:STANDARD
BEGIN:DAYLIGHT
TZOFFSETFROM:-0600
TZOFFSETTO:-0500
TZNAME:CDT
DTSTART:20260308T080000
END:DAYLIGHT
BEGIN:STANDARD
TZOFFSETFROM:-0500
TZOFFSETTO:-0600
TZNAME:CST
DTSTART:20261101T070000
END:STANDARD
BEGIN:DAYLIGHT
TZOFFSETFROM:-0600
TZOFFSETTO:-0500
TZNAME:CDT
DTSTART:20270314T080000
END:DAYLIGHT
BEGIN:STANDARD
TZOFFSETFROM:-0500
TZOFFSETTO:-0600
TZNAME:CST
DTSTART:20271107T070000
END:STANDARD
END:VTIMEZONE
BEGIN:VEVENT
DTSTART;TZID=America/Chicago:20260724T130000
DTEND;TZID=America/Chicago:20260724T190000
DTSTAMP:20260425T092850
CREATED:20260424T193430Z
LAST-MODIFIED:20260424T193430Z
UID:235219-1784898000-1784919600@midwestoutdoors.com
SUMMARY:Taylor Town’s New Era Gun & Knife Expo
DESCRIPTION:July 24-25 \nTaylor Town’s New Era Gun & Knife Expo at Taylor Town Trade Center\, 22525 Ecorse Rd.\, Taylor\, MI 48180. \nHours: Friday 1 – 7 p.m.\, Saturday 10 a.m. to 5 p.m.\, Sunday 10 a.m. to 3 p.m. \nFor info: New Era Gun Show\, Daryl Robinson\, (734) 309-9170\, wickedtacticals@gmail.com.
URL:https://midwestoutdoors.com/event/taylor-towns-new-era-gun-knife-expo-2/2026-07-24/
CATEGORIES:Gun Shows
END:VEVENT
END:VCALENDAR