BEGIN:VCALENDAR
VERSION:2.0
PRODID:-//MidWest Outdoors - ECPv6.15.9//NONSGML v1.0//EN
CALSCALE:GREGORIAN
METHOD:PUBLISH
X-ORIGINAL-URL:https://midwestoutdoors.com
X-WR-CALDESC:Events for MidWest Outdoors
REFRESH-INTERVAL;VALUE=DURATION:PT1H
X-Robots-Tag:noindex
X-PUBLISHED-TTL:PT1H
BEGIN:VTIMEZONE
TZID:America/Chicago
BEGIN:DAYLIGHT
TZOFFSETFROM:-0600
TZOFFSETTO:-0500
TZNAME:CDT
DTSTART:20250309T080000
END:DAYLIGHT
BEGIN:STANDARD
TZOFFSETFROM:-0500
TZOFFSETTO:-0600
TZNAME:CST
DTSTART:20251102T070000
END:STANDARD
BEGIN:DAYLIGHT
TZOFFSETFROM:-0600
TZOFFSETTO:-0500
TZNAME:CDT
DTSTART:20260308T080000
END:DAYLIGHT
BEGIN:STANDARD
TZOFFSETFROM:-0500
TZOFFSETTO:-0600
TZNAME:CST
DTSTART:20261101T070000
END:STANDARD
BEGIN:DAYLIGHT
TZOFFSETFROM:-0600
TZOFFSETTO:-0500
TZNAME:CDT
DTSTART:20270314T080000
END:DAYLIGHT
BEGIN:STANDARD
TZOFFSETFROM:-0500
TZOFFSETTO:-0600
TZNAME:CST
DTSTART:20271107T070000
END:STANDARD
END:VTIMEZONE
BEGIN:VEVENT
DTSTART;TZID=America/Chicago:20260523T060000
DTEND;TZID=America/Chicago:20260523T120000
DTSTAMP:20260422T152553
CREATED:20260330T191350Z
LAST-MODIFIED:20260330T191350Z
UID:233897-1779516000-1779537600@midwestoutdoors.com
SUMMARY:S.M.A.C. Southwest Michigan Anglers Club Open Bass Tournament
DESCRIPTION:May 23 \nS.M.A.C. Southwest Michigan Anglers Club Open Bass Tournament at Paw Paw Lake\,Berrien County\, from 6 a.m. to 12 noon. \nFor info: 269-591-4667\, Big.snacks5581@gmail.com.
URL:https://midwestoutdoors.com/event/s-m-a-c-southwest-michigan-anglers-club-open-bass-tournament/
CATEGORIES:Fishing,Tournaments
END:VEVENT
BEGIN:VEVENT
DTSTART;TZID=America/Chicago:20260523T060000
DTEND;TZID=America/Chicago:20260523T120000
DTSTAMP:20260422T152553
CREATED:20260330T191700Z
LAST-MODIFIED:20260330T191700Z
UID:233907-1779516000-1779537600@midwestoutdoors.com
SUMMARY:Four Flags Bassmasters Open Bass Tournament at Magician Lake
DESCRIPTION:May 23 \nFour Flags Bassmasters Open Bass Tournament at Magician Lake\, Cass County\, from 6 a.m. to 12 noon. \nFor info: 269-340-4757\, lilbyrd40@yahoo.com.
URL:https://midwestoutdoors.com/event/four-flags-bassmasters-open-bass-tournament-at-magician-lake/
CATEGORIES:Fishing,Tournaments
END:VEVENT
BEGIN:VEVENT
DTSTART;TZID=America/Chicago:20260523T060000
DTEND;TZID=America/Chicago:20260523T140000
DTSTAMP:20260422T152553
CREATED:20260330T191537Z
LAST-MODIFIED:20260330T191537Z
UID:233902-1779516000-1779544800@midwestoutdoors.com
SUMMARY:Lansing River Rats 2026 Kickoff Day 1 Bass Tournament
DESCRIPTION:May 23 \nLansing River Rats 2026 Kickoff Day 1 Bass Tournament at Lake Lansing\, Ingham County\, from 6 a.m. to 2 p.m. \nFor info: 989-293-0993\,  keath33@hotmail.com.
URL:https://midwestoutdoors.com/event/lansing-river-rats-2026-kickoff-day-1-bass-tournament/
CATEGORIES:Fishing,Tournaments
END:VEVENT
BEGIN:VEVENT
DTSTART;TZID=America/Chicago:20260523T090000
DTEND;TZID=America/Chicago:20260523T150000
DTSTAMP:20260422T152553
CREATED:20260330T200122Z
LAST-MODIFIED:20260330T200122Z
UID:234001-1779526800-1779548400@midwestoutdoors.com
SUMMARY:Bend of The River Gun Show
DESCRIPTION:May 23 \nBend of The River Gun Show at  Bend of the River Conservation Club\, 900 Mayflower Rd.\, Niles\, MI 49120. \nHours: 9 a.m. to 3 p.m. \nAdmission $5\, children under 15 free. \nFor info: Bend of the River Conservation Club\, (574) 210-5384\,  rgriffin@borcc.org\, www.borcc.org.
URL:https://midwestoutdoors.com/event/bend-of-the-river-gun-show/
CATEGORIES:Gun Shows
END:VEVENT
BEGIN:VEVENT
DTSTART;TZID=America/Chicago:20260523T090000
DTEND;TZID=America/Chicago:20260523T170000
DTSTAMP:20260422T152553
CREATED:20260227T212924Z
LAST-MODIFIED:20260330T204939Z
UID:233135-1779526800-1779555600@midwestoutdoors.com
SUMMARY:Crown Point Gun Show
DESCRIPTION:April 18-19 & May 23-24 & June 27-28 \nCrown Point Gun Show at Lake County Fairgrounds\, 889 S. Court Street\, Crown Point\, IN 46307. \nHours: Saturday 9 a.m. to 5 p.m.\, Sunday 9 a.m. to 3 p.m. \nFor info: Central Indiana Gun Shows\, cigshows@gmail.com\, centralindianagunshows.com.
URL:https://midwestoutdoors.com/event/crown-point-gun-show/2026-05-23/
CATEGORIES:Gun Shows
END:VEVENT
BEGIN:VEVENT
DTSTART;TZID=America/Chicago:20260523T150000
DTEND;TZID=America/Chicago:20260523T200000
DTSTAMP:20260422T152553
CREATED:20260330T203942Z
LAST-MODIFIED:20260330T203942Z
UID:234133-1779548400-1779566400@midwestoutdoors.com
SUMMARY:Chris and Rob’s Iron River Gun Show
DESCRIPTION:May 22-23 \nChris and Rob’s Iron River Gun Show at Iron River Community Center\, 8275 E Mill St.\, Iron River\, WI 54847. \nHours: Friday 3 – 8 p.m.\, Saturday 9 a.m. to 4 p.m. \nAdmission $6\, children 12 and under free. \nFor info: Chris and Rob’s Gun Shows\, Chris Page\, (715) 222-9079.
URL:https://midwestoutdoors.com/event/chris-and-robs-iron-river-gun-show/2026-05-23/
CATEGORIES:Gun Shows
END:VEVENT
END:VCALENDAR