BEGIN:VCALENDAR
VERSION:2.0
PRODID:-//MidWest Outdoors - ECPv6.15.9//NONSGML v1.0//EN
CALSCALE:GREGORIAN
METHOD:PUBLISH
X-WR-CALNAME:MidWest Outdoors
X-ORIGINAL-URL:https://midwestoutdoors.com
X-WR-CALDESC:Events for MidWest Outdoors
REFRESH-INTERVAL;VALUE=DURATION:PT1H
X-Robots-Tag:noindex
X-PUBLISHED-TTL:PT1H
BEGIN:VTIMEZONE
TZID:America/Chicago
BEGIN:DAYLIGHT
TZOFFSETFROM:-0600
TZOFFSETTO:-0500
TZNAME:CDT
DTSTART:20240310T080000
END:DAYLIGHT
BEGIN:STANDARD
TZOFFSETFROM:-0500
TZOFFSETTO:-0600
TZNAME:CST
DTSTART:20241103T070000
END:STANDARD
BEGIN:DAYLIGHT
TZOFFSETFROM:-0600
TZOFFSETTO:-0500
TZNAME:CDT
DTSTART:20250309T080000
END:DAYLIGHT
BEGIN:STANDARD
TZOFFSETFROM:-0500
TZOFFSETTO:-0600
TZNAME:CST
DTSTART:20251102T070000
END:STANDARD
BEGIN:DAYLIGHT
TZOFFSETFROM:-0600
TZOFFSETTO:-0500
TZNAME:CDT
DTSTART:20260308T080000
END:DAYLIGHT
BEGIN:STANDARD
TZOFFSETFROM:-0500
TZOFFSETTO:-0600
TZNAME:CST
DTSTART:20261101T070000
END:STANDARD
END:VTIMEZONE
BEGIN:VEVENT
DTSTART;TZID=America/Chicago:20250405T090000
DTEND;TZID=America/Chicago:20250520T170000
DTSTAMP:20260423T073804
CREATED:20250219T175327Z
LAST-MODIFIED:20250219T175327Z
UID:213866-1743843600-1747760400@midwestoutdoors.com
SUMMARY:Elizabethtown Gun & Knife Show
DESCRIPTION:April 5-6 \nElizabethtown Gun & Knife Show at Pritchard Community Center\, 404 S Mulberry St.\, Elizabethtown\, KY 42701. \nHours: Saturday 9 a.m. to 5 p.m.\, Sunday 10 a.m. to 4 p.m. \nAdmission $10\, veterans $5. \nVendor tables $50 ea. \nFor info: A.G. Gun Shows\, Anthony Giordano\, (423) 664-2715\, aggunshows@yahoo.com\, aggunshows.com.
URL:https://midwestoutdoors.com/event/elizabethtown-gun-knife-show-3/2025-04-05/
CATEGORIES:Gun Shows
END:VEVENT
BEGIN:VEVENT
DTSTART;TZID=America/Chicago:20250509T070000
DTEND;TZID=America/Chicago:20250510T150000
DTSTAMP:20260423T073804
CREATED:20250324T165811Z
LAST-MODIFIED:20250324T165811Z
UID:215612-1746774000-1746889200@midwestoutdoors.com
SUMMARY:KHSAA State Finals Tournament at Lake Cumberland
DESCRIPTION:May 9-10 \nKHSAA State Finals Tournament by the Major League Fishing\, at Lake Cumberland\, Halcomb’s Landing Ramp. \nHours: Friday 7 a.m. to Saturday 3 p.m. \nFor info: Kevin Hunt\, kevin.hunt@majorleaguefishing.com\, 270-252-1593\, majorleaguefishing.com.
URL:https://midwestoutdoors.com/event/khsaa-state-finals-tournament-at-lake-cumberland/
CATEGORIES:Fishing,Tournaments
END:VEVENT
BEGIN:VEVENT
DTSTART;VALUE=DATE:20250510
DTEND;VALUE=DATE:20250511
DTSTAMP:20260423T073804
CREATED:20250324T201258Z
LAST-MODIFIED:20250324T201258Z
UID:215735-1746835200-1746921599@midwestoutdoors.com
SUMMARY:Rock Bottom River Series Catfish Tournament at Miss. River Pool 12
DESCRIPTION:May 10 \nRock Bottom River Series Catfish Tournament at Mississippi River Pool 12 at Schmitt Harbor\, Dubuque\, IA. \nFor info: (563) 880-0003\, nathan.jones7388@outlook.com.
URL:https://midwestoutdoors.com/event/rock-bottom-river-series-catfish-tournament-at-miss-river-pool-12/
CATEGORIES:Fishing,Tournaments
END:VEVENT
BEGIN:VEVENT
DTSTART;TZID=America/Chicago:20250510T060000
DTEND;TZID=America/Chicago:20250510T150000
DTSTAMP:20260423T073804
CREATED:20250324T201134Z
LAST-MODIFIED:20250324T201134Z
UID:215730-1746856800-1746889200@midwestoutdoors.com
SUMMARY:Anglers in Action Tournament at Lake of the Ozarks
DESCRIPTION:May 10 \nAnglers in Action Tournament at Lake of the Ozarks\, PB #2\, from 6 a.m. to 3 p.m. \nFor info: 314-327-4771. 
URL:https://midwestoutdoors.com/event/anglers-in-action-tournament-at-lake-of-the-ozarks-2/
CATEGORIES:Fishing,Tournaments
END:VEVENT
BEGIN:VEVENT
DTSTART;TZID=America/Chicago:20250510T063000
DTEND;TZID=America/Chicago:20250510T143000
DTSTAMP:20260423T073804
CREATED:20250324T185319Z
LAST-MODIFIED:20250324T185319Z
UID:215617-1746858600-1746887400@midwestoutdoors.com
SUMMARY:USA Bassin’ Next Gen\, Somerset Div. Open Tournament at Lake Cumberland
DESCRIPTION:May 10 \nUSA Bassin’ Next Gen\, Somerset Division Open Tournament at Lake Cumberland\, Burnside Island State Park Ramp\, from 6:30 a.m. to 2:30 p.m. \nFor info: Benjamin Fouts\, bfouts97@yahoo.com\, (606) 694-7280\, usabassin.com.
URL:https://midwestoutdoors.com/event/usa-bassin-next-gen-somerset-div-open-tournament-at-lake-cumberland/
CATEGORIES:Fishing,Tournaments
END:VEVENT
BEGIN:VEVENT
DTSTART;TZID=America/Chicago:20250510T070000
DTEND;TZID=America/Chicago:20250510T150000
DTSTAMP:20260423T073804
CREATED:20250324T185536Z
LAST-MODIFIED:20250324T185536Z
UID:215622-1746860400-1746889200@midwestoutdoors.com
SUMMARY:2025 Roan Mountain Youth Trout Tournament at Doe River
DESCRIPTION:May 10 \n2025 Roan Mountain Youth Trout Tournament at Doe River\, 1015 Highway 143;\, Roan Mountain\, TN 37687\, from 7 a.m. to 3 p.m. \nFor youth ages 4-14 with youth competing in 3 age groups: 4-7\, 8-11\, and 12-14. Families interested in their youth participating must register their youth participants online by May 9. \nFor info: Philip Hylen\, Roan Mountain State Park\, tnstateparks.com/parks/info/roan-mountain\, (423) 547-3947\, Philip.Hylen@tn.gov.
URL:https://midwestoutdoors.com/event/2025-roan-mountain-youth-trout-tournament-at-doe-river/
CATEGORIES:Fishing,Tournaments
END:VEVENT
BEGIN:VEVENT
DTSTART;TZID=America/Chicago:20250510T070000
DTEND;TZID=America/Chicago:20250510T150000
DTSTAMP:20260423T073804
CREATED:20250429T162225Z
LAST-MODIFIED:20250429T162225Z
UID:217362-1746860400-1746889200@midwestoutdoors.com
SUMMARY:Roan Mountain Youth Trout Tournament at Doe River
DESCRIPTION:May 10 \n2025 Roan Mountain Youth Trout Tournament at Doe River\, 1015 Hightway 143\, Roan Mountain\, TN 37687. \nHours: 7 a.m. to 3 p.m. \nFor youth ages 4-14 with youth competing in 3 age groups: 4-7\, 8-11\, and 12-14. \nFor info: Philip Hylen Philip.Hylen@tn.gov\, (423) 547-3947. 
URL:https://midwestoutdoors.com/event/roan-mountain-youth-trout-tournament-at-doe-river/
CATEGORIES:Fishing,Tournaments
END:VEVENT
BEGIN:VEVENT
DTSTART;TZID=America/Chicago:20250510T090000
DTEND;TZID=America/Chicago:20250510T150000
DTSTAMP:20260423T073804
CREATED:20250129T194713Z
LAST-MODIFIED:20250129T194713Z
UID:213008-1746867600-1746889200@midwestoutdoors.com
SUMMARY:Intermediate Rifle Course
DESCRIPTION:May 10-11 \nIntermediate Rifle Course \nEVENT DESCRIPTION:\nThis course is designed for individuals with basic rifle handling skills who want to significantly improve their marksmanship by focusing on advanced techniques like multiple shooting positions\, faster reloads\, malfunction drills\, transitioning between targets\, and shooting under pressure\, often incorporating more complex scenarios while maintaining proper safety procedures \nHOURS: 9 a.m. to 3 p.m. \nEVENT COST: $175 (ISRA member); $225 (non-member) \nLOCATION:\nThe ISRA Rifle Range\n1589 N 7000 W Rd\nBonfield\, IL 60913 \nFOR INFO: Illinois State Rifle Association\, 815-635-3198\, member@isra.org\, isra.org/event/intermediate-rifle-range-5-clubhouse-900-300
URL:https://midwestoutdoors.com/event/intermediate-rifle-course/2025-05-10/
LOCATION:ISRA Range\, 1589 N 7000 Rd. W.\, Bonfield\, IL\, 60913\, United States
CATEGORIES:Classes,Shoots/Ranges
END:VEVENT
BEGIN:VEVENT
DTSTART;TZID=America/Chicago:20250510T090000
DTEND;TZID=America/Chicago:20250510T170000
DTSTAMP:20260423T073804
CREATED:20250324T161154Z
LAST-MODIFIED:20250324T161154Z
UID:215526-1746867600-1746896400@midwestoutdoors.com
SUMMARY:Evansville Gun Show
DESCRIPTION:May 10-11 \nEvansville Gun Show at Vanderburgh 4-H Center\, 201 E Boonville-New Harmony Rd.\, Evansville\, IN 47725. \nHours: Saturday 9 a.m. to 5 p.m.\, Sunday 9 a.m. to 3 p.m. \nAdmission $6\, children 12 and under free with paying adult. \nVendor tables $45 ea. \nFor info: Central Indiana Gun Shows\, Dan Hedger\,  (765) 993-8942\, cigshows@gmail.com\, or Brandy Sifford\, (765) 969-2536\, centralindianagunshows.com.
URL:https://midwestoutdoors.com/event/evansville-gun-show-2/2025-05-10/
CATEGORIES:Gun Shows
END:VEVENT
END:VCALENDAR